Workbook

Sheet 목차
A3: 페이지 | B3: 노선번호 | C3: 구 간
A4: 1 | B4: 215 | C4: 전주-이서-애통리-구암
A5: 2 | B5: 221 | C5: 전주-이서-애통리-상리
A6: 3 | B6: 235 | C6: 전주-이서-애통리-원마다리
A7: 4 | B7: 245 | C7: 전주-이서-애통리-모산-용지
A8: 5 | B8: 375 | C8: 전주-삼례시장-쌍정
A9: 6 | B9: 472.486 | C9: 전주-성덕-춘강
A10: 7 | B10: 487 | C10: 전주-백구-용지
A11: 8 | B11: 644.684.685 | C11: 전주-금구-원평
A12: 9 | B12: 79 | C12: 전주-독배-금산사
A13: 10 | B13: 752 | C13: 전주-상관-관촌
A14: 11 | B14: 947 | C14: 전주-광곡-상운암
A15: 12 | B15: 974 | C15: 전주-동적골-구이-운암교-하운암-가는정-장작골

Sheet 기본요금
H1: 요율 | I1: =C5 -> 116.14 | N1: 기본요금 | P1: =C6 -> 1300 | R1: 중고생 | S1: =C7 -> 1050 | V1: 기본요금거리 | X1: =C8 -> 8
B5: 구 간 요 금 | C5: 116.14
B6: 기본요금(일반) | C6: 1300
B7: 기본요금(중고생) | C7: 1050
B8: 기본요금구간 | C8: 8

Sheet 20 원마다리
H1: 요율 | I1: =기본요금!C5 -> 116.14 | N1: 기본요금 | P1: =기본요금!C6 -> 1300 | R1: 중고생 | S1: =기본요금!C7 -> 1050 | V1: 기본요금거리 | X1: =기본요금!C8 -> 8
B2: 전주- 이서-애통리-마다리(원마다리)(노선번호 : 20번)
A3: 승강장명 | B3: 요 금 | F3: 기본요금 및 환승지역 (전주시. 완주군 지역) | R3: 구간요금적용지역 (김제지역) | AB3: =$B$3+AB4 -> #VALUE! | AD3: =$B$3+AD4 -> #VALUE! | AF3: =$B$3+AF4 -> #VALUE! | AH3: =$B$3+AH4 -> #VALUE! | AJ3: =$B$3+AJ4 -> #VALUE! | AL3: =$B$3+AL4 -> #VALUE! | AN3: =$B$3+AN4 -> #VALUE! | AP3: =$B$3+AP4 -> #VALUE!
A4: 전주 상림동 | D4: 추가요금 | F4: 1 | H4: =+F4+H5 -> 2.5 | J4: =+H4+J7 -> 3.5 | L4: =J4+L9 -> 4.6 | N4: =L4+N11 -> 5.9 | P4: =+N4+P13 -> 7.1 | R4: =+P4+R15 -> 7.4 | T4: =+R4+T17 -> 8.6 | V4: =+T4+V19 -> 9.6 | X4: =+V4+X21 -> 10.5 | Z4: =+X4+Z23 -> 11.1 | AB4: =+Z4+AB25 -> 11.1 | AD4: =+AB4+AD27 -> 11.1 | AF4: =+AD4+AF29 -> 11.1 | AH4: =+AF4+AH31 -> 11.1 | AJ4: =+AH4+AJ33 -> 11.1 | AL4: =+AJ4+AL35 -> 11.1 | AN4: =+AL4+AN37 -> 11.1 | AP4: =+AN4+AP39 -> 11.1
A5: 새금동 | C5: =MROUND(ROUNDDOWN(B6*0.8,-1),50) -> 1050 | E5: =C5-$S$1 -> 0 | F5: 새금동 | H5: 1.5 | J5: =H5+J7 -> 2.5 | L5: =J5+L9 -> 3.6 | N5: =L5+N11 -> 4.9 | P5: =N5+P13 -> 6.1 | R5: =P5+R15 -> 6.4 | T5: =R5+T17 -> 7.6 | V5: =T5+V19 -> 8.6 | X5: =V5+X21 -> 9.5 | Z5: =X5+Z23 -> 10.1 | AB5: =Z5+AB25 -> 10.1 | AD5: =AB5+AD27 -> 10.1 | AF5: =AD5+AF29 -> 10.1 | AH5: =AF5+AH31 -> 10.1 | AJ5: =AH5+AJ33 -> 10.1 | AL5: =AJ5+AL35 -> 10.1 | AN5: =AL5+AN37 -> 10.1 | AP5: =AN5+AP39 -> 10.1
B6: 1300 | D6: =B6-$P$1 -> 0
A7: 돌꼭지 후농 | C7: =MROUND(ROUNDDOWN(B8*0.8,-1),50) -> 1050 | E7: =C7-$S$1 -> 0 | G7: =MROUND(ROUNDDOWN(F8*0.8,-1),50) -> 1050 | H7: 돌꼭지 후농 | J7: 1 | L7: =J7+L9 -> 2.1 | N7: =L7+N11 -> 3.4 | P7: =N7+P13 -> 4.6 | R7: =P7+R15 -> 4.9 | T7: =R7+T17 -> 6.1 | V7: =T7+V19 -> 7.1 | X7: =V7+X21 -> 8 | Z7: =X7+Z23 -> 8.6 | AB7: =Z7+AB25 -> 8.6 | AD7: =AB7+AD27 -> 8.6 | AF7: =AD7+AF29 -> 8.6 | AH7: =AF7+AH31 -> 8.6 | AJ7: =AH7+AJ33 -> 8.6 | AL7: =AJ7+AL35 -> 8.6 | AN7: =AL7+AN37 -> 8.6 | AP7: =AN7+AP39 -> 8.6
B8: 1300 | D8: =B8-$P$1 -> 0 | F8: =IF((H5)<=$X$1,$P$1,$P$1+MROUND(ROUNDDOWN((H5-$X$1)*$I$1,-1),50)) -> 1300
A9: 이서 | C9: =MROUND(ROUNDDOWN(B10*0.8,-1),50) -> 1050 | E9: =C9-$S$1 -> 0 | G9: =MROUND(ROUNDDOWN(F10*0.8,-1),50) -> 1050 | I9: =MROUND(ROUNDDOWN(H10*0.8,-1),50) -> 1050 | J9: 이서 | L9: 1.1 | N9: =L9+N11 -> 2.4 | P9: =N9+P13 -> 3.6 | R9: =P9+R15 -> 3.9 | T9: =R9+T17 -> 5.1 | V9: =T9+V19 -> 6.1 | X9: =V9+X21 -> 7 | Z9: =X9+Z23 -> 7.6 | AB9: =Z9+AB25 -> 7.6 | AD9: =AB9+AD27 -> 7.6 | AF9: =AD9+AF29 -> 7.6 | AH9: =AF9+AH31 -> 7.6 | AJ9: =AH9+AJ33 -> 7.6 | AL9: =AJ9+AL35 -> 7.6 | AN9: =AL9+AN37 -> 7.6 | AP9: =AN9+AP39 -> 7.6
B10: 1300 | D10: =B10-$P$1 -> 0 | F10: =IF((J5)<=$X$1,$P$1,$P$1+MROUND(ROUNDDOWN((J5-$X$1)*$I$1,-1),50)) -> 1300 | H10: =IF((J7)<=$X$1,$P$1,$P$1+MROUND(ROUNDDOWN((J7-$X$1)*$I$1,-1),50)) -> 1300
A11: 모고지 은교 | C11: =MROUND(ROUNDDOWN(B12*0.8,-1),50) -> 1050 | E11: =C11-$S$1 -> 0 | G11: =MROUND(ROUNDDOWN(F12*0.8,-1),50) -> 1050 | I11: =MROUND(ROUNDDOWN(H12*0.8,-1),50) -> 1050 | K11: =ROUND(J12*0.8,-1) -> 1040 | L11: 모고지 은교 | N11: 1.3 | P11: =N11+P13 -> 2.5 | R11: =P11+R15 -> 2.8 | T11: =R11+T17 -> 4 | V11: =T11+V19 -> 5 | X11: =V11+X21 -> 5.9 | Z11: =X11+Z23 -> 6.5 | AB11: =Z11+AB25 -> 6.5 | AD11: =AB11+AD27 -> 6.5 | AF11: =AD11+AF29 -> 6.5 | AH11: =AF11+AH31 -> 6.5 | AJ11: =AH11+AJ33 -> 6.5 | AL11: =AJ11+AL35 -> 6.5 | AN11: =AL11+AN37 -> 6.5 | AP11: =AN11+AP39 -> 6.5
B12: 1300 | D12: =B12-$P$1 -> 0 | F12: =IF((L5)<=$X$1,$P$1,$P$1+MROUND(ROUNDDOWN((L5-$X$1)*$I$1,-1),50)) -> 1300 | H12: =IF((L7)<=$X$1,$P$1,$P$1+MROUND(ROUNDDOWN((L7-$X$1)*$I$1,-1),50)) -> 1300 | J12: =IF((L9)<=8,P1,P1+ROUND(INT(((L9-8)*I1)),-1)) -> 1300
A13: 애통리 | C13: =MROUND(ROUNDDOWN(B14*0.8,-1),50) -> 1050 | E13: =C13-$S$1 -> 0 | G13: =MROUND(ROUNDDOWN(F14*0.8,-1),50) -> 1050 | I13: =MROUND(ROUNDDOWN(H14*0.8,-1),50) -> 1050 | K13: =ROUND(J14*0.8,-1) -> 1040 | M13: =ROUND(L14*0.8,-1) -> 1040 | N13: 애통리 | P13: 1.2 | R13: =P13+R15 -> 1.5 | T13: =R13+T17 -> 2.7 | V13: =T13+V19 -> 3.7 | X13: =V13+X21 -> 4.6 | Z13: =X13+Z23 -> 5.2 | AB13: =Z13+AB25 -> 5.2 | AD13: =AB13+AD27 -> 5.2 | AF13: =AD13+AF29 -> 5.2 | AH13: =AF13+AH31 -> 5.2 | AJ13: =AH13+AJ33 -> 5.2 | AL13: =AJ13+AL35 -> 5.2 | AN13: =AL13+AN37 -> 5.2 | AP13: =AN13+AP39 -> 5.2
B14: 1300 | D14: =B14-$P$1 -> 0 | F14: =IF((N5)<=$X$1,$P$1,$P$1+MROUND(ROUNDDOWN((N5-$X$1)*$I$1,-1),50)) -> 1300 | H14: =IF((N7)<=$X$1,$P$1,$P$1+MROUND(ROUNDDOWN((N7-$X$1)*$I$1,-1),50)) -> 1300 | J14: =IF((N9)<=8,P1,P1+ROUND(INT(((N9-8)*I1)),-1)) -> 1300 | L14: =IF((N11)<=8,P1,P1+ROUND(INT(((N11-8)*I1)),-1)) -> 1300
A15: 송삼마을 (산정리입구) | C15: =MROUND(ROUNDDOWN(B16*0.8,-1),50) -> 1050 | E15: =C15-$S$1 -> 0 | G15: =MROUND(ROUNDDOWN(F16*0.8,-1),50) -> 1050 | I15: =MROUND(ROUNDDOWN(H16*0.8,-1),50) -> 1050 | K15: =ROUND(J16*0.8,-1) -> 1040 | M15: =ROUND(L16*0.8,-1) -> 1040 | O15: =ROUND(N16*0.8,-1) -> 1040 | P15: 송삼마을 (산정리입구) | R15: 0.3 | T15: =R15+T17 -> 1.5 | V15: =T15+V19 -> 2.5 | X15: =V15+X21 -> 3.4 | Z15: =X15+Z23 -> 4 | AB15: =Z15+AB25 -> 4 | AD15: =AB15+AD27 -> 4 | AF15: =AD15+AF29 -> 4 | AH15: =AF15+AH31 -> 4 | AJ15: =AH15+AJ33 -> 4 | AL15: =AJ15+AL35 -> 4 | AN15: =AL15+AN37 -> 4 | AP15: =AN15+AP39 -> 4
B16: 1300 | D16: =B16-$P$1 -> 0 | F16: =IF((P5)<=$X$1,$P$1,$P$1+MROUND(ROUNDDOWN((P5-$X$1)*$I$1,-1),50)) -> 1300 | H16: =IF((P7)<=$X$1,$P$1,$P$1+MROUND(ROUNDDOWN((P7-$X$1)*$I$1,-1),50)) -> 1300 | J16: =IF((P9)<=8,P1,P1+ROUND(INT(((P9-8)*I1)),-1)) -> 1300 | L16: =IF((P11)<=8,P1,P1+ROUND(INT(((P11-8)*I1)),-1)) -> 1300 | N16: =IF((P13)<=8,P1,P1+ROUND(INT(((P13-8)*I1)),-1)) -> 1300
A17: 자홍마을 (행화촌) | C17: =MROUND(ROUNDDOWN(B18*0.8,-1),50) -> 1700 | E17: =C17-$S$1 -> 650 | G17: =MROUND(ROUNDDOWN(F18*0.8,-1),50) -> 1050 | I17: =MROUND(ROUNDDOWN(H18*0.8,-1),50) -> 1050 | K17: =ROUND(J18*0.8,-1) -> 1040 | M17: =ROUND(L18*0.8,-1) -> 1040 | O17: =ROUND(N18*0.8,-1) -> 1040 | Q17: =ROUND(P18*0.8,-1) -> 1040 | R17: 자홍마을 (행화촌) | T17: 1.2 | V17: =T17+V19 -> 2.2 | X17: =V17+X21 -> 3.1 | Z17: =X17+Z23 -> 3.7 | AB17: =Z17+AB25 -> 3.7 | AD17: =AB17+AD27 -> 3.7 | AF17: =AD17+AF29 -> 3.7 | AH17: =AF17+AH31 -> 3.7 | AJ17: =AH17+AJ33 -> 3.7 | AL17: =AJ17+AL35 -> 3.7 | AN17: =AL17+AN37 -> 3.7 | AP17: =AN17+AP39 -> 3.7
B18: =$P$1+MROUND(ROUNDDOWN(R4*$I$1,-1),50) -> 2150 | D18: =B18-$P$1 -> 850 | F18: =IF((R5)<=$X$1,$P$1,$P$1+MROUND(ROUNDDOWN((R5-$X$1)*$I$1,-1),50)) -> 1300 | H18: =IF((R7)<=$X$1,$P$1,$P$1+MROUND(ROUNDDOWN((R7-$X$1)*$I$1,-1),50)) -> 1300 | J18: =IF((R9)<=8,P1,P1+ROUND(INT(((R9-8)*I1)),-1)) -> 1300 | L18: =IF((R11)<=8,P1,P1+ROUND(INT(((R11-8)*I1)),-1)) -> 1300 | N18: =IF((R13)<=8,P1,P1+ROUND(INT(((R13-8)*I1)),-1)) -> 1300 | P18: =IF((R15)<=8,P1,P1+ROUND(INT(((R15-8)*I1)),-1)) -> 1300
A19: 신암 | C19: =MROUND(ROUNDDOWN(B20*0.8,-1),50) -> 1850 | E19: =C19-$S$1 -> 800 | G19: =MROUND(ROUNDDOWN(F20*0.8,-1),50) -> 1050 | I19: =MROUND(ROUNDDOWN(H20*0.8,-1),50) -> 1050 | K19: =ROUND(J20*0.8,-1) -> 1040 | M19: =ROUND(L20*0.8,-1) -> 1040 | O19: =ROUND(N20*0.8,-1) -> 1040 | Q19: =ROUND(P20*0.8,-1) -> 1040 | S19: =ROUND(R20*0.8,-1) -> 1040 | T19: 신암 | V19: 1 | X19: =V19+X21 -> 1.9 | Z19: =X19+Z23 -> 2.5 | AB19: =Z19+AB25 -> 2.5 | AD19: =AB19+AD27 -> 2.5 | AF19: =AD19+AF29 -> 2.5 | AH19: =AF19+AH31 -> 2.5 | AJ19: =AH19+AJ33 -> 2.5 | AL19: =AJ19+AL35 -> 2.5 | AN19: =AL19+AN37 -> 2.5 | AP19: =AN19+AP39 -> 2.5
B20: =$P$1+MROUND(ROUNDDOWN(T4*$I$1,-1),50) -> 2300 | D20: =B20-$P$1 -> 1000 | F20: =IF((T5)<=$X$1,$P$1,$P$1+MROUND(ROUNDDOWN((T5-$X$1)*$I$1,-1),50)) -> 1300 | H20: =IF((T7)<=$X$1,$P$1,$P$1+MROUND(ROUNDDOWN((T7-$X$1)*$I$1,-1),50)) -> 1300 | J20: =IF((T9)<=8,P1,P1+ROUND(INT(((T9-8)*I1)),-1)) -> 1300 | L20: =IF((T11)<=8,P1,P1+ROUND(INT(((T11-8)*I1)),-1)) -> 1300 | N20: =IF((T13)<=8,P1,P1+ROUND(INT(((T13-8)*I1)),-1)) -> 1300 | P20: =IF((T15)<=8,P1,P1+ROUND(INT(((T15-8)*I1)),-1)) -> 1300 | R20: =IF((T17)<=8,P1,P1+ROUND(INT(((T17-8)*I1)),-1)) -> 1300
A21: 비룡 신흥 | C21: =MROUND(ROUNDDOWN(B22*0.8,-1),50) -> 1900 | E21: =C21-$S$1 -> 850 | G21: =MROUND(ROUNDDOWN(F22*0.8,-1),50) -> 1100 | I21: =MROUND(ROUNDDOWN(H22*0.8,-1),50) -> 1050 | K21: =ROUND(J22*0.8,-1) -> 1040 | M21: =ROUND(L22*0.8,-1) -> 1040 | O21: =ROUND(N22*0.8,-1) -> 1040 | Q21: =ROUND(P22*0.8,-1) -> 1040 | S21: =ROUND(R22*0.8,-1) -> 1040 | U21: =ROUND(T22*0.8,-1) -> 1040 | V21: 비룡 신흥 | X21: 0.9 | Z21: =X21+Z23 -> 1.5 | AB21: =Z21+AB25 -> 1.5 | AD21: =AB21+AD27 -> 1.5 | AF21: =AD21+AF29 -> 1.5 | AH21: =AF21+AH31 -> 1.5 | AJ21: =AH21+AJ33 -> 1.5 | AL21: =AJ21+AL35 -> 1.5 | AN21: =AL21+AN37 -> 1.5 | AP21: =AN21+AP39 -> 1.5
B22: =$P$1+MROUND(ROUNDDOWN(V4*$I$1,-1),50) -> 2400 | D22: =B22-$P$1 -> 1100 | F22: =IF((V5)<=$X$1,$P$1,$P$1+MROUND(ROUNDDOWN((V5-$X$1)*$I$1,-1),50)) -> 1350 | H22: =IF((V7)<=$X$1,$P$1,$P$1+MROUND(ROUNDDOWN((V7-$X$1)*$I$1,-1),50)) -> 1300 | J22: =IF((V9)<=8,P1,P1+ROUND(INT(((V9-8)*I1)),-1)) -> 1300 | L22: =IF((V11)<=8,P1,P1+ROUND(INT(((V11-8)*I1)),-1)) -> 1300 | N22: =IF((V13)<=8,P1,P1+ROUND(INT(((V13-8)*I1)),-1)) -> 1300 | P22: =IF((V15)<=8,P1,P1+ROUND(INT(((V15-8)*I1)),-1)) -> 1300 | R22: =IF((V17)<=8,P1,P1+ROUND(INT(((V17-8)*I1)),-1)) -> 1300 | T22: =IF((V19)<=8,P1,P1+ROUND(INT(((V19-8)*I1)),-1)) -> 1300
A23: 마다리 | C23: =MROUND(ROUNDDOWN(B24*0.8,-1),50) -> 2000 | E23: =C23-$S$1 -> 950 | G23: =MROUND(ROUNDDOWN(F24*0.8,-1),50) -> 1150 | I23: =MROUND(ROUNDDOWN(H24*0.8,-1),50) -> 1050 | K23: =ROUND(J24*0.8,-1) -> 1040 | M23: =ROUND(L24*0.8,-1) -> 1040 | O23: =ROUND(N24*0.8,-1) -> 1040 | Q23: =ROUND(P24*0.8,-1) -> 1040 | S23: =ROUND(R24*0.8,-1) -> 1040 | U23: =ROUND(T24*0.8,-1) -> 1040 | W23: =ROUND(V24*0.8,-1) -> 1040 | X23: 마다리 | Z23: 0.6 | AB23: =Z23+AB25 -> 0.6 | AD23: =AB23+AD27 -> 0.6 | AF23: =AD23+AF29 -> 0.6 | AH23: =AF23+AH31 -> 0.6 | AJ23: =AH23+AJ33 -> 0.6 | AL23: =AJ23+AL35 -> 0.6 | AN23: =AL23+AN37 -> 0.6 | AP23: =AN23+AP39 -> 0.6
B24: =$P$1+MROUND(ROUNDDOWN(X4*$I$1,-1),50) -> 2500 | D24: =B24-$P$1 -> 1200 | F24: =IF((X5)<=$X$1,$P$1,$P$1+MROUND(ROUNDDOWN((X5-$X$1)*$I$1,-1),50)) -> 1450 | H24: =IF((X7)<=$X$1,$P$1,$P$1+MROUND(ROUNDDOWN((X7-$X$1)*$I$1,-1),50)) -> 1300 | J24: =IF((X9)<=8,P1,P1+ROUND(INT(((X9-8)*I1)),-1)) -> 1300 | L24: =IF((X11)<=8,P1,P1+ROUND(INT(((X11-8)*I1)),-1)) -> 1300 | N24: =IF((X13)<=8,P1,P1+ROUND(INT(((X13-8)*I1)),-1)) -> 1300 | P24: =IF((X15)<=8,P1,P1+ROUND(INT(((X15-8)*I1)),-1)) -> 1300 | R24: =IF((X17)<=8,P1,P1+ROUND(INT(((X17-8)*I1)),-1)) -> 1300 | T24: =IF((X19)<=8,P1,P1+ROUND(INT(((X19-8)*I1)),-1)) -> 1300 | V24: =IF((X21)<=8,P1,P1+ROUND(INT(((X21-8)*I1)),-1)) -> 1300
A25: 원마다리 | C25: =MROUND(ROUNDDOWN(B26*0.8,-1),50) -> 2100 | E25: =C25-$S$1 -> 1050 | G25: =MROUND(ROUNDDOWN(F26*0.8,-1),50) -> 1250 | I25: =MROUND(ROUNDDOWN(H26*0.8,-1),50) -> 1100 | K25: =MROUND(ROUNDDOWN(J26*0.8,-1),50) -> 1050 | M25: =ROUND(L26*0.8,-1) -> 1040 | O25: =ROUND(N26*0.8,-1) -> 1040 | Q25: =ROUND(P26*0.8,-1) -> 1040 | S25: =ROUND(R26*0.8,-1) -> 1040 | U25: =ROUND(T26*0.8,-1) -> 1040 | W25: =ROUND(V26*0.8,-1) -> 1040 | Y25: =ROUND(X26*0.8,-1) -> 1040 | Z25: 원마다리 | AD25: =AB25+AD27 -> 0 | AF25: =AD25+AF29 -> 0 | AH25: =AF25+AH31 -> 0 | AJ25: =AH25+AJ33 -> 0 | AL25: =AJ25+AL35 -> 0 | AN25: =AL25+AN37 -> 0 | AP25: =AN25+AP39 -> 0
B26: =$P$1+MROUND(ROUNDDOWN(Z4*$I$1,-1),50) -> 2600 | D26: =B26-$P$1 -> 1300 | F26: =IF((Z5)<=$X$1,$P$1,$P$1+MROUND(ROUNDDOWN((Z5-$X$1)*$I$1,-1),50)) -> 1550 | H26: =IF((Z7)<=$X$1,$P$1,$P$1+MROUND(ROUNDDOWN((Z7-$X$1)*$I$1,-1),50)) -> 1350 | J26: =IF((Z9)<=$X$1,$P$1,$P$1+MROUND(ROUNDDOWN((Z9-$X$1)*$I$1,-1),50)) -> 1300 | L26: =IF((Z11)<=8,P1,P1+ROUND(INT(((Z11-8)*I1)),-1)) -> 1300 | N26: =IF((Z13)<=8,P1,P1+ROUND(INT(((Z13-8)*I1)),-1)) -> 1300 | P26: =IF((Z15)<=8,P1,P1+ROUND(INT(((Z15-8)*I1)),-1)) -> 1300 | R26: =IF((Z17)<=8,P1,P1+ROUND(INT(((Z17-8)*I1)),-1)) -> 1300 | T26: =IF((Z19)<=8,P1,P1+ROUND(INT(((Z19-8)*I1)),-1)) -> 1300 | V26: =IF((Z21)<=8,P1,P1+ROUND(INT(((Z21-8)*I1)),-1)) -> 1300 | X26: =IF((Z23)<=8,P1,P1+ROUND(INT(((Z23-8)*I1)),-1)) -> 1300
A27: =AB27 -> 0 | C27: =MROUND(ROUNDDOWN(B28*0.8,-1),50) -> 2100 | E27: =C27-$S$1 -> 1050 | G27: =ROUND(F28*0.8,-1) -> 1230 | I27: =MROUND(ROUNDDOWN(H28*0.8,-1),50) -> 1100 | K27: =ROUND(J28*0.8,-1) -> 1040 | M27: =ROUND(L28*0.8,-1) -> 1040 | O27: =ROUND(N28*0.8,-1) -> 1040 | Q27: =ROUND(P28*0.8,-1) -> 1040 | S27: =ROUND(R28*0.8,-1) -> 1040 | U27: =ROUND(T28*0.8,-1) -> 1040 | W27: =ROUND(V28*0.8,-1) -> 1040 | Y27: =ROUND(X28*0.8,-1) -> 1040 | AA27: =ROUND(Z28*0.8,-1) -> 1040 | AF27: =AD27+AF29 -> 0 | AH27: =AF27+AH31 -> 0 | AJ27: =AH27+AJ33 -> 0 | AL27: =AJ27+AL35 -> 0 | AN27: =AL27+AN37 -> 0 | AP27: =AN27+AP39 -> 0
B28: =$P$1+MROUND(ROUNDDOWN(AB4*$I$1,-1),50) -> 2600 | D28: =B28-$P$1 -> 1300 | F28: =IF((AB5)<=8,P1,P1+ROUND(INT(((AB5-8)*I1)),-1)) -> 1540 | H28: =IF((AB7)<=$X$1,$P$1,$P$1+MROUND(ROUNDDOWN((AB7-$X$1)*$I$1,-1),50)) -> 1350 | J28: =IF((AB9)<=8,P1,P1+ROUND(INT(((AB9-8)*I1)),-1)) -> 1300 | L28: =IF((AB11)<=8,P1,P1+ROUND(INT(((AB11-8)*I1)),-1)) -> 1300 | N28: =IF((AB13)<=8,P1,P1+ROUND(INT(((AB13-8)*I1)),-1)) -> 1300 | P28: =IF((AB15)<=8,P1,P1+ROUND(INT(((AB15-8)*I1)),-1)) -> 1300 | R28: =IF((AB17)<=8,P1,P1+ROUND(INT(((AB17-8)*I1)),-1)) -> 1300 | T28: =IF((AB19)<=8,P1,P1+ROUND(INT(((AB19-8)*I1)),-1)) -> 1300 | V28: =IF((AB21)<=8,P1,P1+ROUND(INT(((AB21-8)*I1)),-1)) -> 1300 | X28: =IF((AB23)<=8,P1,P1+ROUND(INT(((AB23-8)*I1)),-1)) -> 1300 | Z28: =IF((AB25)<=8,P1,P1+ROUND(INT(((AB25-8)*I1)),-1)) -> 1300
A29: =AD29 -> 0 | C29: =MROUND(ROUNDDOWN(B30*0.8,-1),50) -> 2100 | E29: =C29-$S$1 -> 1050 | G29: =ROUND(F30*0.8,-1) -> 1230 | I29: =MROUND(ROUNDDOWN(H30*0.8,-1),50) -> 1100 | K29: =ROUND(J30*0.8,-1) -> 1040 | M29: =ROUND(L30*0.8,-1) -> 1040 | O29: =ROUND(N30*0.8,-1) -> 1040 | Q29: =ROUND(P30*0.8,-1) -> 1040 | S29: =ROUND(R30*0.8,-1) -> 1040 | U29: =ROUND(T30*0.8,-1) -> 1040 | W29: =ROUND(V30*0.8,-1) -> 1040 | Y29: =ROUND(X30*0.8,-1) -> 1040 | AA29: =ROUND(Z30*0.8,-1) -> 1040 | AC29: =ROUND(AB30*0.8,-1) -> 1040 | AH29: =AF29+AH31 -> 0 | AJ29: =AH29+AJ33 -> 0 | AL29: =AJ29+AL35 -> 0 | AN29: =AL29+AN37 -> 0 | AP29: =AN29+AP39 -> 0
B30: =$P$1+MROUND(ROUNDDOWN(AD4*$I$1,-1),50) -> 2600 | D30: =B30-$P$1 -> 1300 | F30: =IF((AD5)<=8,P1,P1+ROUND(INT(((AD5-8)*I1)),-1)) -> 1540 | H30: =IF((AD7)<=8,P1,P1+ROUND(INT(((AD7-8)*I1)),-1)) -> 1370 | J30: =IF((AD9)<=8,P1,P1+ROUND(INT(((AD9-8)*I1)),-1)) -> 1300 | L30: =IF((AD11)<=8,P1,P1+ROUND(INT(((AD11-8)*I1)),-1)) -> 1300 | N30: =IF((AD13)<=8,P1,P1+ROUND(INT(((AD13-8)*I1)),-1)) -> 1300 | P30: =IF((AD15)<=8,P1,P1+ROUND(INT(((AD15-8)*I1)),-1)) -> 1300 | R30: =IF((AD17)<=8,P1,P1+ROUND(INT(((AD17-8)*I1)),-1)) -> 1300 | T30: =IF((AD19)<=8,P1,P1+ROUND(INT(((AD19-8)*I1)),-1)) -> 1300 | V30: =IF((AD21)<=8,P1,P1+ROUND(INT(((AD21-8)*I1)),-1)) -> 1300 | X30: =IF((AD23)<=8,P1,P1+ROUND(INT(((AD23-8)*I1)),-1)) -> 1300 | Z30: =IF((AD25)<=8,P1,P1+ROUND(INT(((AD25-8)*I1)),-1)) -> 1300 | AB30: =IF((AD27)<=8,P1,P1+ROUND(INT(((AD27-8)*I1)),-1)) -> 1300
A31: =AF31 -> 0 | C31: =MROUND(ROUNDDOWN(B32*0.8,-1),50) -> 2100 | E31: =C31-$S$1 -> 1050 | G31: =ROUND(F32*0.8,-1) -> 1230 | I31: =ROUND(H32*0.8,-1) -> 1100 | K31: =ROUND(J32*0.8,-1) -> 1040 | M31: =ROUND(L32*0.8,-1) -> 1040 | O31: =ROUND(N32*0.8,-1) -> 1040 | Q31: =ROUND(P32*0.8,-1) -> 1040 | S31: =ROUND(R32*0.8,-1) -> 1040 | U31: =ROUND(T32*0.8,-1) -> 1040 | W31: =ROUND(V32*0.8,-1) -> 1040 | Y31: =ROUND(X32*0.8,-1) -> 1040 | AA31: =ROUND(Z32*0.8,-1) -> 1040 | AC31: =ROUND(AB32*0.8,-1) -> 1040 | AE31: =ROUND(AD32*0.8,-1) -> 1040 | AJ31: =AH31+AJ33 -> 0 | AL31: =AJ31+AL35 -> 0 | AN31: =AL31+AN37 -> 0 | AP31: =AN31+AP39 -> 0
B32: =$P$1+MROUND(ROUNDDOWN(AF4*$I$1,-1),50) -> 2600 | D32: =B32-$P$1 -> 1300 | F32: =IF((AF5)<=8,P1,P1+ROUND(INT(((AF5-8)*I1)),-1)) -> 1540 | H32: =IF((AF7)<=8,P1,P1+ROUND(INT(((AF7-8)*I1)),-1)) -> 1370 | J32: =IF((AF9)<=8,P1,P1+ROUND(INT(((AF9-8)*I1)),-1)) -> 1300 | L32: =IF((AF11)<=8,P1,P1+ROUND(INT(((AF11-8)*I1)),-1)) -> 1300 | N32: =IF((AF13)<=8,P1,P1+ROUND(INT(((AF13-8)*I1)),-1)) -> 1300 | P32: =IF((AF15)<=8,P1,P1+ROUND(INT(((AF15-8)*I1)),-1)) -> 1300 | R32: =IF((AF17)<=8,P1,P1+ROUND(INT(((AF17-8)*I1)),-1)) -> 1300 | T32: =IF((AF19)<=8,P1,P1+ROUND(INT(((AF19-8)*I1)),-1)) -> 1300 | V32: =IF((AF21)<=8,P1,P1+ROUND(INT(((AF21-8)*I1)),-1)) -> 1300 | X32: =IF((AF23)<=8,P1,P1+ROUND(INT(((AF23-8)*I1)),-1)) -> 1300 | Z32: =IF((AF25)<=8,P1,P1+ROUND(INT(((AF25-8)*I1)),-1)) -> 1300 | AB32: =IF((AF27)<=8,P1,P1+ROUND(INT(((AF27-8)*I1)),-1)) -> 1300 | AD32: =IF((AF29)<=8,P1,P1+ROUND(INT(((AF29-8)*I1)),-1)) -> 1300
A33: =AH33 -> 0 | C33: =MROUND(ROUNDDOWN(B34*0.8,-1),50) -> 2100 | E33: =C33-$S$1 -> 1050 | G33: =ROUND(F34*0.8,-1) -> 1230 | I33: =ROUND(H34*0.8,-1) -> 1100 | K33: =ROUND(J34*0.8,-1) -> 1040 | M33: =ROUND(L34*0.8,-1) -> 1040 | O33: =ROUND(N34*0.8,-1) -> 1040 | Q33: =ROUND(P34*0.8,-1) -> 1040 | S33: =ROUND(R34*0.8,-1) -> 1040 | U33: =ROUND(T34*0.8,-1) -> 1040 | W33: =ROUND(V34*0.8,-1) -> 1040 | Y33: =ROUND(X34*0.8,-1) -> 1040 | AA33: =ROUND(Z34*0.8,-1) -> 1040 | AC33: =ROUND(AB34*0.8,-1) -> 1040 | AE33: =ROUND(AD34*0.8,-1) -> 1040 | AG33: =ROUND(AF34*0.8,-1) -> 1040 | AL33: =AJ33+AL35 -> 0 | AN33: =AL33+AN37 -> 0 | AP33: =AN33+AP39 -> 0
B34: =$P$1+MROUND(ROUNDDOWN(AH4*$I$1,-1),50) -> 2600 | D34: =B34-$P$1 -> 1300 | F34: =IF((AH5)<=8,P1,P1+ROUND(INT(((AH5-8)*I1)),-1)) -> 1540 | H34: =IF((AH7)<=8,P1,P1+ROUND(INT(((AH7-8)*I1)),-1)) -> 1370 | J34: =IF((AH9)<=8,P1,P1+ROUND(INT(((AH9-8)*I1)),-1)) -> 1300 | L34: =IF((AH11)<=8,P1,P1+ROUND(INT(((AH11-8)*I1)),-1)) -> 1300 | N34: =IF((AH13)<=8,P1,P1+ROUND(INT(((AH13-8)*I1)),-1)) -> 1300 | P34: =IF((AH15)<=8,P1,P1+ROUND(INT(((AH15-8)*I1)),-1)) -> 1300 | R34: =IF((AH17)<=8,P1,P1+ROUND(INT(((AH17-8)*I1)),-1)) -> 1300 | T34: =IF((AH19)<=8,P1,P1+ROUND(INT(((AH19-8)*I1)),-1)) -> 1300 | V34: =IF((AH21)<=8,P1,P1+ROUND(INT(((AH21-8)*I1)),-1)) -> 1300 | X34: =IF((AH23)<=8,P1,P1+ROUND(INT(((AH23-8)*I1)),-1)) -> 1300 | Z34: =IF((AH25)<=8,P1,P1+ROUND(INT(((AH25-8)*I1)),-1)) -> 1300 | AB34: =IF((AH27)<=8,P1,P1+ROUND(INT(((AH27-8)*I1)),-1)) -> 1300 | AD34: =IF((AH29)<=8,P1,P1+ROUND(INT(((AH29-8)*I1)),-1)) -> 1300 | AF34: =IF((AH31)<=8,P1,P1+ROUND(INT(((AH31-8)*I1)),-1)) -> 1300
A35: =AJ35 -> 0 | C35: =MROUND(ROUNDDOWN(B36*0.8,-1),50) -> 2100 | E35: =C35-$S$1 -> 1050 | G35: =ROUND(F36*0.8,-1) -> 1230 | I35: =ROUND(H36*0.8,-1) -> 1100 | K35: =ROUND(J36*0.8,-1) -> 1040 | M35: =ROUND(L36*0.8,-1) -> 1040 | O35: =ROUND(N36*0.8,-1) -> 1040 | Q35: =ROUND(P36*0.8,-1) -> 1040 | S35: =ROUND(R36*0.8,-1) -> 1040 | U35: =ROUND(T36*0.8,-1) -> 1040 | W35: =ROUND(V36*0.8,-1) -> 1040 | Y35: =ROUND(X36*0.8,-1) -> 1040 | AA35: =ROUND(Z36*0.8,-1) -> 1040 | AC35: =ROUND(AB36*0.8,-1) -> 1040 | AE35: =ROUND(AD36*0.8,-1) -> 1040 | AG35: =ROUND(AF36*0.8,-1) -> 1040 | AI35: =ROUND(AH36*0.8,-1) -> 1040 | AN35: =AL35+AN37 -> 0 | AP35: =AN35+AP39 -> 0
B36: =$P$1+MROUND(ROUNDDOWN(AJ4*$I$1,-1),50) -> 2600 | D36: =B36-$P$1 -> 1300 | F36: =IF((AJ5)<=8,P1,P1+ROUND(INT(((AJ5-8)*I1)),-1)) -> 1540 | H36: =IF((AJ7)<=8,P1,P1+ROUND(INT(((AJ7-8)*I1)),-1)) -> 1370 | J36: =IF((AJ9)<=8,P1,P1+ROUND(INT(((AJ9-8)*I1)),-1)) -> 1300 | L36: =IF((AJ11)<=8,P1,P1+ROUND(INT(((AJ11-8)*I1)),-1)) -> 1300 | N36: =IF((AJ13)<=8,P1,P1+ROUND(INT(((AJ13-8)*I1)),-1)) -> 1300 | P36: =IF((AJ15)<=8,P1,P1+ROUND(INT(((AJ15-8)*I1)),-1)) -> 1300 | R36: =IF((AJ17)<=8,P1,P1+ROUND(INT(((AJ17-8)*I1)),-1)) -> 1300 | T36: =IF((AJ19)<=8,P1,P1+ROUND(INT(((AJ19-8)*I1)),-1)) -> 1300 | V36: =IF((AJ21)<=8,P1,P1+ROUND(INT(((AJ21-8)*I1)),-1)) -> 1300 | X36: =IF((AJ23)<=8,P1,P1+ROUND(INT(((AJ23-8)*I1)),-1)) -> 1300 | Z36: =IF((AJ25)<=8,P1,P1+ROUND(INT(((AJ25-8)*I1)),-1)) -> 1300 | AB36: =IF((AJ27)<=8,P1,P1+ROUND(INT(((AJ27-8)*I1)),-1)) -> 1300 | AD36: =IF((AJ29)<=8,P1,P1+ROUND(INT(((AJ29-8)*I1)),-1)) -> 1300 | AF36: =IF((AJ31)<=8,P1,P1+ROUND(INT(((AJ31-8)*I1)),-1)) -> 1300 | AH36: =IF((AJ33)<=8,P1,P1+ROUND(INT(((AJ33-8)*I1)),-1)) -> 1300
A37: =AL37 -> 0 | C37: =MROUND(ROUNDDOWN(B38*0.8,-1),50) -> 2100 | E37: =C37-$S$1 -> 1050 | G37: =ROUND(F38*0.8,-1) -> 1230 | I37: =ROUND(H38*0.8,-1) -> 1100 | K37: =ROUND(J38*0.8,-1) -> 1040 | M37: =ROUND(L38*0.8,-1) -> 1040 | O37: =ROUND(N38*0.8,-1) -> 1040 | Q37: =ROUND(P38*0.8,-1) -> 1040 | S37: =ROUND(R38*0.8,-1) -> 1040 | U37: =ROUND(T38*0.8,-1) -> 1040 | W37: =ROUND(V38*0.8,-1) -> 1040 | Y37: =ROUND(X38*0.8,-1) -> 1040 | AA37: =ROUND(Z38*0.8,-1) -> 1040 | AC37: =ROUND(AB38*0.8,-1) -> 1040 | AE37: =ROUND(AD38*0.8,-1) -> 1040 | AG37: =ROUND(AF38*0.8,-1) -> 1040 | AI37: =ROUND(AH38*0.8,-1) -> 1040 | AK37: =ROUND(AJ38*0.8,-1) -> 1040 | AP37: =AN37+AP39 -> 0
B38: =$P$1+MROUND(ROUNDDOWN(AL4*$I$1,-1),50) -> 2600 | D38: =B38-$P$1 -> 1300 | F38: =IF((AL5)<=8,P1,P1+ROUND(INT(((AL5-8)*I1)),-1)) -> 1540 | H38: =IF((AL7)<=8,P1,P1+ROUND(INT(((AL7-8)*I1)),-1)) -> 1370 | J38: =IF((AL9)<=8,P1,P1+ROUND(INT(((AL9-8)*I1)),-1)) -> 1300 | L38: =IF((AL11)<=8,P1,P1+ROUND(INT(((AL11-8)*I1)),-1)) -> 1300 | N38: =IF((AL13)<=8,P1,P1+ROUND(INT(((AL13-8)*I1)),-1)) -> 1300 | P38: =IF((AL15)<=8,P1,P1+ROUND(INT(((AL15-8)*I1)),-1)) -> 1300 | R38: =IF((AL17)<=8,P1,P1+ROUND(INT(((AL17-8)*I1)),-1)) -> 1300 | T38: =IF((AL19)<=8,P1,P1+ROUND(INT(((AL19-8)*I1)),-1)) -> 1300 | V38: =IF((AL21)<=8,P1,P1+ROUND(INT(((AL21-8)*I1)),-1)) -> 1300 | X38: =IF((AL23)<=8,P1,P1+ROUND(INT(((AL23-8)*I1)),-1)) -> 1300 | Z38: =IF((AL25)<=8,P1,P1+ROUND(INT(((AL25-8)*I1)),-1)) -> 1300 | AB38: =IF((AL27)<=8,P1,P1+ROUND(INT(((AL27-8)*I1)),-1)) -> 1300 | AD38: =IF((AL29)<=8,P1,P1+ROUND(INT(((AL29-8)*I1)),-1)) -> 1300 | AF38: =IF((AL31)<=8,P1,P1+ROUND(INT(((AL31-8)*I1)),-1)) -> 1300 | AH38: =IF((AL33)<=8,P1,P1+ROUND(INT(((AL33-8)*I1)),-1)) -> 1300 | AJ38: =IF((AL35)<=8,P1,P1+ROUND(INT(((AL35-8)*I1)),-1)) -> 1300
A39: =AN39 -> 0 | C39: =MROUND(ROUNDDOWN(B40*0.8,-1),50) -> 2100 | E39: =C39-$S$1 -> 1050 | G39: =ROUND(F40*0.8,-1) -> 1230 | I39: =ROUND(H40*0.8,-1) -> 1100 | K39: =ROUND(J40*0.8,-1) -> 1040 | M39: =ROUND(L40*0.8,-1) -> 1040 | O39: =ROUND(N40*0.8,-1) -> 1040 | Q39: =ROUND(P40*0.8,-1) -> 1040 | S39: =ROUND(R40*0.8,-1) -> 1040 | U39: =ROUND(T40*0.8,-1) -> 1040 | W39: =ROUND(V40*0.8,-1) -> 1040 | Y39: =ROUND(X40*0.8,-1) -> 1040 | AA39: =ROUND(Z40*0.8,-1) -> 1040 | AC39: =ROUND(AB40*0.8,-1) -> 1040 | AE39: =ROUND(AD40*0.8,-1) -> 1040 | AG39: =ROUND(AF40*0.8,-1) -> 1040 | AI39: =ROUND(AH40*0.8,-1) -> 1040 | AK39: =ROUND(AJ40*0.8,-1) -> 1040 | AM39: =ROUND(AL40*0.8,-1) -> 1040
B40: =$P$1+MROUND(ROUNDDOWN(AN4*$I$1,-1),50) -> 2600 | D40: =B40-$P$1 -> 1300 | F40: =IF((AN5)<=8,P1,P1+ROUND(INT(((AN5-8)*I1)),-1)) -> 1540 | H40: =IF((AN7)<=8,P1,P1+ROUND(INT(((AN7-8)*I1)),-1)) -> 1370 | J40: =IF((AN9)<=8,P1,P1+ROUND(INT(((AN9-8)*I1)),-1)) -> 1300 | L40: =IF((AN11)<=8,P1,P1+ROUND(INT(((AN11-8)*I1)),-1)) -> 1300 | N40: =IF((AN13)<=8,P1,P1+ROUND(INT(((AN13-8)*I1)),-1)) -> 1300 | P40: =IF((AN15)<=8,P1,P1+ROUND(INT(((AN15-8)*I1)),-1)) -> 1300 | R40: =IF((AN17)<=8,P1,P1+ROUND(INT(((AN17-8)*I1)),-1)) -> 1300 | T40: =IF((AN19)<=8,P1,P1+ROUND(INT(((AN19-8)*I1)),-1)) -> 1300 | V40: =IF((AN21)<=8,P1,P1+ROUND(INT(((AN21-8)*I1)),-1)) -> 1300 | X40: =IF((AN23)<=8,P1,P1+ROUND(INT(((AN23-8)*I1)),-1)) -> 1300 | Z40: =IF((AN25)<=8,P1,P1+ROUND(INT(((AN25-8)*I1)),-1)) -> 1300 | AB40: =IF((AN27)<=8,P1,P1+ROUND(INT(((AN27-8)*I1)),-1)) -> 1300 | AD40: =IF((AN29)<=8,P1,P1+ROUND(INT(((AN29-8)*I1)),-1)) -> 1300 | AF40: =IF((AN31)<=8,P1,P1+ROUND(INT(((AN31-8)*I1)),-1)) -> 1300 | AH40: =IF((AN33)<=8,P1,P1+ROUND(INT(((AN33-8)*I1)),-1)) -> 1300 | AJ40: =IF((AN35)<=8,P1,P1+ROUND(INT(((AN35-8)*I1)),-1)) -> 1300 | AL40: =IF((AN37)<=8,P1,P1+ROUND(INT(((AN37-8)*I1)),-1)) -> 1300
A41: =AP41 -> 0 | C41: =MROUND(ROUNDDOWN(B42*0.8,-1),50) -> 2100 | E41: =C41-$S$1 -> 1050 | G41: =ROUND(F42*0.8,-1) -> 1230 | I41: =ROUND(H42*0.8,-1) -> 1100 | K41: =ROUND(J42*0.8,-1) -> 1040 | M41: =ROUND(L42*0.8,-1) -> 1040 | O41: =ROUND(N42*0.8,-1) -> 1040 | Q41: =ROUND(P42*0.8,-1) -> 1040 | S41: =ROUND(R42*0.8,-1) -> 1040 | U41: =ROUND(T42*0.8,-1) -> 1040 | W41: =ROUND(V42*0.8,-1) -> 1040 | Y41: =ROUND(X42*0.8,-1) -> 1040 | AA41: =ROUND(Z42*0.8,-1) -> 1040 | AC41: =ROUND(AB42*0.8,-1) -> 1040 | AE41: =ROUND(AD42*0.8,-1) -> 1040 | AG41: =ROUND(AF42*0.8,-1) -> 1040 | AI41: =ROUND(AH42*0.8,-1) -> 1040 | AK41: =ROUND(AJ42*0.8,-1) -> 1040 | AM41: =ROUND(AL42*0.8,-1) -> 1040 | AO41: =ROUND(AN42*0.8,-1) -> 1040
B42: =$P$1+MROUND(ROUNDDOWN(AP4*$I$1,-1),50) -> 2600 | D42: =B42-$P$1 -> 1300 | F42: =IF((AP5)<=8,P1,P1+ROUND(INT(((AP5-8)*I1)),-1)) -> 1540 | H42: =IF((AP7)<=8,P1,P1+ROUND(INT(((AP7-8)*I1)),-1)) -> 1370 | J42: =IF((AP9)<=8,P1,P1+ROUND(INT(((AP9-8)*I1)),-1)) -> 1300 | L42: =IF((AP11)<=8,P1,P1+ROUND(INT(((AP11-8)*I1)),-1)) -> 1300 | N42: =IF((AP13)<=8,P1,P1+ROUND(INT(((AP13-8)*I1)),-1)) -> 1300 | P42: =IF((AP15)<=8,P1,P1+ROUND(INT(((AP15-8)*I1)),-1)) -> 1300 | R42: =IF((AP17)<=8,P1,P1+ROUND(INT(((AP17-8)*I1)),-1)) -> 1300 | T42: =IF((AP19)<=8,P1,P1+ROUND(INT(((AP19-8)*I1)),-1)) -> 1300 | V42: =IF((AP21)<=8,P1,P1+ROUND(INT(((AP21-8)*I1)),-1)) -> 1300 | X42: =IF((AP23)<=8,P1,P1+ROUND(INT(((AP23-8)*I1)),-1)) -> 1300 | Z42: =IF((AP25)<=8,P1,P1+ROUND(INT(((AP25-8)*I1)),-1)) -> 1300 | AB42: =IF((AP27)<=8,P1,P1+ROUND(INT(((AP27-8)*I1)),-1)) -> 1300 | AD42: =IF((AP29)<=8,P1,P1+ROUND(INT(((AP29-8)*I1)),-1)) -> 1300 | AF42: =IF((AP31)<=8,P1,P1+ROUND(INT(((AP31-8)*I1)),-1)) -> 1300 | AH42: =IF((AP33)<=8,P1,P1+ROUND(INT(((AP33-8)*I1)),-1)) -> 1300 | AJ42: =IF((AP35)<=8,P1,P1+ROUND(INT(((AP35-8)*I1)),-1)) -> 1300 | AL42: =IF((AP37)<=8,P1,P1+ROUND(INT(((AP37-8)*I1)),-1)) -> 1300 | AN42: =IF((AP39)<=8,P1,P1+ROUND(INT(((AP39-8)*I1)),-1)) -> 1300
C43: =MROUND(ROUNDDOWN(B44*0.8,-1),50) -> 1050
B44: =$P$1+MROUND(ROUNDDOWN(AR4*$I$1,-1),50) -> 1300

Sheet 21 용지
H1: 요율 | I1: =기본요금!C5 -> 116.14 | N1: 기본요금 | P1: =기본요금!C6 -> 1300 | R1: 중고생 | S1: =기본요금!C7 -> 1050 | V1: 기본요금거리 | X1: =기본요금!C8 -> 8
B2: 전주- 이서-애통리-모산-(용지)(노선번호 : 21번)
A3: 승강장명 | B3: 요금 | F3: 기본요금 및 환승지역 (전주시. 완주군 지역) | P3: 구간요금적용지역 (김제지역) | AB3: =$B$3+AB4 -> #VALUE! | AD3: =$B$3+AD4 -> #VALUE! | AF3: =$B$3+AF4 -> #VALUE! | AH3: =$B$3+AH4 -> #VALUE! | AJ3: =$B$3+AJ4 -> #VALUE! | AL3: =$B$3+AL4 -> #VALUE! | AN3: =$B$3+AN4 -> #VALUE! | AP3: =$B$3+AP4 -> #VALUE!
A4: 전주 상림동 | D4: 추가요금 | F4: 1 | H4: =+F4+H5 -> 2.5 | J4: =+H4+J7 -> 3.5 | L4: =J4+L9 -> 4.6 | N4: =L4+N11 -> 5.9 | P4: =+N4+P13 -> 7.7 | R4: =+P4+R15 -> 9 | T4: =+R4+T17 -> 10.4 | V4: =+T4+V19 -> 11.4 | X4: =+V4+X21 -> 12.7 | Z4: =+X4+Z23 -> 13.7 | AB4: =+Z4+AB25 -> 13.7 | AD4: =+AB4+AD27 -> 13.7 | AF4: =+AD4+AF29 -> 13.7 | AH4: =+AF4+AH31 -> 13.7 | AJ4: =+AH4+AJ33 -> 13.7 | AL4: =+AJ4+AL35 -> 13.7 | AN4: =+AL4+AN37 -> 13.7 | AP4: =+AN4+AP39 -> 13.7
A5: 새금동 | C5: =MROUND(ROUNDDOWN(B6*0.8,-1),50) -> 1050 | E5: =C5-$S$1 -> 0 | F5: 새금동 | H5: 1.5 | J5: =H5+J7 -> 2.5 | L5: =J5+L9 -> 3.6 | N5: =L5+N11 -> 4.9 | P5: =N5+P13 -> 6.7 | R5: =P5+R15 -> 8 | T5: =R5+T17 -> 9.4 | V5: =T5+V19 -> 10.4 | X5: =V5+X21 -> 11.7 | Z5: =X5+Z23 -> 12.7 | AB5: =Z5+AB25 -> 12.7 | AD5: =AB5+AD27 -> 12.7 | AF5: =AD5+AF29 -> 12.7 | AH5: =AF5+AH31 -> 12.7 | AJ5: =AH5+AJ33 -> 12.7 | AL5: =AJ5+AL35 -> 12.7 | AN5: =AL5+AN37 -> 12.7 | AP5: =AN5+AP39 -> 12.7
B6: 1300 | D6: =B6-$P$1 -> 0
A7: 돌꼭지 후농 | C7: =MROUND(ROUNDDOWN(B8*0.8,-1),50) -> 1050 | E7: =C7-$S$1 -> 0 | G7: =MROUND(ROUNDDOWN(F8*0.8,-1),50) -> 1050 | H7: 돌꼭지 후농 | J7: 1 | L7: =J7+L9 -> 2.1 | N7: =L7+N11 -> 3.4 | P7: =N7+P13 -> 5.2 | R7: =P7+R15 -> 6.5 | T7: =R7+T17 -> 7.9 | V7: =T7+V19 -> 8.9 | X7: =V7+X21 -> 10.2 | Z7: =X7+Z23 -> 11.2 | AB7: =Z7+AB25 -> 11.2 | AD7: =AB7+AD27 -> 11.2 | AF7: =AD7+AF29 -> 11.2 | AH7: =AF7+AH31 -> 11.2 | AJ7: =AH7+AJ33 -> 11.2 | AL7: =AJ7+AL35 -> 11.2 | AN7: =AL7+AN37 -> 11.2 | AP7: =AN7+AP39 -> 11.2
B8: 1300 | D8: =B8-$P$1 -> 0 | F8: =IF((H5)<=$X$1,$P$1,$P$1+MROUND(ROUNDDOWN((H5-$X$1)*$I$1,-1),50)) -> 1300
A9: 이서 | C9: =MROUND(ROUNDDOWN(B10*0.8,-1),50) -> 1050 | E9: =C9-$S$1 -> 0 | G9: =MROUND(ROUNDDOWN(F10*0.8,-1),50) -> 1050 | I9: =MROUND(ROUNDDOWN(H10*0.8,-1),50) -> 1050 | J9: 이서 | L9: 1.1 | N9: =L9+N11 -> 2.4 | P9: =N9+P13 -> 4.2 | R9: =P9+R15 -> 5.5 | T9: =R9+T17 -> 6.9 | V9: =T9+V19 -> 7.9 | X9: =V9+X21 -> 9.2 | Z9: =X9+Z23 -> 10.2 | AB9: =Z9+AB25 -> 10.2 | AD9: =AB9+AD27 -> 10.2 | AF9: =AD9+AF29 -> 10.2 | AH9: =AF9+AH31 -> 10.2 | AJ9: =AH9+AJ33 -> 10.2 | AL9: =AJ9+AL35 -> 10.2 | AN9: =AL9+AN37 -> 10.2 | AP9: =AN9+AP39 -> 10.2
B10: 1300 | D10: =B10-$P$1 -> 0 | F10: =IF((J5)<=$X$1,$P$1,$P$1+MROUND(ROUNDDOWN((J5-$X$1)*$I$1,-1),50)) -> 1300 | H10: =IF((J7)<=$X$1,$P$1,$P$1+MROUND(ROUNDDOWN((J7-$X$1)*$I$1,-1),50)) -> 1300
A11: 모고지 은교 | C11: =MROUND(ROUNDDOWN(B12*0.8,-1),50) -> 1050 | E11: =C11-$S$1 -> 0 | G11: =MROUND(ROUNDDOWN(F12*0.8,-1),50) -> 1050 | I11: =MROUND(ROUNDDOWN(H12*0.8,-1),50) -> 1050 | K11: =MROUND(ROUNDDOWN(J12*0.8,-1),50) -> 1050 | L11: 모고지 은교 | N11: 1.3 | P11: =N11+P13 -> 3.1 | R11: =P11+R15 -> 4.4 | T11: =R11+T17 -> 5.8 | V11: =T11+V19 -> 6.8 | X11: =V11+X21 -> 8.1 | Z11: =X11+Z23 -> 9.1 | AB11: =Z11+AB25 -> 9.1 | AD11: =AB11+AD27 -> 9.1 | AF11: =AD11+AF29 -> 9.1 | AH11: =AF11+AH31 -> 9.1 | AJ11: =AH11+AJ33 -> 9.1 | AL11: =AJ11+AL35 -> 9.1 | AN11: =AL11+AN37 -> 9.1 | AP11: =AN11+AP39 -> 9.1
B12: 1300 | D12: =B12-$P$1 -> 0 | F12: =IF((L5)<=$X$1,$P$1,$P$1+MROUND(ROUNDDOWN((L5-$X$1)*$I$1,-1),50)) -> 1300 | H12: =IF((L7)<=$X$1,$P$1,$P$1+MROUND(ROUNDDOWN((L7-$X$1)*$I$1,-1),50)) -> 1300 | J12: =IF((L9)<=$X$1,$P$1,$P$1+MROUND(ROUNDDOWN((L9-$X$1)*$I$1,-1),50)) -> 1300
A13: 애통리 | C13: =MROUND(ROUNDDOWN(B14*0.8,-1),50) -> 1050 | E13: =C13-$S$1 -> 0 | G13: =MROUND(ROUNDDOWN(F14*0.8,-1),50) -> 1050 | I13: =MROUND(ROUNDDOWN(H14*0.8,-1),50) -> 1050 | K13: =MROUND(ROUNDDOWN(J14*0.8,-1),50) -> 1050 | M13: =MROUND(ROUNDDOWN(L14*0.8,-1),50) -> 1050 | N13: 애통리 | P13: 1.8 | R13: =P13+R15 -> 3.1 | T13: =R13+T17 -> 4.5 | V13: =T13+V19 -> 5.5 | X13: =V13+X21 -> 6.8 | Z13: =X13+Z23 -> 7.8 | AB13: =Z13+AB25 -> 7.8 | AD13: =AB13+AD27 -> 7.8 | AF13: =AD13+AF29 -> 7.8 | AH13: =AF13+AH31 -> 7.8 | AJ13: =AH13+AJ33 -> 7.8 | AL13: =AJ13+AL35 -> 7.8 | AN13: =AL13+AN37 -> 7.8 | AP13: =AN13+AP39 -> 7.8
B14: 1300 | D14: =B14-$P$1 -> 0 | F14: =IF((N5)<=$X$1,$P$1,$P$1+MROUND(ROUNDDOWN((N5-$X$1)*$I$1,-1),50)) -> 1300 | H14: =IF((N7)<=$X$1,$P$1,$P$1+MROUND(ROUNDDOWN((N7-$X$1)*$I$1,-1),50)) -> 1300 | J14: =IF((N9)<=$X$1,$P$1,$P$1+MROUND(ROUNDDOWN((N9-$X$1)*$I$1,-1),50)) -> 1300 | L14: =IF((N11)<=$X$1,$P$1,$P$1+MROUND(ROUNDDOWN((N11-$X$1)*$I$1,-1),50)) -> 1300
A15: 불노리 | C15: =MROUND(ROUNDDOWN(B16*0.8,-1),50) -> 1750 | E15: =C15-$S$1 -> 700 | G15: =MROUND(ROUNDDOWN(F16*0.8,-1),50) -> 1050 | I15: =MROUND(ROUNDDOWN(H16*0.8,-1),50) -> 1050 | K15: =MROUND(ROUNDDOWN(J16*0.8,-1),50) -> 1050 | M15: =MROUND(ROUNDDOWN(L16*0.8,-1),50) -> 1050 | O15: =ROUND(N16*0.8,-1) -> 1040 | P15: 불노리 | R15: 1.3 | T15: =R15+T17 -> 2.7 | V15: =T15+V19 -> 3.7 | X15: =V15+X21 -> 5 | Z15: =X15+Z23 -> 6 | AB15: =Z15+AB25 -> 6 | AD15: =AB15+AD27 -> 6 | AF15: =AD15+AF29 -> 6 | AH15: =AF15+AH31 -> 6 | AJ15: =AH15+AJ33 -> 6 | AL15: =AJ15+AL35 -> 6 | AN15: =AL15+AN37 -> 6 | AP15: =AN15+AP39 -> 6
B16: =$P$1+MROUND(ROUNDDOWN(P4*$I$1,-1),50) -> 2200 | D16: =B16-$P$1 -> 900 | F16: =IF((P5)<=$X$1,$P$1,$P$1+MROUND(ROUNDDOWN((P5-$X$1)*$I$1,-1),50)) -> 1300 | H16: =IF((P7)<=$X$1,$P$1,$P$1+MROUND(ROUNDDOWN((P7-$X$1)*$I$1,-1),50)) -> 1300 | J16: =IF((P9)<=$X$1,$P$1,$P$1+MROUND(ROUNDDOWN((P9-$X$1)*$I$1,-1),50)) -> 1300 | L16: =IF((P11)<=$X$1,$P$1,$P$1+MROUND(ROUNDDOWN((P11-$X$1)*$I$1,-1),50)) -> 1300 | N16: =IF((P13)<=8,P1,P1+ROUND(INT(((P13-8)*I1)),-1)) -> 1300
A17: 훈련장 부교 | C17: =MROUND(ROUNDDOWN(B18*0.8,-1),50) -> 1900 | E17: =C17-$S$1 -> 850 | G17: =MROUND(ROUNDDOWN(F18*0.8,-1),50) -> 1050 | I17: =MROUND(ROUNDDOWN(H18*0.8,-1),50) -> 1050 | K17: =MROUND(ROUNDDOWN(J18*0.8,-1),50) -> 1050 | M17: =MROUND(ROUNDDOWN(L18*0.8,-1),50) -> 1050 | O17: =ROUND(N18*0.8,-1) -> 1040 | Q17: =ROUND(P18*0.8,-1) -> 1040 | R17: 훈련장 부교 | T17: 1.4 | V17: =T17+V19 -> 2.4 | X17: =V17+X21 -> 3.7 | Z17: =X17+Z23 -> 4.7 | AB17: =Z17+AB25 -> 4.7 | AD17: =AB17+AD27 -> 4.7 | AF17: =AD17+AF29 -> 4.7 | AH17: =AF17+AH31 -> 4.7 | AJ17: =AH17+AJ33 -> 4.7 | AL17: =AJ17+AL35 -> 4.7 | AN17: =AL17+AN37 -> 4.7 | AP17: =AN17+AP39 -> 4.7
B18: =$P$1+MROUND(ROUNDDOWN(R4*$I$1,-1),50) -> 2350 | D18: =B18-$P$1 -> 1050 | F18: =IF((R5)<=$X$1,$P$1,$P$1+MROUND(ROUNDDOWN((R5-$X$1)*$I$1,-1),50)) -> 1300 | H18: =IF((R7)<=$X$1,$P$1,$P$1+MROUND(ROUNDDOWN((R7-$X$1)*$I$1,-1),50)) -> 1300 | J18: =IF((R9)<=$X$1,$P$1,$P$1+MROUND(ROUNDDOWN((R9-$X$1)*$I$1,-1),50)) -> 1300 | L18: =IF((R11)<=$X$1,$P$1,$P$1+MROUND(ROUNDDOWN((R11-$X$1)*$I$1,-1),50)) -> 1300 | N18: =IF((R13)<=8,P1,P1+ROUND(INT(((R13-8)*I1)),-1)) -> 1300 | P18: =IF((R15)<=8,P1,P1+ROUND(INT(((R15-8)*I1)),-1)) -> 1300
A19: 모산 | C19: =MROUND(ROUNDDOWN(B20*0.8,-1),50) -> 2000 | E19: =C19-$S$1 -> 950 | G19: =MROUND(ROUNDDOWN(F20*0.8,-1),50) -> 1150 | I19: =MROUND(ROUNDDOWN(H20*0.8,-1),50) -> 1050 | K19: =MROUND(ROUNDDOWN(J20*0.8,-1),50) -> 1050 | M19: =MROUND(ROUNDDOWN(L20*0.8,-1),50) -> 1050 | O19: =ROUND(N20*0.8,-1) -> 1040 | Q19: =ROUND(P20*0.8,-1) -> 1040 | S19: =ROUND(R20*0.8,-1) -> 1040 | T19: 모산 | V19: 1 | X19: =V19+X21 -> 2.3 | Z19: =X19+Z23 -> 3.3 | AB19: =Z19+AB25 -> 3.3 | AD19: =AB19+AD27 -> 3.3 | AF19: =AD19+AF29 -> 3.3 | AH19: =AF19+AH31 -> 3.3 | AJ19: =AH19+AJ33 -> 3.3 | AL19: =AJ19+AL35 -> 3.3 | AN19: =AL19+AN37 -> 3.3 | AP19: =AN19+AP39 -> 3.3
B20: =$P$1+MROUND(ROUNDDOWN(T4*$I$1,-1),50) -> 2500 | D20: =B20-$P$1 -> 1200 | F20: =IF((T5)<=$X$1,$P$1,$P$1+MROUND(ROUNDDOWN((T5-$X$1)*$I$1,-1),50)) -> 1450 | H20: =IF((T7)<=$X$1,$P$1,$P$1+MROUND(ROUNDDOWN((T7-$X$1)*$I$1,-1),50)) -> 1300 | J20: =IF((T9)<=$X$1,$P$1,$P$1+MROUND(ROUNDDOWN((T9-$X$1)*$I$1,-1),50)) -> 1300 | L20: =IF((T11)<=$X$1,$P$1,$P$1+MROUND(ROUNDDOWN((T11-$X$1)*$I$1,-1),50)) -> 1300 | N20: =IF((T13)<=8,P1,P1+ROUND(INT(((T13-8)*I1)),-1)) -> 1300 | P20: =IF((T15)<=8,P1,P1+ROUND(INT(((T15-8)*I1)),-1)) -> 1300 | R20: =IF((T17)<=8,P1,P1+ROUND(INT(((T17-8)*I1)),-1)) -> 1300
A21: 도리실 | C21: =MROUND(ROUNDDOWN(B22*0.8,-1),50) -> 2100 | E21: =C21-$S$1 -> 1050 | G21: =MROUND(ROUNDDOWN(F22*0.8,-1),50) -> 1250 | I21: =MROUND(ROUNDDOWN(H22*0.8,-1),50) -> 1100 | K21: =MROUND(ROUNDDOWN(J22*0.8,-1),50) -> 1050 | M21: =MROUND(ROUNDDOWN(L22*0.8,-1),50) -> 1050 | O21: =ROUND(N22*0.8,-1) -> 1040 | Q21: =ROUND(P22*0.8,-1) -> 1040 | S21: =ROUND(R22*0.8,-1) -> 1040 | U21: =ROUND(T22*0.8,-1) -> 1040 | V21: 도리실 | X21: 1.3 | Z21: =X21+Z23 -> 2.3 | AB21: =Z21+AB25 -> 2.3 | AD21: =AB21+AD27 -> 2.3 | AF21: =AD21+AF29 -> 2.3 | AH21: =AF21+AH31 -> 2.3 | AJ21: =AH21+AJ33 -> 2.3 | AL21: =AJ21+AL35 -> 2.3 | AN21: =AL21+AN37 -> 2.3 | AP21: =AN21+AP39 -> 2.3
B22: =$P$1+MROUND(ROUNDDOWN(V4*$I$1,-1),50) -> 2600 | D22: =B22-$P$1 -> 1300 | F22: =IF((V5)<=$X$1,$P$1,$P$1+MROUND(ROUNDDOWN((V5-$X$1)*$I$1,-1),50)) -> 1550 | H22: =IF((V7)<=$X$1,$P$1,$P$1+MROUND(ROUNDDOWN((V7-$X$1)*$I$1,-1),50)) -> 1400 | J22: =IF((V9)<=$X$1,$P$1,$P$1+MROUND(ROUNDDOWN((V9-$X$1)*$I$1,-1),50)) -> 1300 | L22: =IF((V11)<=$X$1,$P$1,$P$1+MROUND(ROUNDDOWN((V11-$X$1)*$I$1,-1),50)) -> 1300 | N22: =IF((V13)<=8,P1,P1+ROUND(INT(((V13-8)*I1)),-1)) -> 1300 | P22: =IF((V15)<=8,P1,P1+ROUND(INT(((V15-8)*I1)),-1)) -> 1300 | R22: =IF((V17)<=8,P1,P1+ROUND(INT(((V17-8)*I1)),-1)) -> 1300 | T22: =IF((V19)<=8,P1,P1+ROUND(INT(((V19-8)*I1)),-1)) -> 1300
A23: 예촌 마교 | C23: =MROUND(ROUNDDOWN(B24*0.8,-1),50) -> 2200 | E23: =C23-$S$1 -> 1150 | G23: =MROUND(ROUNDDOWN(F24*0.8,-1),50) -> 1350 | I23: =MROUND(ROUNDDOWN(H24*0.8,-1),50) -> 1250 | K23: =MROUND(ROUNDDOWN(J24*0.8,-1),50) -> 1150 | M23: =MROUND(ROUNDDOWN(L24*0.8,-1),50) -> 1050 | O23: =ROUND(N24*0.8,-1) -> 1040 | Q23: =ROUND(P24*0.8,-1) -> 1040 | S23: =ROUND(R24*0.8,-1) -> 1040 | U23: =ROUND(T24*0.8,-1) -> 1040 | W23: =ROUND(V24*0.8,-1) -> 1040 | X23: 예촌 마교 | Z23: 1 | AB23: =Z23+AB25 -> 1 | AD23: =AB23+AD27 -> 1 | AF23: =AD23+AF29 -> 1 | AH23: =AF23+AH31 -> 1 | AJ23: =AH23+AJ33 -> 1 | AL23: =AJ23+AL35 -> 1 | AN23: =AL23+AN37 -> 1 | AP23: =AN23+AP39 -> 1
B24: =$P$1+MROUND(ROUNDDOWN(X4*$I$1,-1),50) -> 2750 | D24: =B24-$P$1 -> 1450 | F24: =IF((X5)<=$X$1,$P$1,$P$1+MROUND(ROUNDDOWN((X5-$X$1)*$I$1,-1),50)) -> 1700 | H24: =IF((X7)<=$X$1,$P$1,$P$1+MROUND(ROUNDDOWN((X7-$X$1)*$I$1,-1),50)) -> 1550 | J24: =IF((X9)<=$X$1,$P$1,$P$1+MROUND(ROUNDDOWN((X9-$X$1)*$I$1,-1),50)) -> 1450 | L24: =IF((X11)<=$X$1,$P$1,$P$1+MROUND(ROUNDDOWN((X11-$X$1)*$I$1,-1),50)) -> 1300 | N24: =IF((X13)<=8,P1,P1+ROUND(INT(((X13-8)*I1)),-1)) -> 1300 | P24: =IF((X15)<=8,P1,P1+ROUND(INT(((X15-8)*I1)),-1)) -> 1300 | R24: =IF((X17)<=8,P1,P1+ROUND(INT(((X17-8)*I1)),-1)) -> 1300 | T24: =IF((X19)<=8,P1,P1+ROUND(INT(((X19-8)*I1)),-1)) -> 1300 | V24: =IF((X21)<=8,P1,P1+ROUND(INT(((X21-8)*I1)),-1)) -> 1300
A25: 용지 | C25: =MROUND(ROUNDDOWN(B26*0.8,-1),50) -> 2300 | E25: =C25-$S$1 -> 1250 | G25: =MROUND(ROUNDDOWN(F26*0.8,-1),50) -> 1500 | I25: =MROUND(ROUNDDOWN(H26*0.8,-1),50) -> 1300 | K25: =MROUND(ROUNDDOWN(J26*0.8,-1),50) -> 1250 | M25: =MROUND(ROUNDDOWN(L26*0.8,-1),50) -> 1100 | O25: =MROUND(ROUNDDOWN(N26*0.8,-1),50) -> 1050 | Q25: =ROUND(P26*0.8,-1) -> 1040 | S25: =ROUND(R26*0.8,-1) -> 1040 | U25: =ROUND(T26*0.8,-1) -> 1040 | W25: =ROUND(V26*0.8,-1) -> 1040 | Y25: =ROUND(X26*0.8,-1) -> 1040 | Z25: 용지 | AD25: =AB25+AD27 -> 0 | AF25: =AD25+AF29 -> 0 | AH25: =AF25+AH31 -> 0 | AJ25: =AH25+AJ33 -> 0 | AL25: =AJ25+AL35 -> 0 | AN25: =AL25+AN37 -> 0 | AP25: =AN25+AP39 -> 0
B26: =$P$1+MROUND(ROUNDDOWN(Z4*$I$1,-1),50) -> 2900 | D26: =B26-$P$1 -> 1600 | F26: =IF((Z5)<=$X$1,$P$1,$P$1+MROUND(ROUNDDOWN((Z5-$X$1)*$I$1,-1),50)) -> 1850 | H26: =IF((Z7)<=$X$1,$P$1,$P$1+MROUND(ROUNDDOWN((Z7-$X$1)*$I$1,-1),50)) -> 1650 | J26: =IF((Z9)<=$X$1,$P$1,$P$1+MROUND(ROUNDDOWN((Z9-$X$1)*$I$1,-1),50)) -> 1550 | L26: =IF((Z11)<=$X$1,$P$1,$P$1+MROUND(ROUNDDOWN((Z11-$X$1)*$I$1,-1),50)) -> 1400 | N26: =IF((Z13)<=$X$1,$P$1,$P$1+MROUND(ROUNDDOWN((Z13-$X$1)*$I$1,-1),50)) -> 1300 | P26: =IF((Z15)<=8,P1,P1+ROUND(INT(((Z15-8)*I1)),-1)) -> 1300 | R26: =IF((Z17)<=8,P1,P1+ROUND(INT(((Z17-8)*I1)),-1)) -> 1300 | T26: =IF((Z19)<=8,P1,P1+ROUND(INT(((Z19-8)*I1)),-1)) -> 1300 | V26: =IF((Z21)<=8,P1,P1+ROUND(INT(((Z21-8)*I1)),-1)) -> 1300 | X26: =IF((Z23)<=8,P1,P1+ROUND(INT(((Z23-8)*I1)),-1)) -> 1300
A27: =AB27 -> 0 | C27: =MROUND(ROUNDDOWN(B28*0.8,-1),50) -> 2300 | E27: =C27-$S$1 -> 1250 | G27: =MROUND(ROUNDDOWN(F28*0.8,-1),50) -> 1500 | I27: =MROUND(ROUNDDOWN(H28*0.8,-1),50) -> 1300 | K27: =MROUND(ROUNDDOWN(J28*0.8,-1),50) -> 1250 | M27: =MROUND(ROUNDDOWN(L28*0.8,-1),50) -> 1100 | O27: =ROUND(N28*0.8,-1) -> 1040 | Q27: =ROUND(P28*0.8,-1) -> 1040 | S27: =ROUND(R28*0.8,-1) -> 1040 | U27: =ROUND(T28*0.8,-1) -> 1040 | W27: =ROUND(V28*0.8,-1) -> 1040 | Y27: =ROUND(X28*0.8,-1) -> 1040 | AA27: =ROUND(Z28*0.8,-1) -> 1040 | AF27: =AD27+AF29 -> 0 | AH27: =AF27+AH31 -> 0 | AJ27: =AH27+AJ33 -> 0 | AL27: =AJ27+AL35 -> 0 | AN27: =AL27+AN37 -> 0 | AP27: =AN27+AP39 -> 0
B28: =$P$1+MROUND(ROUNDDOWN(AB4*$I$1,-1),50) -> 2900 | D28: =B28-$P$1 -> 1600 | F28: =IF((AB5)<=$X$1,$P$1,$P$1+MROUND(ROUNDDOWN((AB5-$X$1)*$I$1,-1),50)) -> 1850 | H28: =IF((AB7)<=$X$1,$P$1,$P$1+MROUND(ROUNDDOWN((AB7-$X$1)*$I$1,-1),50)) -> 1650 | J28: =IF((AB9)<=$X$1,$P$1,$P$1+MROUND(ROUNDDOWN((AB9-$X$1)*$I$1,-1),50)) -> 1550 | L28: =IF((AB11)<=$X$1,$P$1,$P$1+MROUND(ROUNDDOWN((AB11-$X$1)*$I$1,-1),50)) -> 1400 | N28: =IF((AB13)<=8,P1,P1+ROUND(INT(((AB13-8)*I1)),-1)) -> 1300 | P28: =IF((AB15)<=8,P1,P1+ROUND(INT(((AB15-8)*I1)),-1)) -> 1300 | R28: =IF((AB17)<=8,P1,P1+ROUND(INT(((AB17-8)*I1)),-1)) -> 1300 | T28: =IF((AB19)<=8,P1,P1+ROUND(INT(((AB19-8)*I1)),-1)) -> 1300 | V28: =IF((AB21)<=8,P1,P1+ROUND(INT(((AB21-8)*I1)),-1)) -> 1300 | X28: =IF((AB23)<=8,P1,P1+ROUND(INT(((AB23-8)*I1)),-1)) -> 1300 | Z28: =IF((AB25)<=8,P1,P1+ROUND(INT(((AB25-8)*I1)),-1)) -> 1300
A29: =AD29 -> 0 | C29: =MROUND(ROUNDDOWN(B30*0.8,-1),50) -> 2300 | E29: =C29-$S$1 -> 1250 | G29: =MROUND(ROUNDDOWN(F30*0.8,-1),50) -> 1500 | I29: =MROUND(ROUNDDOWN(H30*0.8,-1),50) -> 1300 | K29: =MROUND(ROUNDDOWN(J30*0.8,-1),50) -> 1250 | M29: =MROUND(ROUNDDOWN(L30*0.8,-1),50) -> 1100 | O29: =ROUND(N30*0.8,-1) -> 1040 | Q29: =ROUND(P30*0.8,-1) -> 1040 | S29: =ROUND(R30*0.8,-1) -> 1040 | U29: =ROUND(T30*0.8,-1) -> 1040 | W29: =ROUND(V30*0.8,-1) -> 1040 | Y29: =ROUND(X30*0.8,-1) -> 1040 | AA29: =ROUND(Z30*0.8,-1) -> 1040 | AC29: =ROUND(AB30*0.8,-1) -> 1040 | AH29: =AF29+AH31 -> 0 | AJ29: =AH29+AJ33 -> 0 | AL29: =AJ29+AL35 -> 0 | AN29: =AL29+AN37 -> 0 | AP29: =AN29+AP39 -> 0
B30: =$P$1+MROUND(ROUNDDOWN(AD4*$I$1,-1),50) -> 2900 | D30: =B30-$P$1 -> 1600 | F30: =IF((AD5)<=$X$1,$P$1,$P$1+MROUND(ROUNDDOWN((AD5-$X$1)*$I$1,-1),50)) -> 1850 | H30: =IF((AD7)<=$X$1,$P$1,$P$1+MROUND(ROUNDDOWN((AD7-$X$1)*$I$1,-1),50)) -> 1650 | J30: =IF((AD9)<=$X$1,$P$1,$P$1+MROUND(ROUNDDOWN((AD9-$X$1)*$I$1,-1),50)) -> 1550 | L30: =IF((AD11)<=$X$1,$P$1,$P$1+MROUND(ROUNDDOWN((AD11-$X$1)*$I$1,-1),50)) -> 1400 | N30: =IF((AD13)<=8,P1,P1+ROUND(INT(((AD13-8)*I1)),-1)) -> 1300 | P30: =IF((AD15)<=8,P1,P1+ROUND(INT(((AD15-8)*I1)),-1)) -> 1300 | R30: =IF((AD17)<=8,P1,P1+ROUND(INT(((AD17-8)*I1)),-1)) -> 1300 | T30: =IF((AD19)<=8,P1,P1+ROUND(INT(((AD19-8)*I1)),-1)) -> 1300 | V30: =IF((AD21)<=8,P1,P1+ROUND(INT(((AD21-8)*I1)),-1)) -> 1300 | X30: =IF((AD23)<=8,P1,P1+ROUND(INT(((AD23-8)*I1)),-1)) -> 1300 | Z30: =IF((AD25)<=8,P1,P1+ROUND(INT(((AD25-8)*I1)),-1)) -> 1300 | AB30: =IF((AD27)<=8,P1,P1+ROUND(INT(((AD27-8)*I1)),-1)) -> 1300
A31: =AF31 -> 0 | C31: =MROUND(ROUNDDOWN(B32*0.8,-1),50) -> 2300 | E31: =C31-$S$1 -> 1250 | G31: =MROUND(ROUNDDOWN(F32*0.8,-1),50) -> 1500 | I31: =MROUND(ROUNDDOWN(H32*0.8,-1),50) -> 1300 | K31: =MROUND(ROUNDDOWN(J32*0.8,-1),50) -> 1250 | M31: =MROUND(ROUNDDOWN(L32*0.8,-1),50) -> 1100 | O31: =ROUND(N32*0.8,-1) -> 1040 | Q31: =ROUND(P32*0.8,-1) -> 1040 | S31: =ROUND(R32*0.8,-1) -> 1040 | U31: =ROUND(T32*0.8,-1) -> 1040 | W31: =ROUND(V32*0.8,-1) -> 1040 | Y31: =ROUND(X32*0.8,-1) -> 1040 | AA31: =ROUND(Z32*0.8,-1) -> 1040 | AC31: =ROUND(AB32*0.8,-1) -> 1040 | AE31: =ROUND(AD32*0.8,-1) -> 1040 | AJ31: =AH31+AJ33 -> 0 | AL31: =AJ31+AL35 -> 0 | AN31: =AL31+AN37 -> 0 | AP31: =AN31+AP39 -> 0
B32: =$P$1+MROUND(ROUNDDOWN(AF4*$I$1,-1),50) -> 2900 | D32: =B32-$P$1 -> 1600 | F32: =IF((AF5)<=$X$1,$P$1,$P$1+MROUND(ROUNDDOWN((AF5-$X$1)*$I$1,-1),50)) -> 1850 | H32: =IF((AF7)<=$X$1,$P$1,$P$1+MROUND(ROUNDDOWN((AF7-$X$1)*$I$1,-1),50)) -> 1650 | J32: =IF((AF9)<=$X$1,$P$1,$P$1+MROUND(ROUNDDOWN((AF9-$X$1)*$I$1,-1),50)) -> 1550 | L32: =IF((AF11)<=$X$1,$P$1,$P$1+MROUND(ROUNDDOWN((AF11-$X$1)*$I$1,-1),50)) -> 1400 | N32: =IF((AF13)<=8,P1,P1+ROUND(INT(((AF13-8)*I1)),-1)) -> 1300 | P32: =IF((AF15)<=8,P1,P1+ROUND(INT(((AF15-8)*I1)),-1)) -> 1300 | R32: =IF((AF17)<=8,P1,P1+ROUND(INT(((AF17-8)*I1)),-1)) -> 1300 | T32: =IF((AF19)<=8,P1,P1+ROUND(INT(((AF19-8)*I1)),-1)) -> 1300 | V32: =IF((AF21)<=8,P1,P1+ROUND(INT(((AF21-8)*I1)),-1)) -> 1300 | X32: =IF((AF23)<=8,P1,P1+ROUND(INT(((AF23-8)*I1)),-1)) -> 1300 | Z32: =IF((AF25)<=8,P1,P1+ROUND(INT(((AF25-8)*I1)),-1)) -> 1300 | AB32: =IF((AF27)<=8,P1,P1+ROUND(INT(((AF27-8)*I1)),-1)) -> 1300 | AD32: =IF((AF29)<=8,P1,P1+ROUND(INT(((AF29-8)*I1)),-1)) -> 1300
A33: =AH33 -> 0 | C33: =MROUND(ROUNDDOWN(B34*0.8,-1),50) -> 2300 | E33: =C33-$S$1 -> 1250 | G33: =MROUND(ROUNDDOWN(F34*0.8,-1),50) -> 1500 | I33: =MROUND(ROUNDDOWN(H34*0.8,-1),50) -> 1300 | K33: =MROUND(ROUNDDOWN(J34*0.8,-1),50) -> 1250 | M33: =MROUND(ROUNDDOWN(L34*0.8,-1),50) -> 1100 | O33: =ROUND(N34*0.8,-1) -> 1040 | Q33: =ROUND(P34*0.8,-1) -> 1040 | S33: =ROUND(R34*0.8,-1) -> 1040 | U33: =ROUND(T34*0.8,-1) -> 1040 | W33: =ROUND(V34*0.8,-1) -> 1040 | Y33: =ROUND(X34*0.8,-1) -> 1040 | AA33: =ROUND(Z34*0.8,-1) -> 1040 | AC33: =ROUND(AB34*0.8,-1) -> 1040 | AE33: =ROUND(AD34*0.8,-1) -> 1040 | AG33: =ROUND(AF34*0.8,-1) -> 1040 | AL33: =AJ33+AL35 -> 0 | AN33: =AL33+AN37 -> 0 | AP33: =AN33+AP39 -> 0
B34: =$P$1+MROUND(ROUNDDOWN(AH4*$I$1,-1),50) -> 2900 | D34: =B34-$P$1 -> 1600 | F34: =IF((AH5)<=$X$1,$P$1,$P$1+MROUND(ROUNDDOWN((AH5-$X$1)*$I$1,-1),50)) -> 1850 | H34: =IF((AH7)<=$X$1,$P$1,$P$1+MROUND(ROUNDDOWN((AH7-$X$1)*$I$1,-1),50)) -> 1650 | J34: =IF((AH9)<=$X$1,$P$1,$P$1+MROUND(ROUNDDOWN((AH9-$X$1)*$I$1,-1),50)) -> 1550 | L34: =IF((AH11)<=$X$1,$P$1,$P$1+MROUND(ROUNDDOWN((AH11-$X$1)*$I$1,-1),50)) -> 1400 | N34: =IF((AH13)<=8,P1,P1+ROUND(INT(((AH13-8)*I1)),-1)) -> 1300 | P34: =IF((AH15)<=8,P1,P1+ROUND(INT(((AH15-8)*I1)),-1)) -> 1300 | R34: =IF((AH17)<=8,P1,P1+ROUND(INT(((AH17-8)*I1)),-1)) -> 1300 | T34: =IF((AH19)<=8,P1,P1+ROUND(INT(((AH19-8)*I1)),-1)) -> 1300 | V34: =IF((AH21)<=8,P1,P1+ROUND(INT(((AH21-8)*I1)),-1)) -> 1300 | X34: =IF((AH23)<=8,P1,P1+ROUND(INT(((AH23-8)*I1)),-1)) -> 1300 | Z34: =IF((AH25)<=8,P1,P1+ROUND(INT(((AH25-8)*I1)),-1)) -> 1300 | AB34: =IF((AH27)<=8,P1,P1+ROUND(INT(((AH27-8)*I1)),-1)) -> 1300 | AD34: =IF((AH29)<=8,P1,P1+ROUND(INT(((AH29-8)*I1)),-1)) -> 1300 | AF34: =IF((AH31)<=8,P1,P1+ROUND(INT(((AH31-8)*I1)),-1)) -> 1300
A35: =AJ35 -> 0 | C35: =MROUND(ROUNDDOWN(B36*0.8,-1),50) -> 2300 | E35: =C35-$S$1 -> 1250 | G35: =ROUND(F36*0.8,-1) -> 1480 | I35: =MROUND(ROUNDDOWN(H36*0.8,-1),50) -> 1300 | K35: =MROUND(ROUNDDOWN(J36*0.8,-1),50) -> 1250 | M35: =MROUND(ROUNDDOWN(L36*0.8,-1),50) -> 1100 | O35: =ROUND(N36*0.8,-1) -> 1040 | Q35: =ROUND(P36*0.8,-1) -> 1040 | S35: =ROUND(R36*0.8,-1) -> 1040 | U35: =ROUND(T36*0.8,-1) -> 1040 | W35: =ROUND(V36*0.8,-1) -> 1040 | Y35: =ROUND(X36*0.8,-1) -> 1040 | AA35: =ROUND(Z36*0.8,-1) -> 1040 | AC35: =ROUND(AB36*0.8,-1) -> 1040 | AE35: =ROUND(AD36*0.8,-1) -> 1040 | AG35: =ROUND(AF36*0.8,-1) -> 1040 | AI35: =ROUND(AH36*0.8,-1) -> 1040 | AN35: =AL35+AN37 -> 0 | AP35: =AN35+AP39 -> 0
B36: =$P$1+MROUND(ROUNDDOWN(AJ4*$I$1,-1),50) -> 2900 | D36: =B36-$P$1 -> 1600 | F36: =IF((AJ5)<=8,P1,P1+ROUND(INT(((AJ5-8)*I1)),-1)) -> 1850 | H36: =IF((AJ7)<=$X$1,$P$1,$P$1+MROUND(ROUNDDOWN((AJ7-$X$1)*$I$1,-1),50)) -> 1650 | J36: =IF((AJ9)<=$X$1,$P$1,$P$1+MROUND(ROUNDDOWN((AJ9-$X$1)*$I$1,-1),50)) -> 1550 | L36: =IF((AJ11)<=$X$1,$P$1,$P$1+MROUND(ROUNDDOWN((AJ11-$X$1)*$I$1,-1),50)) -> 1400 | N36: =IF((AJ13)<=8,P1,P1+ROUND(INT(((AJ13-8)*I1)),-1)) -> 1300 | P36: =IF((AJ15)<=8,P1,P1+ROUND(INT(((AJ15-8)*I1)),-1)) -> 1300 | R36: =IF((AJ17)<=8,P1,P1+ROUND(INT(((AJ17-8)*I1)),-1)) -> 1300 | T36: =IF((AJ19)<=8,P1,P1+ROUND(INT(((AJ19-8)*I1)),-1)) -> 1300 | V36: =IF((AJ21)<=8,P1,P1+ROUND(INT(((AJ21-8)*I1)),-1)) -> 1300 | X36: =IF((AJ23)<=8,P1,P1+ROUND(INT(((AJ23-8)*I1)),-1)) -> 1300 | Z36: =IF((AJ25)<=8,P1,P1+ROUND(INT(((AJ25-8)*I1)),-1)) -> 1300 | AB36: =IF((AJ27)<=8,P1,P1+ROUND(INT(((AJ27-8)*I1)),-1)) -> 1300 | AD36: =IF((AJ29)<=8,P1,P1+ROUND(INT(((AJ29-8)*I1)),-1)) -> 1300 | AF36: =IF((AJ31)<=8,P1,P1+ROUND(INT(((AJ31-8)*I1)),-1)) -> 1300 | AH36: =IF((AJ33)<=8,P1,P1+ROUND(INT(((AJ33-8)*I1)),-1)) -> 1300
A37: =AL37 -> 0 | C37: =MROUND(ROUNDDOWN(B38*0.8,-1),50) -> 2300 | E37: =C37-$S$1 -> 1250 | G37: =ROUND(F38*0.8,-1) -> 1480 | I37: =ROUND(H38*0.8,-1) -> 1340 | K37: =MROUND(ROUNDDOWN(J38*0.8,-1),50) -> 1250 | M37: =MROUND(ROUNDDOWN(L38*0.8,-1),50) -> 1100 | O37: =ROUND(N38*0.8,-1) -> 1040 | Q37: =ROUND(P38*0.8,-1) -> 1040 | S37: =ROUND(R38*0.8,-1) -> 1040 | U37: =ROUND(T38*0.8,-1) -> 1040 | W37: =ROUND(V38*0.8,-1) -> 1040 | Y37: =ROUND(X38*0.8,-1) -> 1040 | AA37: =ROUND(Z38*0.8,-1) -> 1040 | AC37: =ROUND(AB38*0.8,-1) -> 1040 | AE37: =ROUND(AD38*0.8,-1) -> 1040 | AG37: =ROUND(AF38*0.8,-1) -> 1040 | AI37: =ROUND(AH38*0.8,-1) -> 1040 | AK37: =ROUND(AJ38*0.8,-1) -> 1040 | AP37: =AN37+AP39 -> 0
B38: =$P$1+MROUND(ROUNDDOWN(AL4*$I$1,-1),50) -> 2900 | D38: =B38-$P$1 -> 1600 | F38: =IF((AL5)<=8,P1,P1+ROUND(INT(((AL5-8)*I1)),-1)) -> 1850 | H38: =IF((AL7)<=8,P1,P1+ROUND(INT(((AL7-8)*I1)),-1)) -> 1670 | J38: =IF((AL9)<=$X$1,$P$1,$P$1+MROUND(ROUNDDOWN((AL9-$X$1)*$I$1,-1),50)) -> 1550 | L38: =IF((AL11)<=$X$1,$P$1,$P$1+MROUND(ROUNDDOWN((AL11-$X$1)*$I$1,-1),50)) -> 1400 | N38: =IF((AL13)<=8,P1,P1+ROUND(INT(((AL13-8)*I1)),-1)) -> 1300 | P38: =IF((AL15)<=8,P1,P1+ROUND(INT(((AL15-8)*I1)),-1)) -> 1300 | R38: =IF((AL17)<=8,P1,P1+ROUND(INT(((AL17-8)*I1)),-1)) -> 1300 | T38: =IF((AL19)<=8,P1,P1+ROUND(INT(((AL19-8)*I1)),-1)) -> 1300 | V38: =IF((AL21)<=8,P1,P1+ROUND(INT(((AL21-8)*I1)),-1)) -> 1300 | X38: =IF((AL23)<=8,P1,P1+ROUND(INT(((AL23-8)*I1)),-1)) -> 1300 | Z38: =IF((AL25)<=8,P1,P1+ROUND(INT(((AL25-8)*I1)),-1)) -> 1300 | AB38: =IF((AL27)<=8,P1,P1+ROUND(INT(((AL27-8)*I1)),-1)) -> 1300 | AD38: =IF((AL29)<=8,P1,P1+ROUND(INT(((AL29-8)*I1)),-1)) -> 1300 | AF38: =IF((AL31)<=8,P1,P1+ROUND(INT(((AL31-8)*I1)),-1)) -> 1300 | AH38: =IF((AL33)<=8,P1,P1+ROUND(INT(((AL33-8)*I1)),-1)) -> 1300 | AJ38: =IF((AL35)<=8,P1,P1+ROUND(INT(((AL35-8)*I1)),-1)) -> 1300
A39: =AN39 -> 0 | C39: =MROUND(ROUNDDOWN(B40*0.8,-1),50) -> 2300 | E39: =C39-$S$1 -> 1250 | G39: =ROUND(F40*0.8,-1) -> 1480 | I39: =ROUND(H40*0.8,-1) -> 1340 | K39: =ROUND(J40*0.8,-1) -> 1250 | M39: =MROUND(ROUNDDOWN(L40*0.8,-1),50) -> 1100 | O39: =ROUND(N40*0.8,-1) -> 1040 | Q39: =ROUND(P40*0.8,-1) -> 1040 | S39: =ROUND(R40*0.8,-1) -> 1040 | U39: =ROUND(T40*0.8,-1) -> 1040 | W39: =ROUND(V40*0.8,-1) -> 1040 | Y39: =ROUND(X40*0.8,-1) -> 1040 | AA39: =ROUND(Z40*0.8,-1) -> 1040 | AC39: =ROUND(AB40*0.8,-1) -> 1040 | AE39: =ROUND(AD40*0.8,-1) -> 1040 | AG39: =ROUND(AF40*0.8,-1) -> 1040 | AI39: =ROUND(AH40*0.8,-1) -> 1040 | AK39: =ROUND(AJ40*0.8,-1) -> 1040 | AM39: =ROUND(AL40*0.8,-1) -> 1040
B40: =$P$1+MROUND(ROUNDDOWN(AN4*$I$1,-1),50) -> 2900 | D40: =B40-$P$1 -> 1600 | F40: =IF((AN5)<=8,P1,P1+ROUND(INT(((AN5-8)*I1)),-1)) -> 1850 | H40: =IF((AN7)<=8,P1,P1+ROUND(INT(((AN7-8)*I1)),-1)) -> 1670 | J40: =IF((AN9)<=8,P1,P1+ROUND(INT(((AN9-8)*I1)),-1)) -> 1560 | L40: =IF((AN11)<=$X$1,$P$1,$P$1+MROUND(ROUNDDOWN((AN11-$X$1)*$I$1,-1),50)) -> 1400 | N40: =IF((AN13)<=8,P1,P1+ROUND(INT(((AN13-8)*I1)),-1)) -> 1300 | P40: =IF((AN15)<=8,P1,P1+ROUND(INT(((AN15-8)*I1)),-1)) -> 1300 | R40: =IF((AN17)<=8,P1,P1+ROUND(INT(((AN17-8)*I1)),-1)) -> 1300 | T40: =IF((AN19)<=8,P1,P1+ROUND(INT(((AN19-8)*I1)),-1)) -> 1300 | V40: =IF((AN21)<=8,P1,P1+ROUND(INT(((AN21-8)*I1)),-1)) -> 1300 | X40: =IF((AN23)<=8,P1,P1+ROUND(INT(((AN23-8)*I1)),-1)) -> 1300 | Z40: =IF((AN25)<=8,P1,P1+ROUND(INT(((AN25-8)*I1)),-1)) -> 1300 | AB40: =IF((AN27)<=8,P1,P1+ROUND(INT(((AN27-8)*I1)),-1)) -> 1300 | AD40: =IF((AN29)<=8,P1,P1+ROUND(INT(((AN29-8)*I1)),-1)) -> 1300 | AF40: =IF((AN31)<=8,P1,P1+ROUND(INT(((AN31-8)*I1)),-1)) -> 1300 | AH40: =IF((AN33)<=8,P1,P1+ROUND(INT(((AN33-8)*I1)),-1)) -> 1300 | AJ40: =IF((AN35)<=8,P1,P1+ROUND(INT(((AN35-8)*I1)),-1)) -> 1300 | AL40: =IF((AN37)<=8,P1,P1+ROUND(INT(((AN37-8)*I1)),-1)) -> 1300
A41: =AP41 -> 0 | C41: =MROUND(ROUNDDOWN(B42*0.8,-1),50) -> 2300 | E41: =C41-$S$1 -> 1250 | G41: =ROUND(F42*0.8,-1) -> 1480 | I41: =ROUND(H42*0.8,-1) -> 1340 | K41: =ROUND(J42*0.8,-1) -> 1250 | M41: =ROUND(L42*0.8,-1) -> 1140 | O41: =ROUND(N42*0.8,-1) -> 1040 | Q41: =ROUND(P42*0.8,-1) -> 1040 | S41: =ROUND(R42*0.8,-1) -> 1040 | U41: =ROUND(T42*0.8,-1) -> 1040 | W41: =ROUND(V42*0.8,-1) -> 1040 | Y41: =ROUND(X42*0.8,-1) -> 1040 | AA41: =ROUND(Z42*0.8,-1) -> 1040 | AC41: =ROUND(AB42*0.8,-1) -> 1040 | AE41: =ROUND(AD42*0.8,-1) -> 1040 | AG41: =ROUND(AF42*0.8,-1) -> 1040 | AI41: =ROUND(AH42*0.8,-1) -> 1040 | AK41: =ROUND(AJ42*0.8,-1) -> 1040 | AM41: =ROUND(AL42*0.8,-1) -> 1040 | AO41: =ROUND(AN42*0.8,-1) -> 1040
B42: =$P$1+MROUND(ROUNDDOWN(AP4*$I$1,-1),50) -> 2900 | D42: =B42-$P$1 -> 1600 | F42: =IF((AP5)<=8,P1,P1+ROUND(INT(((AP5-8)*I1)),-1)) -> 1850 | H42: =IF((AP7)<=8,P1,P1+ROUND(INT(((AP7-8)*I1)),-1)) -> 1670 | J42: =IF((AP9)<=8,P1,P1+ROUND(INT(((AP9-8)*I1)),-1)) -> 1560 | L42: =IF((AP11)<=8,P1,P1+ROUND(INT(((AP11-8)*I1)),-1)) -> 1430 | N42: =IF((AP13)<=8,P1,P1+ROUND(INT(((AP13-8)*I1)),-1)) -> 1300 | P42: =IF((AP15)<=8,P1,P1+ROUND(INT(((AP15-8)*I1)),-1)) -> 1300 | R42: =IF((AP17)<=8,P1,P1+ROUND(INT(((AP17-8)*I1)),-1)) -> 1300 | T42: =IF((AP19)<=8,P1,P1+ROUND(INT(((AP19-8)*I1)),-1)) -> 1300 | V42: =IF((AP21)<=8,P1,P1+ROUND(INT(((AP21-8)*I1)),-1)) -> 1300 | X42: =IF((AP23)<=8,P1,P1+ROUND(INT(((AP23-8)*I1)),-1)) -> 1300 | Z42: =IF((AP25)<=8,P1,P1+ROUND(INT(((AP25-8)*I1)),-1)) -> 1300 | AB42: =IF((AP27)<=8,P1,P1+ROUND(INT(((AP27-8)*I1)),-1)) -> 1300 | AD42: =IF((AP29)<=8,P1,P1+ROUND(INT(((AP29-8)*I1)),-1)) -> 1300 | AF42: =IF((AP31)<=8,P1,P1+ROUND(INT(((AP31-8)*I1)),-1)) -> 1300 | AH42: =IF((AP33)<=8,P1,P1+ROUND(INT(((AP33-8)*I1)),-1)) -> 1300 | AJ42: =IF((AP35)<=8,P1,P1+ROUND(INT(((AP35-8)*I1)),-1)) -> 1300 | AL42: =IF((AP37)<=8,P1,P1+ROUND(INT(((AP37-8)*I1)),-1)) -> 1300 | AN42: =IF((AP39)<=8,P1,P1+ROUND(INT(((AP39-8)*I1)),-1)) -> 1300
C43: =MROUND(ROUNDDOWN(B44*0.8,-1),50) -> 1050
B44: =$P$1+MROUND(ROUNDDOWN(AR4*$I$1,-1),50) -> 1300

Sheet 24 구암
A1: 변 경 후
H2: 요율 | I2: =[1]기본요금!C5 -> 116.14 | N2: 기본요금 | P2: =기본요금!C6 -> 1300 | R2: 중고생 | S2: =기본요금!C7 -> 1050 | V2: 기본요금거리 | X2: =[1]기본요금!C8 -> 8
B3: 전주- 이서-애통리-구암(노선번호 : 24번)
A4: 승강장명 | B4: 요금 | F4: 기본요금 및 환승지역 (전주시. 완주군 지역) | P4: 구간요금적용지역 (김제지역) | X4: =$B$4+X5 -> #VALUE! | Z4: =$B$4+Z5 -> #VALUE! | AB4: =$B$4+AB5 -> #VALUE! | AD4: =$B$4+AD5 -> #VALUE! | AF4: =$B$4+AF5 -> #VALUE! | AH4: =$B$4+AH5 -> #VALUE! | AJ4: =$B$4+AJ5 -> #VALUE! | AL4: =$B$4+AL5 -> #VALUE! | AN4: =$B$4+AN5 -> #VALUE! | AP4: =$B$4+AP5 -> #VALUE!
A5: 전주 상림동 | D5: 추가요금 | F5: 1 | H5: =+F5+H6 -> 2.5 | J5: =+H5+J8 -> 3.5 | L5: =J5+L10 -> 4.6 | N5: =L5+N12 -> 5.9 | P5: =+N5+P14 -> 7.3 | R5: =+P5+R16 -> 8.2 | T5: =+R5+T18 -> 8.6 | V5: =+T5+V20 -> 9.3 | X5: =+V5+X22 -> 9.3 | Z5: =+X5+Z24 -> 9.3 | AB5: =+Z5+AB26 -> 9.3 | AD5: =+AB5+AD28 -> 9.3 | AF5: =+AD5+AF30 -> 9.3 | AH5: =+AF5+AH32 -> 9.3 | AJ5: =+AH5+AJ34 -> 9.3 | AL5: =+AJ5+AL36 -> 9.3 | AN5: =+AL5+AN38 -> 9.3 | AP5: =+AN5+AP40 -> 9.3
A6: 새금동 | C6: =MROUND(ROUNDDOWN(B7*0.8,-1),50) -> 1050 | E6: =C6-$S$2 -> 0 | F6: 새금동 | H6: 1.5 | J6: =H6+J8 -> 2.5 | L6: =J6+L10 -> 3.6 | N6: =L6+N12 -> 4.9 | P6: =N6+P14 -> 6.3 | R6: =P6+R16 -> 7.2 | T6: =R6+T18 -> 7.6 | V6: =T6+V20 -> 8.3 | X6: =V6+X22 -> 8.3 | Z6: =X6+Z24 -> 8.3 | AB6: =Z6+AB26 -> 8.3 | AD6: =AB6+AD28 -> 8.3 | AF6: =AD6+AF30 -> 8.3 | AH6: =AF6+AH32 -> 8.3 | AJ6: =AH6+AJ34 -> 8.3 | AL6: =AJ6+AL36 -> 8.3 | AN6: =AL6+AN38 -> 8.3 | AP6: =AN6+AP40 -> 8.3
B7: 1300 | D7: =B7-$P$2 -> 0
A8: 돌꼭지 후농 | C8: =MROUND(ROUNDDOWN(B9*0.8,-1),50) -> 1050 | E8: =C8-$S$2 -> 0 | G8: =MROUND(ROUNDDOWN(F9*0.8,-1),50) -> 1050 | H8: 돌꼭지 후농 | J8: 1 | L8: =J8+L10 -> 2.1 | N8: =L8+N12 -> 3.4 | P8: =N8+P14 -> 4.8 | R8: =P8+R16 -> 5.7 | T8: =R8+T18 -> 6.1 | V8: =T8+V20 -> 6.8 | X8: =V8+X22 -> 6.8 | Z8: =X8+Z24 -> 6.8 | AB8: =Z8+AB26 -> 6.8 | AD8: =AB8+AD28 -> 6.8 | AF8: =AD8+AF30 -> 6.8 | AH8: =AF8+AH32 -> 6.8 | AJ8: =AH8+AJ34 -> 6.8 | AL8: =AJ8+AL36 -> 6.8 | AN8: =AL8+AN38 -> 6.8 | AP8: =AN8+AP40 -> 6.8
B9: 1300 | D9: =B9-$P$2 -> 0 | F9: =IF((H6)<=$X$2,$P$2,$P$2+MROUND(ROUNDDOWN((H6-$X$2)*$I$2,-1),50)) -> 1300
A10: 이서 | C10: =MROUND(ROUNDDOWN(B11*0.8,-1),50) -> 1050 | E10: =C10-$S$2 -> 0 | G10: =MROUND(ROUNDDOWN(F11*0.8,-1),50) -> 1050 | I10: =ROUND(H11*0.8,-1) -> 1040 | J10: 이서 | L10: 1.1 | N10: =L10+N12 -> 2.4 | P10: =N10+P14 -> 3.8 | R10: =P10+R16 -> 4.7 | T10: =R10+T18 -> 5.1 | V10: =T10+V20 -> 5.8 | X10: =V10+X22 -> 5.8 | Z10: =X10+Z24 -> 5.8 | AB10: =Z10+AB26 -> 5.8 | AD10: =AB10+AD28 -> 5.8 | AF10: =AD10+AF30 -> 5.8 | AH10: =AF10+AH32 -> 5.8 | AJ10: =AH10+AJ34 -> 5.8 | AL10: =AJ10+AL36 -> 5.8 | AN10: =AL10+AN38 -> 5.8 | AP10: =AN10+AP40 -> 5.8
B11: 1300 | D11: =B11-$P$2 -> 0 | F11: =IF((J6)<=$X$2,$P$2,$P$2+MROUND(ROUNDDOWN((J6-$X$2)*$I$2,-1),50)) -> 1300 | H11: =IF((J8)<=8,P2,P2+ROUND(INT(((J8-8)*I2)),-1)) -> 1300
A12: 모고지 은교 | C12: =MROUND(ROUNDDOWN(B13*0.8,-1),50) -> 1050 | E12: =C12-$S$2 -> 0 | G12: =MROUND(ROUNDDOWN(F13*0.8,-1),50) -> 1050 | I12: =ROUND(H13*0.8,-1) -> 1040 | K12: =ROUND(J13*0.8,-1) -> 1040 | L12: 모고지 은교 | N12: 1.3 | P12: =N12+P14 -> 2.7 | R12: =P12+R16 -> 3.6 | T12: =R12+T18 -> 4 | V12: =T12+V20 -> 4.7 | X12: =V12+X22 -> 4.7 | Z12: =X12+Z24 -> 4.7 | AB12: =Z12+AB26 -> 4.7 | AD12: =AB12+AD28 -> 4.7 | AF12: =AD12+AF30 -> 4.7 | AH12: =AF12+AH32 -> 4.7 | AJ12: =AH12+AJ34 -> 4.7 | AL12: =AJ12+AL36 -> 4.7 | AN12: =AL12+AN38 -> 4.7 | AP12: =AN12+AP40 -> 4.7
B13: 1300 | D13: =B13-$P$2 -> 0 | F13: =IF((L6)<=$X$2,$P$2,$P$2+MROUND(ROUNDDOWN((L6-$X$2)*$I$2,-1),50)) -> 1300 | H13: =IF((L8)<=8,P2,P2+ROUND(INT(((L8-8)*I2)),-1)) -> 1300 | J13: =IF((L10)<=8,P2,P2+ROUND(INT(((L10-8)*I2)),-1)) -> 1300
A14: 애통리 | C14: =MROUND(ROUNDDOWN(B15*0.8,-1),50) -> 1050 | E14: =C14-$S$2 -> 0 | G14: =MROUND(ROUNDDOWN(F15*0.8,-1),50) -> 1050 | I14: =ROUND(H15*0.8,-1) -> 1040 | K14: =ROUND(J15*0.8,-1) -> 1040 | M14: =ROUND(L15*0.8,-1) -> 1040 | N14: 애통리 | P14: 1.4 | R14: =P14+R16 -> 2.3 | T14: =R14+T18 -> 2.7 | V14: =T14+V20 -> 3.4 | X14: =V14+X22 -> 3.4 | Z14: =X14+Z24 -> 3.4 | AB14: =Z14+AB26 -> 3.4 | AD14: =AB14+AD28 -> 3.4 | AF14: =AD14+AF30 -> 3.4 | AH14: =AF14+AH32 -> 3.4 | AJ14: =AH14+AJ34 -> 3.4 | AL14: =AJ14+AL36 -> 3.4 | AN14: =AL14+AN38 -> 3.4 | AP14: =AN14+AP40 -> 3.4
B15: 1300 | D15: =B15-$P$2 -> 0 | F15: =IF((N6)<=$X$2,$P$2,$P$2+MROUND(ROUNDDOWN((N6-$X$2)*$I$2,-1),50)) -> 1300 | H15: =IF((N8)<=8,P2,P2+ROUND(INT(((N8-8)*I2)),-1)) -> 1300 | J15: =IF((N10)<=8,P2,P2+ROUND(INT(((N10-8)*I2)),-1)) -> 1300 | L15: =IF((N12)<=8,P2,P2+ROUND(INT(((N12-8)*I2)),-1)) -> 1300
A16: 신흥리 | C16: =MROUND(ROUNDDOWN(B17*0.8,-1),50) -> 1700 | E16: =C16-$S$2 -> 650 | G16: =MROUND(ROUNDDOWN(F17*0.8,-1),50) -> 1050 | I16: =ROUND(H17*0.8,-1) -> 1040 | K16: =ROUND(J17*0.8,-1) -> 1040 | M16: =ROUND(L17*0.8,-1) -> 1040 | O16: =ROUND(N17*0.8,-1) -> 1040 | P16: 신흥리 | R16: 0.9 | T16: =R16+T18 -> 1.3 | V16: =T16+V20 -> 2 | X16: =V16+X22 -> 2 | Z16: =X16+Z24 -> 2 | AB16: =Z16+AB26 -> 2 | AD16: =AB16+AD28 -> 2 | AF16: =AD16+AF30 -> 2 | AH16: =AF16+AH32 -> 2 | AJ16: =AH16+AJ34 -> 2 | AL16: =AJ16+AL36 -> 2 | AN16: =AL16+AN38 -> 2 | AP16: =AN16+AP40 -> 2
B17: =$P$2+MROUND(ROUNDDOWN(P5*$I$2,-1),50) -> 2150 | D17: =B17-$P$2 -> 850 | F17: =IF((P6)<=$X$2,$P$2,$P$2+MROUND(ROUNDDOWN((P6-$X$2)*$I$2,-1),50)) -> 1300 | H17: =IF((P8)<=8,P2,P2+ROUND(INT(((P8-8)*I2)),-1)) -> 1300 | J17: =IF((P10)<=8,P2,P2+ROUND(INT(((P10-8)*I2)),-1)) -> 1300 | L17: =IF((P12)<=8,P2,P2+ROUND(INT(((P12-8)*I2)),-1)) -> 1300 | N17: =IF((P14)<=8,P2,P2+ROUND(INT(((P14-8)*I2)),-1)) -> 1300
A18: 서둔 | C18: =MROUND(ROUNDDOWN(B19*0.8,-1),50) -> 1800 | E18: =C18-$S$2 -> 750 | G18: =MROUND(ROUNDDOWN(F19*0.8,-1),50) -> 1050 | I18: =ROUND(H19*0.8,-1) -> 1040 | K18: =ROUND(J19*0.8,-1) -> 1040 | M18: =ROUND(L19*0.8,-1) -> 1040 | O18: =ROUND(N19*0.8,-1) -> 1040 | Q18: =ROUND(P19*0.8,-1) -> 1040 | R18: 서둔 | T18: 0.4 | V18: =T18+V20 -> 1.1 | X18: =V18+X22 -> 1.1 | Z18: =X18+Z24 -> 1.1 | AB18: =Z18+AB26 -> 1.1 | AD18: =AB18+AD28 -> 1.1 | AF18: =AD18+AF30 -> 1.1 | AH18: =AF18+AH32 -> 1.1 | AJ18: =AH18+AJ34 -> 1.1 | AL18: =AJ18+AL36 -> 1.1 | AN18: =AL18+AN38 -> 1.1 | AP18: =AN18+AP40 -> 1.1
B19: =$P$2+MROUND(ROUNDDOWN(R5*$I$2,-1),50) -> 2250 | D19: =B19-$P$2 -> 950 | F19: =IF((R6)<=$X$2,$P$2,$P$2+MROUND(ROUNDDOWN((R6-$X$2)*$I$2,-1),50)) -> 1300 | H19: =IF((R8)<=8,P2,P2+ROUND(INT(((R8-8)*I2)),-1)) -> 1300 | J19: =IF((R10)<=8,P2,P2+ROUND(INT(((R10-8)*I2)),-1)) -> 1300 | L19: =IF((R12)<=8,P2,P2+ROUND(INT(((R12-8)*I2)),-1)) -> 1300 | N19: =IF((R14)<=8,P2,P2+ROUND(INT(((R14-8)*I2)),-1)) -> 1300 | P19: =IF((R16)<=8,P2,P2+ROUND(INT(((R16-8)*I2)),-1)) -> 1300
A20: 동둔 | C20: =MROUND(ROUNDDOWN(B21*0.8,-1),50) -> 1850 | E20: =C20-$S$2 -> 800 | G20: =MROUND(ROUNDDOWN(F21*0.8,-1),50) -> 1050 | I20: =ROUND(H21*0.8,-1) -> 1040 | K20: =ROUND(J21*0.8,-1) -> 1040 | M20: =ROUND(L21*0.8,-1) -> 1040 | O20: =ROUND(N21*0.8,-1) -> 1040 | Q20: =ROUND(P21*0.8,-1) -> 1040 | S20: =ROUND(R21*0.8,-1) -> 1040 | T20: 동둔 | V20: 0.7 | X20: =V20+X22 -> 0.7 | Z20: =X20+Z24 -> 0.7 | AB20: =Z20+AB26 -> 0.7 | AD20: =AB20+AD28 -> 0.7 | AF20: =AD20+AF30 -> 0.7 | AH20: =AF20+AH32 -> 0.7 | AJ20: =AH20+AJ34 -> 0.7 | AL20: =AJ20+AL36 -> 0.7 | AN20: =AL20+AN38 -> 0.7 | AP20: =AN20+AP40 -> 0.7
B21: =$P$2+MROUND(ROUNDDOWN(T5*$I$2,-1),50) -> 2300 | D21: =B21-$P$2 -> 1000 | F21: =IF((T6)<=$X$2,$P$2,$P$2+MROUND(ROUNDDOWN((T6-$X$2)*$I$2,-1),50)) -> 1300 | H21: =IF((T8)<=8,P2,P2+ROUND(INT(((T8-8)*I2)),-1)) -> 1300 | J21: =IF((T10)<=8,P2,P2+ROUND(INT(((T10-8)*I2)),-1)) -> 1300 | L21: =IF((T12)<=8,P2,P2+ROUND(INT(((T12-8)*I2)),-1)) -> 1300 | N21: =IF((T14)<=8,P2,P2+ROUND(INT(((T14-8)*I2)),-1)) -> 1300 | P21: =IF((T16)<=8,P2,P2+ROUND(INT(((T16-8)*I2)),-1)) -> 1300 | R21: =IF((T18)<=8,P2,P2+ROUND(INT(((T18-8)*I2)),-1)) -> 1300
A22: 구암 | C22: =MROUND(ROUNDDOWN(B23*0.8,-1),50) -> 1900 | E22: =C22-$S$2 -> 850 | G22: =MROUND(ROUNDDOWN(F23*0.8,-1),50) -> 1100 | I22: =MROUND(ROUNDDOWN(H23*0.8,-1),50) -> 1050 | K22: =ROUND(J23*0.8,-1) -> 1040 | M22: =ROUND(L23*0.8,-1) -> 1040 | O22: =ROUND(N23*0.8,-1) -> 1040 | Q22: =ROUND(P23*0.8,-1) -> 1040 | S22: =ROUND(R23*0.8,-1) -> 1040 | U22: =ROUND(T23*0.8,-1) -> 1040 | V22: 구암 | Z22: =X22+Z24 -> 0 | AB22: =Z22+AB26 -> 0 | AD22: =AB22+AD28 -> 0 | AF22: =AD22+AF30 -> 0 | AH22: =AF22+AH32 -> 0 | AJ22: =AH22+AJ34 -> 0 | AL22: =AJ22+AL36 -> 0 | AN22: =AL22+AN38 -> 0 | AP22: =AN22+AP40 -> 0
B23: =$P$2+MROUND(ROUNDDOWN(V5*$I$2,-1),50) -> 2400 | D23: =B23-$P$2 -> 1100 | F23: =IF((V6)<=$X$2,$P$2,$P$2+MROUND(ROUNDDOWN((V6-$X$2)*$I$2,-1),50)) -> 1350 | H23: =IF((V8)<=$X$2,$P$2,$P$2+MROUND(ROUNDDOWN((V8-$X$2)*$I$2,-1),50)) -> 1300 | J23: =IF((V10)<=8,P2,P2+ROUND(INT(((V10-8)*I2)),-1)) -> 1300 | L23: =IF((V12)<=8,P2,P2+ROUND(INT(((V12-8)*I2)),-1)) -> 1300 | N23: =IF((V14)<=8,P2,P2+ROUND(INT(((V14-8)*I2)),-1)) -> 1300 | P23: =IF((V16)<=8,P2,P2+ROUND(INT(((V16-8)*I2)),-1)) -> 1300 | R23: =IF((V18)<=8,P2,P2+ROUND(INT(((V18-8)*I2)),-1)) -> 1300 | T23: =IF((V20)<=8,P2,P2+ROUND(INT(((V20-8)*I2)),-1)) -> 1300
A24: =X24 -> 0 | C24: =MROUND(ROUNDDOWN(B25*0.8,-1),50) -> 1900 | E24: =C24-$S$2 -> 850 | G24: =MROUND(ROUNDDOWN(F25*0.8,-1),50) -> 1100 | I24: =ROUND(H25*0.8,-1) -> 1040 | K24: =ROUND(J25*0.8,-1) -> 1040 | M24: =ROUND(L25*0.8,-1) -> 1040 | O24: =ROUND(N25*0.8,-1) -> 1040 | Q24: =ROUND(P25*0.8,-1) -> 1040 | S24: =ROUND(R25*0.8,-1) -> 1040 | U24: =ROUND(T25*0.8,-1) -> 1040 | W24: =ROUND(V25*0.8,-1) -> 1040 | AB24: =Z24+AB26 -> 0 | AD24: =AB24+AD28 -> 0 | AF24: =AD24+AF30 -> 0 | AH24: =AF24+AH32 -> 0 | AJ24: =AH24+AJ34 -> 0 | AL24: =AJ24+AL36 -> 0 | AN24: =AL24+AN38 -> 0 | AP24: =AN24+AP40 -> 0
B25: =$P$2+MROUND(ROUNDDOWN(X5*$I$2,-1),50) -> 2400 | D25: =B25-$P$2 -> 1100 | F25: =IF((X6)<=$X$2,$P$2,$P$2+MROUND(ROUNDDOWN((X6-$X$2)*$I$2,-1),50)) -> 1350 | H25: =IF((X8)<=8,P2,P2+ROUND(INT(((X8-8)*I2)),-1)) -> 1300 | J25: =IF((X10)<=8,P2,P2+ROUND(INT(((X10-8)*I2)),-1)) -> 1300 | L25: =IF((X12)<=8,P2,P2+ROUND(INT(((X12-8)*I2)),-1)) -> 1300 | N25: =IF((X14)<=8,P2,P2+ROUND(INT(((X14-8)*I2)),-1)) -> 1300 | P25: =IF((X16)<=8,P2,P2+ROUND(INT(((X16-8)*I2)),-1)) -> 1300 | R25: =IF((X18)<=8,P2,P2+ROUND(INT(((X18-8)*I2)),-1)) -> 1300 | T25: =IF((X20)<=8,P2,P2+ROUND(INT(((X20-8)*I2)),-1)) -> 1300 | V25: =IF((X22)<=8,P2,P2+ROUND(INT(((X22-8)*I2)),-1)) -> 1300
A26: =Z26 -> 0 | C26: =MROUND(ROUNDDOWN(B27*0.8,-1),50) -> 1900 | E26: =C26-$S$2 -> 850 | G26: =MROUND(ROUNDDOWN(F27*0.8,-1),50) -> 1100 | I26: =ROUND(H27*0.8,-1) -> 1040 | K26: =ROUND(J27*0.8,-1) -> 1040 | M26: =ROUND(L27*0.8,-1) -> 1040 | O26: =ROUND(N27*0.8,-1) -> 1040 | Q26: =ROUND(P27*0.8,-1) -> 1040 | S26: =ROUND(R27*0.8,-1) -> 1040 | U26: =ROUND(T27*0.8,-1) -> 1040 | W26: =ROUND(V27*0.8,-1) -> 1040 | Y26: =ROUND(X27*0.8,-1) -> 1040 | AD26: =AB26+AD28 -> 0 | AF26: =AD26+AF30 -> 0 | AH26: =AF26+AH32 -> 0 | AJ26: =AH26+AJ34 -> 0 | AL26: =AJ26+AL36 -> 0 | AN26: =AL26+AN38 -> 0 | AP26: =AN26+AP40 -> 0
B27: =$P$2+MROUND(ROUNDDOWN(Z5*$I$2,-1),50) -> 2400 | D27: =B27-$P$2 -> 1100 | F27: =IF((Z6)<=$X$2,$P$2,$P$2+MROUND(ROUNDDOWN((Z6-$X$2)*$I$2,-1),50)) -> 1350 | H27: =IF((Z8)<=8,P2,P2+ROUND(INT(((Z8-8)*I2)),-1)) -> 1300 | J27: =IF((Z10)<=8,P2,P2+ROUND(INT(((Z10-8)*I2)),-1)) -> 1300 | L27: =IF((Z12)<=8,P2,P2+ROUND(INT(((Z12-8)*I2)),-1)) -> 1300 | N27: =IF((Z14)<=8,P2,P2+ROUND(INT(((Z14-8)*I2)),-1)) -> 1300 | P27: =IF((Z16)<=8,P2,P2+ROUND(INT(((Z16-8)*I2)),-1)) -> 1300 | R27: =IF((Z18)<=8,P2,P2+ROUND(INT(((Z18-8)*I2)),-1)) -> 1300 | T27: =IF((Z20)<=8,P2,P2+ROUND(INT(((Z20-8)*I2)),-1)) -> 1300 | V27: =IF((Z22)<=8,P2,P2+ROUND(INT(((Z22-8)*I2)),-1)) -> 1300 | X27: =IF((Z24)<=8,P2,P2+ROUND(INT(((Z24-8)*I2)),-1)) -> 1300
A28: =AB28 -> 0 | C28: =MROUND(ROUNDDOWN(B29*0.8,-1),50) -> 1900 | E28: =C28-$S$2 -> 850 | G28: =MROUND(ROUNDDOWN(F29*0.8,-1),50) -> 1100 | I28: =ROUND(H29*0.8,-1) -> 1040 | K28: =ROUND(J29*0.8,-1) -> 1040 | M28: =ROUND(L29*0.8,-1) -> 1040 | O28: =ROUND(N29*0.8,-1) -> 1040 | Q28: =ROUND(P29*0.8,-1) -> 1040 | S28: =ROUND(R29*0.8,-1) -> 1040 | U28: =ROUND(T29*0.8,-1) -> 1040 | W28: =ROUND(V29*0.8,-1) -> 1040 | Y28: =ROUND(X29*0.8,-1) -> 1040 | AA28: =ROUND(Z29*0.8,-1) -> 1040 | AF28: =AD28+AF30 -> 0 | AH28: =AF28+AH32 -> 0 | AJ28: =AH28+AJ34 -> 0 | AL28: =AJ28+AL36 -> 0 | AN28: =AL28+AN38 -> 0 | AP28: =AN28+AP40 -> 0
B29: =$P$2+MROUND(ROUNDDOWN(AB5*$I$2,-1),50) -> 2400 | D29: =B29-$P$2 -> 1100 | F29: =IF((AB6)<=$X$2,$P$2,$P$2+MROUND(ROUNDDOWN((AB6-$X$2)*$I$2,-1),50)) -> 1350 | H29: =IF((AB8)<=8,P2,P2+ROUND(INT(((AB8-8)*I2)),-1)) -> 1300 | J29: =IF((AB10)<=8,P2,P2+ROUND(INT(((AB10-8)*I2)),-1)) -> 1300 | L29: =IF((AB12)<=8,P2,P2+ROUND(INT(((AB12-8)*I2)),-1)) -> 1300 | N29: =IF((AB14)<=8,P2,P2+ROUND(INT(((AB14-8)*I2)),-1)) -> 1300 | P29: =IF((AB16)<=8,P2,P2+ROUND(INT(((AB16-8)*I2)),-1)) -> 1300 | R29: =IF((AB18)<=8,P2,P2+ROUND(INT(((AB18-8)*I2)),-1)) -> 1300 | T29: =IF((AB20)<=8,P2,P2+ROUND(INT(((AB20-8)*I2)),-1)) -> 1300 | V29: =IF((AB22)<=8,P2,P2+ROUND(INT(((AB22-8)*I2)),-1)) -> 1300 | X29: =IF((AB24)<=8,P2,P2+ROUND(INT(((AB24-8)*I2)),-1)) -> 1300 | Z29: =IF((AB26)<=8,P2,P2+ROUND(INT(((AB26-8)*I2)),-1)) -> 1300
A30: =AD30 -> 0 | C30: =MROUND(ROUNDDOWN(B31*0.8,-1),50) -> 1900 | E30: =C30-$S$2 -> 850 | G30: =MROUND(ROUNDDOWN(F31*0.8,-1),50) -> 1100 | I30: =ROUND(H31*0.8,-1) -> 1040 | K30: =ROUND(J31*0.8,-1) -> 1040 | M30: =ROUND(L31*0.8,-1) -> 1040 | O30: =ROUND(N31*0.8,-1) -> 1040 | Q30: =ROUND(P31*0.8,-1) -> 1040 | S30: =ROUND(R31*0.8,-1) -> 1040 | U30: =ROUND(T31*0.8,-1) -> 1040 | W30: =ROUND(V31*0.8,-1) -> 1040 | Y30: =ROUND(X31*0.8,-1) -> 1040 | AA30: =ROUND(Z31*0.8,-1) -> 1040 | AC30: =ROUND(AB31*0.8,-1) -> 1040 | AH30: =AF30+AH32 -> 0 | AJ30: =AH30+AJ34 -> 0 | AL30: =AJ30+AL36 -> 0 | AN30: =AL30+AN38 -> 0 | AP30: =AN30+AP40 -> 0
B31: =$P$2+MROUND(ROUNDDOWN(AD5*$I$2,-1),50) -> 2400 | D31: =B31-$P$2 -> 1100 | F31: =IF((AD6)<=$X$2,$P$2,$P$2+MROUND(ROUNDDOWN((AD6-$X$2)*$I$2,-1),50)) -> 1350 | H31: =IF((AD8)<=8,P2,P2+ROUND(INT(((AD8-8)*I2)),-1)) -> 1300 | J31: =IF((AD10)<=8,P2,P2+ROUND(INT(((AD10-8)*I2)),-1)) -> 1300 | L31: =IF((AD12)<=8,P2,P2+ROUND(INT(((AD12-8)*I2)),-1)) -> 1300 | N31: =IF((AD14)<=8,P2,P2+ROUND(INT(((AD14-8)*I2)),-1)) -> 1300 | P31: =IF((AD16)<=8,P2,P2+ROUND(INT(((AD16-8)*I2)),-1)) -> 1300 | R31: =IF((AD18)<=8,P2,P2+ROUND(INT(((AD18-8)*I2)),-1)) -> 1300 | T31: =IF((AD20)<=8,P2,P2+ROUND(INT(((AD20-8)*I2)),-1)) -> 1300 | V31: =IF((AD22)<=8,P2,P2+ROUND(INT(((AD22-8)*I2)),-1)) -> 1300 | X31: =IF((AD24)<=8,P2,P2+ROUND(INT(((AD24-8)*I2)),-1)) -> 1300 | Z31: =IF((AD26)<=8,P2,P2+ROUND(INT(((AD26-8)*I2)),-1)) -> 1300 | AB31: =IF((AD28)<=8,P2,P2+ROUND(INT(((AD28-8)*I2)),-1)) -> 1300
A32: =AF32 -> 0 | C32: =MROUND(ROUNDDOWN(B33*0.8,-1),50) -> 1900 | E32: =C32-$S$2 -> 850 | G32: =MROUND(ROUNDDOWN(F33*0.8,-1),50) -> 1100 | I32: =ROUND(H33*0.8,-1) -> 1040 | K32: =ROUND(J33*0.8,-1) -> 1040 | M32: =ROUND(L33*0.8,-1) -> 1040 | O32: =ROUND(N33*0.8,-1) -> 1040 | Q32: =ROUND(P33*0.8,-1) -> 1040 | S32: =ROUND(R33*0.8,-1) -> 1040 | U32: =ROUND(T33*0.8,-1) -> 1040 | W32: =ROUND(V33*0.8,-1) -> 1040 | Y32: =ROUND(X33*0.8,-1) -> 1040 | AA32: =ROUND(Z33*0.8,-1) -> 1040 | AC32: =ROUND(AB33*0.8,-1) -> 1040 | AE32: =ROUND(AD33*0.8,-1) -> 1040 | AJ32: =AH32+AJ34 -> 0 | AL32: =AJ32+AL36 -> 0 | AN32: =AL32+AN38 -> 0 | AP32: =AN32+AP40 -> 0
B33: =$P$2+MROUND(ROUNDDOWN(AF5*$I$2,-1),50) -> 2400 | D33: =B33-$P$2 -> 1100 | F33: =IF((AF6)<=$X$2,$P$2,$P$2+MROUND(ROUNDDOWN((AF6-$X$2)*$I$2,-1),50)) -> 1350 | H33: =IF((AF8)<=8,P2,P2+ROUND(INT(((AF8-8)*I2)),-1)) -> 1300 | J33: =IF((AF10)<=8,P2,P2+ROUND(INT(((AF10-8)*I2)),-1)) -> 1300 | L33: =IF((AF12)<=8,P2,P2+ROUND(INT(((AF12-8)*I2)),-1)) -> 1300 | N33: =IF((AF14)<=8,P2,P2+ROUND(INT(((AF14-8)*I2)),-1)) -> 1300 | P33: =IF((AF16)<=8,P2,P2+ROUND(INT(((AF16-8)*I2)),-1)) -> 1300 | R33: =IF((AF18)<=8,P2,P2+ROUND(INT(((AF18-8)*I2)),-1)) -> 1300 | T33: =IF((AF20)<=8,P2,P2+ROUND(INT(((AF20-8)*I2)),-1)) -> 1300 | V33: =IF((AF22)<=8,P2,P2+ROUND(INT(((AF22-8)*I2)),-1)) -> 1300 | X33: =IF((AF24)<=8,P2,P2+ROUND(INT(((AF24-8)*I2)),-1)) -> 1300 | Z33: =IF((AF26)<=8,P2,P2+ROUND(INT(((AF26-8)*I2)),-1)) -> 1300 | AB33: =IF((AF28)<=8,P2,P2+ROUND(INT(((AF28-8)*I2)),-1)) -> 1300 | AD33: =IF((AF30)<=8,P2,P2+ROUND(INT(((AF30-8)*I2)),-1)) -> 1300
A34: =AH34 -> 0 | C34: =MROUND(ROUNDDOWN(B35*0.8,-1),50) -> 1900 | E34: =C34-$S$2 -> 850 | G34: =MROUND(ROUNDDOWN(F35*0.8,-1),50) -> 1100 | I34: =ROUND(H35*0.8,-1) -> 1040 | K34: =ROUND(J35*0.8,-1) -> 1040 | M34: =ROUND(L35*0.8,-1) -> 1040 | O34: =ROUND(N35*0.8,-1) -> 1040 | Q34: =ROUND(P35*0.8,-1) -> 1040 | S34: =ROUND(R35*0.8,-1) -> 1040 | U34: =ROUND(T35*0.8,-1) -> 1040 | W34: =ROUND(V35*0.8,-1) -> 1040 | Y34: =ROUND(X35*0.8,-1) -> 1040 | AA34: =ROUND(Z35*0.8,-1) -> 1040 | AC34: =ROUND(AB35*0.8,-1) -> 1040 | AE34: =ROUND(AD35*0.8,-1) -> 1040 | AG34: =ROUND(AF35*0.8,-1) -> 1040 | AL34: =AJ34+AL36 -> 0 | AN34: =AL34+AN38 -> 0 | AP34: =AN34+AP40 -> 0
B35: =$P$2+MROUND(ROUNDDOWN(AH5*$I$2,-1),50) -> 2400 | D35: =B35-$P$2 -> 1100 | F35: =IF((AH6)<=$X$2,$P$2,$P$2+MROUND(ROUNDDOWN((AH6-$X$2)*$I$2,-1),50)) -> 1350 | H35: =IF((AH8)<=8,P2,P2+ROUND(INT(((AH8-8)*I2)),-1)) -> 1300 | J35: =IF((AH10)<=8,P2,P2+ROUND(INT(((AH10-8)*I2)),-1)) -> 1300 | L35: =IF((AH12)<=8,P2,P2+ROUND(INT(((AH12-8)*I2)),-1)) -> 1300 | N35: =IF((AH14)<=8,P2,P2+ROUND(INT(((AH14-8)*I2)),-1)) -> 1300 | P35: =IF((AH16)<=8,P2,P2+ROUND(INT(((AH16-8)*I2)),-1)) -> 1300 | R35: =IF((AH18)<=8,P2,P2+ROUND(INT(((AH18-8)*I2)),-1)) -> 1300 | T35: =IF((AH20)<=8,P2,P2+ROUND(INT(((AH20-8)*I2)),-1)) -> 1300 | V35: =IF((AH22)<=8,P2,P2+ROUND(INT(((AH22-8)*I2)),-1)) -> 1300 | X35: =IF((AH24)<=8,P2,P2+ROUND(INT(((AH24-8)*I2)),-1)) -> 1300 | Z35: =IF((AH26)<=8,P2,P2+ROUND(INT(((AH26-8)*I2)),-1)) -> 1300 | AB35: =IF((AH28)<=8,P2,P2+ROUND(INT(((AH28-8)*I2)),-1)) -> 1300 | AD35: =IF((AH30)<=8,P2,P2+ROUND(INT(((AH30-8)*I2)),-1)) -> 1300 | AF35: =IF((AH32)<=8,P2,P2+ROUND(INT(((AH32-8)*I2)),-1)) -> 1300
A36: =AJ36 -> 0 | C36: =MROUND(ROUNDDOWN(B37*0.8,-1),50) -> 1900 | E36: =C36-$S$2 -> 850 | G36: =MROUND(ROUNDDOWN(F37*0.8,-1),50) -> 1100 | I36: =ROUND(H37*0.8,-1) -> 1040 | K36: =ROUND(J37*0.8,-1) -> 1040 | M36: =ROUND(L37*0.8,-1) -> 1040 | O36: =ROUND(N37*0.8,-1) -> 1040 | Q36: =ROUND(P37*0.8,-1) -> 1040 | S36: =ROUND(R37*0.8,-1) -> 1040 | U36: =ROUND(T37*0.8,-1) -> 1040 | W36: =ROUND(V37*0.8,-1) -> 1040 | Y36: =ROUND(X37*0.8,-1) -> 1040 | AA36: =ROUND(Z37*0.8,-1) -> 1040 | AC36: =ROUND(AB37*0.8,-1) -> 1040 | AE36: =ROUND(AD37*0.8,-1) -> 1040 | AG36: =ROUND(AF37*0.8,-1) -> 1040 | AI36: =ROUND(AH37*0.8,-1) -> 1040 | AN36: =AL36+AN38 -> 0 | AP36: =AN36+AP40 -> 0
B37: =$P$2+MROUND(ROUNDDOWN(AJ5*$I$2,-1),50) -> 2400 | D37: =B37-$P$2 -> 1100 | F37: =IF((AJ6)<=$X$2,$P$2,$P$2+MROUND(ROUNDDOWN((AJ6-$X$2)*$I$2,-1),50)) -> 1350 | H37: =IF((AJ8)<=8,P2,P2+ROUND(INT(((AJ8-8)*I2)),-1)) -> 1300 | J37: =IF((AJ10)<=8,P2,P2+ROUND(INT(((AJ10-8)*I2)),-1)) -> 1300 | L37: =IF((AJ12)<=8,P2,P2+ROUND(INT(((AJ12-8)*I2)),-1)) -> 1300 | N37: =IF((AJ14)<=8,P2,P2+ROUND(INT(((AJ14-8)*I2)),-1)) -> 1300 | P37: =IF((AJ16)<=8,P2,P2+ROUND(INT(((AJ16-8)*I2)),-1)) -> 1300 | R37: =IF((AJ18)<=8,P2,P2+ROUND(INT(((AJ18-8)*I2)),-1)) -> 1300 | T37: =IF((AJ20)<=8,P2,P2+ROUND(INT(((AJ20-8)*I2)),-1)) -> 1300 | V37: =IF((AJ22)<=8,P2,P2+ROUND(INT(((AJ22-8)*I2)),-1)) -> 1300 | X37: =IF((AJ24)<=8,P2,P2+ROUND(INT(((AJ24-8)*I2)),-1)) -> 1300 | Z37: =IF((AJ26)<=8,P2,P2+ROUND(INT(((AJ26-8)*I2)),-1)) -> 1300 | AB37: =IF((AJ28)<=8,P2,P2+ROUND(INT(((AJ28-8)*I2)),-1)) -> 1300 | AD37: =IF((AJ30)<=8,P2,P2+ROUND(INT(((AJ30-8)*I2)),-1)) -> 1300 | AF37: =IF((AJ32)<=8,P2,P2+ROUND(INT(((AJ32-8)*I2)),-1)) -> 1300 | AH37: =IF((AJ34)<=8,P2,P2+ROUND(INT(((AJ34-8)*I2)),-1)) -> 1300
A38: =AL38 -> 0 | C38: =MROUND(ROUNDDOWN(B39*0.8,-1),50) -> 1900 | E38: =C38-$S$2 -> 850 | G38: =MROUND(ROUNDDOWN(F39*0.8,-1),50) -> 1100 | I38: =ROUND(H39*0.8,-1) -> 1040 | K38: =ROUND(J39*0.8,-1) -> 1040 | M38: =ROUND(L39*0.8,-1) -> 1040 | O38: =ROUND(N39*0.8,-1) -> 1040 | Q38: =ROUND(P39*0.8,-1) -> 1040 | S38: =ROUND(R39*0.8,-1) -> 1040 | U38: =ROUND(T39*0.8,-1) -> 1040 | W38: =ROUND(V39*0.8,-1) -> 1040 | Y38: =ROUND(X39*0.8,-1) -> 1040 | AA38: =ROUND(Z39*0.8,-1) -> 1040 | AC38: =ROUND(AB39*0.8,-1) -> 1040 | AE38: =ROUND(AD39*0.8,-1) -> 1040 | AG38: =ROUND(AF39*0.8,-1) -> 1040 | AI38: =ROUND(AH39*0.8,-1) -> 1040 | AK38: =ROUND(AJ39*0.8,-1) -> 1040 | AP38: =AN38+AP40 -> 0
B39: =$P$2+MROUND(ROUNDDOWN(AL5*$I$2,-1),50) -> 2400 | D39: =B39-$P$2 -> 1100 | F39: =IF((AL6)<=$X$2,$P$2,$P$2+MROUND(ROUNDDOWN((AL6-$X$2)*$I$2,-1),50)) -> 1350 | H39: =IF((AL8)<=8,P2,P2+ROUND(INT(((AL8-8)*I2)),-1)) -> 1300 | J39: =IF((AL10)<=8,P2,P2+ROUND(INT(((AL10-8)*I2)),-1)) -> 1300 | L39: =IF((AL12)<=8,P2,P2+ROUND(INT(((AL12-8)*I2)),-1)) -> 1300 | N39: =IF((AL14)<=8,P2,P2+ROUND(INT(((AL14-8)*I2)),-1)) -> 1300 | P39: =IF((AL16)<=8,P2,P2+ROUND(INT(((AL16-8)*I2)),-1)) -> 1300 | R39: =IF((AL18)<=8,P2,P2+ROUND(INT(((AL18-8)*I2)),-1)) -> 1300 | T39: =IF((AL20)<=8,P2,P2+ROUND(INT(((AL20-8)*I2)),-1)) -> 1300 | V39: =IF((AL22)<=8,P2,P2+ROUND(INT(((AL22-8)*I2)),-1)) -> 1300 | X39: =IF((AL24)<=8,P2,P2+ROUND(INT(((AL24-8)*I2)),-1)) -> 1300 | Z39: =IF((AL26)<=8,P2,P2+ROUND(INT(((AL26-8)*I2)),-1)) -> 1300 | AB39: =IF((AL28)<=8,P2,P2+ROUND(INT(((AL28-8)*I2)),-1)) -> 1300 | AD39: =IF((AL30)<=8,P2,P2+ROUND(INT(((AL30-8)*I2)),-1)) -> 1300 | AF39: =IF((AL32)<=8,P2,P2+ROUND(INT(((AL32-8)*I2)),-1)) -> 1300 | AH39: =IF((AL34)<=8,P2,P2+ROUND(INT(((AL34-8)*I2)),-1)) -> 1300 | AJ39: =IF((AL36)<=8,P2,P2+ROUND(INT(((AL36-8)*I2)),-1)) -> 1300
A40: =AN40 -> 0 | C40: =MROUND(ROUNDDOWN(B41*0.8,-1),50) -> 1900 | E40: =C40-$S$2 -> 850 | G40: =MROUND(ROUNDDOWN(F41*0.8,-1),50) -> 1100 | I40: =ROUND(H41*0.8,-1) -> 1040 | K40: =ROUND(J41*0.8,-1) -> 1040 | M40: =ROUND(L41*0.8,-1) -> 1040 | O40: =ROUND(N41*0.8,-1) -> 1040 | Q40: =ROUND(P41*0.8,-1) -> 1040 | S40: =ROUND(R41*0.8,-1) -> 1040 | U40: =ROUND(T41*0.8,-1) -> 1040 | W40: =ROUND(V41*0.8,-1) -> 1040 | Y40: =ROUND(X41*0.8,-1) -> 1040 | AA40: =ROUND(Z41*0.8,-1) -> 1040 | AC40: =ROUND(AB41*0.8,-1) -> 1040 | AE40: =ROUND(AD41*0.8,-1) -> 1040 | AG40: =ROUND(AF41*0.8,-1) -> 1040 | AI40: =ROUND(AH41*0.8,-1) -> 1040 | AK40: =ROUND(AJ41*0.8,-1) -> 1040 | AM40: =ROUND(AL41*0.8,-1) -> 1040
B41: =$P$2+MROUND(ROUNDDOWN(AN5*$I$2,-1),50) -> 2400 | D41: =B41-$P$2 -> 1100 | F41: =IF((AN6)<=$X$2,$P$2,$P$2+MROUND(ROUNDDOWN((AN6-$X$2)*$I$2,-1),50)) -> 1350 | H41: =IF((AN8)<=8,P2,P2+ROUND(INT(((AN8-8)*I2)),-1)) -> 1300 | J41: =IF((AN10)<=8,P2,P2+ROUND(INT(((AN10-8)*I2)),-1)) -> 1300 | L41: =IF((AN12)<=8,P2,P2+ROUND(INT(((AN12-8)*I2)),-1)) -> 1300 | N41: =IF((AN14)<=8,P2,P2+ROUND(INT(((AN14-8)*I2)),-1)) -> 1300 | P41: =IF((AN16)<=8,P2,P2+ROUND(INT(((AN16-8)*I2)),-1)) -> 1300 | R41: =IF((AN18)<=8,P2,P2+ROUND(INT(((AN18-8)*I2)),-1)) -> 1300 | T41: =IF((AN20)<=8,P2,P2+ROUND(INT(((AN20-8)*I2)),-1)) -> 1300 | V41: =IF((AN22)<=8,P2,P2+ROUND(INT(((AN22-8)*I2)),-1)) -> 1300 | X41: =IF((AN24)<=8,P2,P2+ROUND(INT(((AN24-8)*I2)),-1)) -> 1300 | Z41: =IF((AN26)<=8,P2,P2+ROUND(INT(((AN26-8)*I2)),-1)) -> 1300 | AB41: =IF((AN28)<=8,P2,P2+ROUND(INT(((AN28-8)*I2)),-1)) -> 1300 | AD41: =IF((AN30)<=8,P2,P2+ROUND(INT(((AN30-8)*I2)),-1)) -> 1300 | AF41: =IF((AN32)<=8,P2,P2+ROUND(INT(((AN32-8)*I2)),-1)) -> 1300 | AH41: =IF((AN34)<=8,P2,P2+ROUND(INT(((AN34-8)*I2)),-1)) -> 1300 | AJ41: =IF((AN36)<=8,P2,P2+ROUND(INT(((AN36-8)*I2)),-1)) -> 1300 | AL41: =IF((AN38)<=8,P2,P2+ROUND(INT(((AN38-8)*I2)),-1)) -> 1300
A42: =AP42 -> 0 | C42: =MROUND(ROUNDDOWN(B43*0.8,-1),50) -> 1900 | E42: =C42-$S$2 -> 850 | G42: =MROUND(ROUNDDOWN(F43*0.8,-1),50) -> 1100 | I42: =ROUND(H43*0.8,-1) -> 1040 | K42: =ROUND(J43*0.8,-1) -> 1040 | M42: =ROUND(L43*0.8,-1) -> 1040 | O42: =ROUND(N43*0.8,-1) -> 1040 | Q42: =ROUND(P43*0.8,-1) -> 1040 | S42: =ROUND(R43*0.8,-1) -> 1040 | U42: =ROUND(T43*0.8,-1) -> 1040 | W42: =ROUND(V43*0.8,-1) -> 1040 | Y42: =ROUND(X43*0.8,-1) -> 1040 | AA42: =ROUND(Z43*0.8,-1) -> 1040 | AC42: =ROUND(AB43*0.8,-1) -> 1040 | AE42: =ROUND(AD43*0.8,-1) -> 1040 | AG42: =ROUND(AF43*0.8,-1) -> 1040 | AI42: =ROUND(AH43*0.8,-1) -> 1040 | AK42: =ROUND(AJ43*0.8,-1) -> 1040 | AM42: =ROUND(AL43*0.8,-1) -> 1040 | AO42: =ROUND(AN43*0.8,-1) -> 1040
B43: =$P$2+MROUND(ROUNDDOWN(AP5*$I$2,-1),50) -> 2400 | D43: =B43-$P$2 -> 1100 | F43: =IF((AP6)<=$X$2,$P$2,$P$2+MROUND(ROUNDDOWN((AP6-$X$2)*$I$2,-1),50)) -> 1350 | H43: =IF((AP8)<=8,P2,P2+ROUND(INT(((AP8-8)*I2)),-1)) -> 1300 | J43: =IF((AP10)<=8,P2,P2+ROUND(INT(((AP10-8)*I2)),-1)) -> 1300 | L43: =IF((AP12)<=8,P2,P2+ROUND(INT(((AP12-8)*I2)),-1)) -> 1300 | N43: =IF((AP14)<=8,P2,P2+ROUND(INT(((AP14-8)*I2)),-1)) -> 1300 | P43: =IF((AP16)<=8,P2,P2+ROUND(INT(((AP16-8)*I2)),-1)) -> 1300 | R43: =IF((AP18)<=8,P2,P2+ROUND(INT(((AP18-8)*I2)),-1)) -> 1300 | T43: =IF((AP20)<=8,P2,P2+ROUND(INT(((AP20-8)*I2)),-1)) -> 1300 | V43: =IF((AP22)<=8,P2,P2+ROUND(INT(((AP22-8)*I2)),-1)) -> 1300 | X43: =IF((AP24)<=8,P2,P2+ROUND(INT(((AP24-8)*I2)),-1)) -> 1300 | Z43: =IF((AP26)<=8,P2,P2+ROUND(INT(((AP26-8)*I2)),-1)) -> 1300 | AB43: =IF((AP28)<=8,P2,P2+ROUND(INT(((AP28-8)*I2)),-1)) -> 1300 | AD43: =IF((AP30)<=8,P2,P2+ROUND(INT(((AP30-8)*I2)),-1)) -> 1300 | AF43: =IF((AP32)<=8,P2,P2+ROUND(INT(((AP32-8)*I2)),-1)) -> 1300 | AH43: =IF((AP34)<=8,P2,P2+ROUND(INT(((AP34-8)*I2)),-1)) -> 1300 | AJ43: =IF((AP36)<=8,P2,P2+ROUND(INT(((AP36-8)*I2)),-1)) -> 1300 | AL43: =IF((AP38)<=8,P2,P2+ROUND(INT(((AP38-8)*I2)),-1)) -> 1300 | AN43: =IF((AP40)<=8,P2,P2+ROUND(INT(((AP40-8)*I2)),-1)) -> 1300
C44: =MROUND(ROUNDDOWN(B45*0.8,-1),50) -> 1050 | G44: =MROUND(ROUNDDOWN(F45*0.8,-1),50) -> 1050
B45: =$P$2+MROUND(ROUNDDOWN(AR5*$I$2,-1),50) -> 1300 | F45: =IF((AR6)<=$X$2,$P$2,$P$2+MROUND(ROUNDDOWN((AR6-$X$2)*$I$2,-1),50)) -> 1300
F49: `

Sheet 27 상리
H1: 요율 | I1: =기본요금!C5 -> 116.14 | N1: 기본요금 | P1: =기본요금!C6 -> 1300 | R1: 중고생 | S1: =기본요금!C7 -> 1050 | V1: 기본요금거리 | X1: =기본요금!C8 -> 8
B2: 전주- 이서-애통리-상리(노선번호 : 27번)
A3: 승강장명 | B3: 요 금 | F3: 기본요금 및 환승지역 (전주시. 완주군 지역) | P3: 구간요금적용지역 (김제지역) | T3: =$B$3+T4 -> #VALUE! | V3: =$B$3+V4 -> #VALUE! | X3: =$B$3+X4 -> #VALUE! | Z3: =$B$3+Z4 -> #VALUE! | AB3: =$B$3+AB4 -> #VALUE! | AD3: =$B$3+AD4 -> #VALUE! | AF3: =$B$3+AF4 -> #VALUE! | AH3: =$B$3+AH4 -> #VALUE! | AJ3: =$B$3+AJ4 -> #VALUE! | AL3: =$B$3+AL4 -> #VALUE! | AN3: =$B$3+AN4 -> #VALUE! | AP3: =$B$3+AP4 -> #VALUE!
A4: 전주 상림동 | D4: 추가요금 | F4: 1 | H4: =+F4+H5 -> 2.5 | J4: =+H4+J7 -> 3.5 | L4: =J4+L9 -> 4.6 | N4: =L4+N11 -> 5.9 | P4: =+N4+P13 -> 7.7 | R4: =+P4+R15 -> 8.8 | T4: =+R4+T17 -> 8.8 | V4: =+T4+V19 -> 8.8 | X4: =+V4+X21 -> 8.8 | Z4: =+X4+Z23 -> 8.8 | AB4: =+Z4+AB25 -> 8.8 | AD4: =+AB4+AD27 -> 8.8 | AF4: =+AD4+AF29 -> 8.8 | AH4: =+AF4+AH31 -> 8.8 | AJ4: =+AH4+AJ33 -> 8.8 | AL4: =+AJ4+AL35 -> 8.8 | AN4: =+AL4+AN37 -> 8.8 | AP4: =+AN4+AP39 -> 8.8
A5: 새금동 | C5: =MROUND(ROUNDDOWN(B6*0.8,-1),50) -> 1050 | E5: =C5-$S$1 -> 0 | F5: 새금동 | H5: 1.5 | J5: =H5+J7 -> 2.5 | L5: =J5+L9 -> 3.6 | N5: =L5+N11 -> 4.9 | P5: =N5+P13 -> 6.7 | R5: =P5+R15 -> 7.8 | T5: =R5+T17 -> 7.8 | V5: =T5+V19 -> 7.8 | X5: =V5+X21 -> 7.8 | Z5: =X5+Z23 -> 7.8 | AB5: =Z5+AB25 -> 7.8 | AD5: =AB5+AD27 -> 7.8 | AF5: =AD5+AF29 -> 7.8 | AH5: =AF5+AH31 -> 7.8 | AJ5: =AH5+AJ33 -> 7.8 | AL5: =AJ5+AL35 -> 7.8 | AN5: =AL5+AN37 -> 7.8 | AP5: =AN5+AP39 -> 7.8
B6: 1300 | D6: =B6-$P$1 -> 0
A7: 돌꼭지 후농 | C7: =MROUND(ROUNDDOWN(B8*0.8,-1),50) -> 1050 | E7: =C7-$S$1 -> 0 | G7: =ROUND(F8*0.8,-1) -> 1040 | H7: 돌꼭지 후농 | J7: 1 | L7: =J7+L9 -> 2.1 | N7: =L7+N11 -> 3.4 | P7: =N7+P13 -> 5.2 | R7: =P7+R15 -> 6.3 | T7: =R7+T17 -> 6.3 | V7: =T7+V19 -> 6.3 | X7: =V7+X21 -> 6.3 | Z7: =X7+Z23 -> 6.3 | AB7: =Z7+AB25 -> 6.3 | AD7: =AB7+AD27 -> 6.3 | AF7: =AD7+AF29 -> 6.3 | AH7: =AF7+AH31 -> 6.3 | AJ7: =AH7+AJ33 -> 6.3 | AL7: =AJ7+AL35 -> 6.3 | AN7: =AL7+AN37 -> 6.3 | AP7: =AN7+AP39 -> 6.3
B8: 1300 | D8: =B8-$P$1 -> 0 | F8: =IF((H5)<=8,P1,P1+ROUND(INT(((H5-8)*I1)),-1)) -> 1300
A9: 이서 | C9: =MROUND(ROUNDDOWN(B10*0.8,-1),50) -> 1050 | E9: =C9-$S$1 -> 0 | G9: =ROUND(F10*0.8,-1) -> 1040 | I9: =ROUND(H10*0.8,-1) -> 1040 | J9: 이서 | L9: 1.1 | N9: =L9+N11 -> 2.4 | P9: =N9+P13 -> 4.2 | R9: =P9+R15 -> 5.3 | T9: =R9+T17 -> 5.3 | V9: =T9+V19 -> 5.3 | X9: =V9+X21 -> 5.3 | Z9: =X9+Z23 -> 5.3 | AB9: =Z9+AB25 -> 5.3 | AD9: =AB9+AD27 -> 5.3 | AF9: =AD9+AF29 -> 5.3 | AH9: =AF9+AH31 -> 5.3 | AJ9: =AH9+AJ33 -> 5.3 | AL9: =AJ9+AL35 -> 5.3 | AN9: =AL9+AN37 -> 5.3 | AP9: =AN9+AP39 -> 5.3
B10: 1300 | D10: =B10-$P$1 -> 0 | F10: =IF((J5)<=8,P1,P1+ROUND(INT(((J5-8)*I1)),-1)) -> 1300 | H10: =IF((J7)<=8,P1,P1+ROUND(INT(((J7-8)*I1)),-1)) -> 1300
A11: 모고지 은교 | C11: =MROUND(ROUNDDOWN(B12*0.8,-1),50) -> 1050 | E11: =C11-$S$1 -> 0 | G11: =ROUND(F12*0.8,-1) -> 1040 | I11: =ROUND(H12*0.8,-1) -> 1040 | K11: =ROUND(J12*0.8,-1) -> 1040 | L11: 모고지 은교 | N11: 1.3 | P11: =N11+P13 -> 3.1 | R11: =P11+R15 -> 4.2 | T11: =R11+T17 -> 4.2 | V11: =T11+V19 -> 4.2 | X11: =V11+X21 -> 4.2 | Z11: =X11+Z23 -> 4.2 | AB11: =Z11+AB25 -> 4.2 | AD11: =AB11+AD27 -> 4.2 | AF11: =AD11+AF29 -> 4.2 | AH11: =AF11+AH31 -> 4.2 | AJ11: =AH11+AJ33 -> 4.2 | AL11: =AJ11+AL35 -> 4.2 | AN11: =AL11+AN37 -> 4.2 | AP11: =AN11+AP39 -> 4.2
B12: 1300 | D12: =B12-$P$1 -> 0 | F12: =IF((L5)<=8,P1,P1+ROUND(INT(((L5-8)*I1)),-1)) -> 1300 | H12: =IF((L7)<=8,P1,P1+ROUND(INT(((L7-8)*I1)),-1)) -> 1300 | J12: =IF((L9)<=8,P1,P1+ROUND(INT(((L9-8)*I1)),-1)) -> 1300
A13: 애통리 | C13: =MROUND(ROUNDDOWN(B14*0.8,-1),50) -> 1050 | E13: =C13-$S$1 -> 0 | G13: =ROUND(F14*0.8,-1) -> 1040 | I13: =ROUND(H14*0.8,-1) -> 1040 | K13: =ROUND(J14*0.8,-1) -> 1040 | M13: =ROUND(L14*0.8,-1) -> 1040 | N13: 애통리 | P13: 1.8 | R13: =P13+R15 -> 2.9 | T13: =R13+T17 -> 2.9 | V13: =T13+V19 -> 2.9 | X13: =V13+X21 -> 2.9 | Z13: =X13+Z23 -> 2.9 | AB13: =Z13+AB25 -> 2.9 | AD13: =AB13+AD27 -> 2.9 | AF13: =AD13+AF29 -> 2.9 | AH13: =AF13+AH31 -> 2.9 | AJ13: =AH13+AJ33 -> 2.9 | AL13: =AJ13+AL35 -> 2.9 | AN13: =AL13+AN37 -> 2.9 | AP13: =AN13+AP39 -> 2.9
B14: 1300 | D14: =B14-$P$1 -> 0 | F14: =IF((N5)<=8,P1,P1+ROUND(INT(((N5-8)*I1)),-1)) -> 1300 | H14: =IF((N7)<=8,P1,P1+ROUND(INT(((N7-8)*I1)),-1)) -> 1300 | J14: =IF((N9)<=8,P1,P1+ROUND(INT(((N9-8)*I1)),-1)) -> 1300 | L14: =IF((N11)<=8,P1,P1+ROUND(INT(((N11-8)*I1)),-1)) -> 1300
A15: 불노리 | C15: =MROUND(ROUNDDOWN(B16*0.8,-1),50) -> 1750 | E15: =C15-$S$1 -> 700 | G15: =ROUND(F16*0.8,-1) -> 1040 | I15: =ROUND(H16*0.8,-1) -> 1040 | K15: =ROUND(J16*0.8,-1) -> 1040 | M15: =ROUND(L16*0.8,-1) -> 1040 | O15: =ROUND(N16*0.8,-1) -> 1040 | P15: 불노리 | R15: 1.1 | T15: =R15+T17 -> 1.1 | V15: =T15+V19 -> 1.1 | X15: =V15+X21 -> 1.1 | Z15: =X15+Z23 -> 1.1 | AB15: =Z15+AB25 -> 1.1 | AD15: =AB15+AD27 -> 1.1 | AF15: =AD15+AF29 -> 1.1 | AH15: =AF15+AH31 -> 1.1 | AJ15: =AH15+AJ33 -> 1.1 | AL15: =AJ15+AL35 -> 1.1 | AN15: =AL15+AN37 -> 1.1 | AP15: =AN15+AP39 -> 1.1
B16: =$P$1+MROUND(ROUNDDOWN(P4*$I$1,-1),50) -> 2200 | D16: =B16-$P$1 -> 900 | F16: =IF((P5)<=8,P1,P1+ROUND(INT(((R5-8)*I1)),-1)) -> 1300 | H16: =IF((P7)<=8,P1,P1+ROUND(INT(((P7-8)*I1)),-1)) -> 1300 | J16: =IF((P9)<=8,P1,P1+ROUND(INT(((P9-8)*I1)),-1)) -> 1300 | L16: =IF((P11)<=8,P1,P1+ROUND(INT(((P11-8)*I1)),-1)) -> 1300 | N16: =IF((P13)<=8,P1,P1+ROUND(INT(((P13-8)*I1)),-1)) -> 1300
A17: 상리 | C17: =MROUND(ROUNDDOWN(B18*0.8,-1),50) -> 1850 | E17: =C17-$S$1 -> 800 | G17: =ROUND(F18*0.8,-1) -> 1040 | I17: =ROUND(H18*0.8,-1) -> 1040 | K17: =ROUND(J18*0.8,-1) -> 1040 | M17: =ROUND(L18*0.8,-1) -> 1040 | O17: =ROUND(N18*0.8,-1) -> 1040 | Q17: =ROUND(P18*0.8,-1) -> 1040 | R17: 상리 | V17: =T17+V19 -> 0 | X17: =V17+X21 -> 0 | Z17: =X17+Z23 -> 0 | AB17: =Z17+AB25 -> 0 | AD17: =AB17+AD27 -> 0 | AF17: =AD17+AF29 -> 0 | AH17: =AF17+AH31 -> 0 | AJ17: =AH17+AJ33 -> 0 | AL17: =AJ17+AL35 -> 0 | AN17: =AL17+AN37 -> 0 | AP17: =AN17+AP39 -> 0
B18: =$P$1+MROUND(ROUNDDOWN(R4*$I$1,-1),50) -> 2300 | D18: =B18-$P$1 -> 1000 | F18: =IF((R5)<=8,P1,P1+ROUND(INT(((R5-8)*I1)),-1)) -> 1300 | H18: =IF((R7)<=8,P1,P1+ROUND(INT(((R7-8)*I1)),-1)) -> 1300 | J18: =IF((R9)<=8,P1,P1+ROUND(INT(((R9-8)*I1)),-1)) -> 1300 | L18: =IF((R11)<=8,P1,P1+ROUND(INT(((R11-8)*I1)),-1)) -> 1300 | N18: =IF((R13)<=8,P1,P1+ROUND(INT(((R13-8)*I1)),-1)) -> 1300 | P18: =IF((R15)<=8,P1,P1+ROUND(INT(((R15-8)*I1)),-1)) -> 1300
A19: =T19 -> 0 | C19: =MROUND(ROUNDDOWN(B20*0.8,-1),50) -> 1850 | E19: =C19-$S$1 -> 800 | G19: =ROUND(F20*0.8,-1) -> 1040 | I19: =ROUND(H20*0.8,-1) -> 1040 | K19: =ROUND(J20*0.8,-1) -> 1040 | M19: =ROUND(L20*0.8,-1) -> 1040 | O19: =ROUND(N20*0.8,-1) -> 1040 | Q19: =ROUND(P20*0.8,-1) -> 1040 | S19: =ROUND(R20*0.8,-1) -> 1040 | X19: =V19+X21 -> 0 | Z19: =X19+Z23 -> 0 | AB19: =Z19+AB25 -> 0 | AD19: =AB19+AD27 -> 0 | AF19: =AD19+AF29 -> 0 | AH19: =AF19+AH31 -> 0 | AJ19: =AH19+AJ33 -> 0 | AL19: =AJ19+AL35 -> 0 | AN19: =AL19+AN37 -> 0 | AP19: =AN19+AP39 -> 0
B20: =$P$1+MROUND(ROUNDDOWN(T4*$I$1,-1),50) -> 2300 | D20: =B20-$P$1 -> 1000 | F20: =IF((T5)<=8,P1,P1+ROUND(INT(((T5-8)*I1)),-1)) -> 1300 | H20: =IF((T7)<=8,P1,P1+ROUND(INT(((T7-8)*I1)),-1)) -> 1300 | J20: =IF((T9)<=8,P1,P1+ROUND(INT(((T9-8)*I1)),-1)) -> 1300 | L20: =IF((T11)<=8,P1,P1+ROUND(INT(((T11-8)*I1)),-1)) -> 1300 | N20: =IF((T13)<=8,P1,P1+ROUND(INT(((T13-8)*I1)),-1)) -> 1300 | P20: =IF((T15)<=8,P1,P1+ROUND(INT(((T15-8)*I1)),-1)) -> 1300 | R20: =IF((T17)<=8,P1,P1+ROUND(INT(((T17-8)*I1)),-1)) -> 1300
A21: =V21 -> 0 | C21: =MROUND(ROUNDDOWN(B22*0.8,-1),50) -> 1850 | E21: =C21-$S$1 -> 800 | G21: =ROUND(F22*0.8,-1) -> 1040 | I21: =ROUND(H22*0.8,-1) -> 1040 | K21: =ROUND(J22*0.8,-1) -> 1040 | M21: =ROUND(L22*0.8,-1) -> 1040 | O21: =ROUND(N22*0.8,-1) -> 1040 | Q21: =ROUND(P22*0.8,-1) -> 1040 | S21: =ROUND(R22*0.8,-1) -> 1040 | U21: =ROUND(T22*0.8,-1) -> 1040 | Z21: =X21+Z23 -> 0 | AB21: =Z21+AB25 -> 0 | AD21: =AB21+AD27 -> 0 | AF21: =AD21+AF29 -> 0 | AH21: =AF21+AH31 -> 0 | AJ21: =AH21+AJ33 -> 0 | AL21: =AJ21+AL35 -> 0 | AN21: =AL21+AN37 -> 0 | AP21: =AN21+AP39 -> 0
B22: =$P$1+MROUND(ROUNDDOWN(V4*$I$1,-1),50) -> 2300 | D22: =B22-$P$1 -> 1000 | F22: =IF((V5)<=8,P1,P1+ROUND(INT(((V5-8)*I1)),-1)) -> 1300 | H22: =IF((V7)<=8,P1,P1+ROUND(INT(((V7-8)*I1)),-1)) -> 1300 | J22: =IF((V9)<=8,P1,P1+ROUND(INT(((V9-8)*I1)),-1)) -> 1300 | L22: =IF((V11)<=8,P1,P1+ROUND(INT(((V11-8)*I1)),-1)) -> 1300 | N22: =IF((V13)<=8,P1,P1+ROUND(INT(((V13-8)*I1)),-1)) -> 1300 | P22: =IF((V15)<=8,P1,P1+ROUND(INT(((V15-8)*I1)),-1)) -> 1300 | R22: =IF((V17)<=8,P1,P1+ROUND(INT(((V17-8)*I1)),-1)) -> 1300 | T22: =IF((V19)<=8,P1,P1+ROUND(INT(((V19-8)*I1)),-1)) -> 1300
A23: =X23 -> 0 | C23: =MROUND(ROUNDDOWN(B24*0.8,-1),50) -> 1850 | E23: =C23-$S$1 -> 800 | G23: =ROUND(F24*0.8,-1) -> 1040 | I23: =ROUND(H24*0.8,-1) -> 1040 | K23: =ROUND(J24*0.8,-1) -> 1040 | M23: =ROUND(L24*0.8,-1) -> 1040 | O23: =ROUND(N24*0.8,-1) -> 1040 | Q23: =ROUND(P24*0.8,-1) -> 1040 | S23: =ROUND(R24*0.8,-1) -> 1040 | U23: =ROUND(T24*0.8,-1) -> 1040 | W23: =ROUND(V24*0.8,-1) -> 1040 | AB23: =Z23+AB25 -> 0 | AD23: =AB23+AD27 -> 0 | AF23: =AD23+AF29 -> 0 | AH23: =AF23+AH31 -> 0 | AJ23: =AH23+AJ33 -> 0 | AL23: =AJ23+AL35 -> 0 | AN23: =AL23+AN37 -> 0 | AP23: =AN23+AP39 -> 0
B24: =$P$1+MROUND(ROUNDDOWN(X4*$I$1,-1),50) -> 2300 | D24: =B24-$P$1 -> 1000 | F24: =IF((X5)<=8,P1,P1+ROUND(INT(((X5-8)*I1)),-1)) -> 1300 | H24: =IF((X7)<=8,P1,P1+ROUND(INT(((X7-8)*I1)),-1)) -> 1300 | J24: =IF((X9)<=8,P1,P1+ROUND(INT(((X9-8)*I1)),-1)) -> 1300 | L24: =IF((X11)<=8,P1,P1+ROUND(INT(((X11-8)*I1)),-1)) -> 1300 | N24: =IF((X13)<=8,P1,P1+ROUND(INT(((X13-8)*I1)),-1)) -> 1300 | P24: =IF((X15)<=8,P1,P1+ROUND(INT(((X15-8)*I1)),-1)) -> 1300 | R24: =IF((X17)<=8,P1,P1+ROUND(INT(((X17-8)*I1)),-1)) -> 1300 | T24: =IF((X19)<=8,P1,P1+ROUND(INT(((X19-8)*I1)),-1)) -> 1300 | V24: =IF((X21)<=8,P1,P1+ROUND(INT(((X21-8)*I1)),-1)) -> 1300
A25: =Z25 -> 0 | C25: =MROUND(ROUNDDOWN(B26*0.8,-1),50) -> 1850 | E25: =C25-$S$1 -> 800 | G25: =ROUND(F26*0.8,-1) -> 1040 | I25: =ROUND(H26*0.8,-1) -> 1040 | K25: =ROUND(J26*0.8,-1) -> 1040 | M25: =ROUND(L26*0.8,-1) -> 1040 | O25: =ROUND(N26*0.8,-1) -> 1040 | Q25: =ROUND(P26*0.8,-1) -> 1040 | S25: =ROUND(R26*0.8,-1) -> 1040 | U25: =ROUND(T26*0.8,-1) -> 1040 | W25: =ROUND(V26*0.8,-1) -> 1040 | Y25: =ROUND(X26*0.8,-1) -> 1040 | AD25: =AB25+AD27 -> 0 | AF25: =AD25+AF29 -> 0 | AH25: =AF25+AH31 -> 0 | AJ25: =AH25+AJ33 -> 0 | AL25: =AJ25+AL35 -> 0 | AN25: =AL25+AN37 -> 0 | AP25: =AN25+AP39 -> 0
B26: =$P$1+MROUND(ROUNDDOWN(Z4*$I$1,-1),50) -> 2300 | D26: =B26-$P$1 -> 1000 | F26: =IF((Z5)<=8,P1,P1+ROUND(INT(((Z5-8)*I1)),-1)) -> 1300 | H26: =IF((Z7)<=8,P1,P1+ROUND(INT(((Z7-8)*I1)),-1)) -> 1300 | J26: =IF((Z9)<=8,P1,P1+ROUND(INT(((Z9-8)*I1)),-1)) -> 1300 | L26: =IF((Z11)<=8,P1,P1+ROUND(INT(((Z11-8)*I1)),-1)) -> 1300 | N26: =IF((Z13)<=8,P1,P1+ROUND(INT(((Z13-8)*I1)),-1)) -> 1300 | P26: =IF((Z15)<=8,P1,P1+ROUND(INT(((Z15-8)*I1)),-1)) -> 1300 | R26: =IF((Z17)<=8,P1,P1+ROUND(INT(((Z17-8)*I1)),-1)) -> 1300 | T26: =IF((Z19)<=8,P1,P1+ROUND(INT(((Z19-8)*I1)),-1)) -> 1300 | V26: =IF((Z21)<=8,P1,P1+ROUND(INT(((Z21-8)*I1)),-1)) -> 1300 | X26: =IF((Z23)<=8,P1,P1+ROUND(INT(((Z23-8)*I1)),-1)) -> 1300
A27: =AB27 -> 0 | C27: =MROUND(ROUNDDOWN(B28*0.8,-1),50) -> 1850 | E27: =C27-$S$1 -> 800 | G27: =ROUND(F28*0.8,-1) -> 1040 | I27: =ROUND(H28*0.8,-1) -> 1040 | K27: =ROUND(J28*0.8,-1) -> 1040 | M27: =ROUND(L28*0.8,-1) -> 1040 | O27: =ROUND(N28*0.8,-1) -> 1040 | Q27: =ROUND(P28*0.8,-1) -> 1040 | S27: =ROUND(R28*0.8,-1) -> 1040 | U27: =ROUND(T28*0.8,-1) -> 1040 | W27: =ROUND(V28*0.8,-1) -> 1040 | Y27: =ROUND(X28*0.8,-1) -> 1040 | AA27: =ROUND(Z28*0.8,-1) -> 1040 | AF27: =AD27+AF29 -> 0 | AH27: =AF27+AH31 -> 0 | AJ27: =AH27+AJ33 -> 0 | AL27: =AJ27+AL35 -> 0 | AN27: =AL27+AN37 -> 0 | AP27: =AN27+AP39 -> 0
B28: =$P$1+MROUND(ROUNDDOWN(AB4*$I$1,-1),50) -> 2300 | D28: =B28-$P$1 -> 1000 | F28: =IF((AB5)<=8,P1,P1+ROUND(INT(((AB5-8)*I1)),-1)) -> 1300 | H28: =IF((AB7)<=8,P1,P1+ROUND(INT(((AB7-8)*I1)),-1)) -> 1300 | J28: =IF((AB9)<=8,P1,P1+ROUND(INT(((AB9-8)*I1)),-1)) -> 1300 | L28: =IF((AB11)<=8,P1,P1+ROUND(INT(((AB11-8)*I1)),-1)) -> 1300 | N28: =IF((AB13)<=8,P1,P1+ROUND(INT(((AB13-8)*I1)),-1)) -> 1300 | P28: =IF((AB15)<=8,P1,P1+ROUND(INT(((AB15-8)*I1)),-1)) -> 1300 | R28: =IF((AB17)<=8,P1,P1+ROUND(INT(((AB17-8)*I1)),-1)) -> 1300 | T28: =IF((AB19)<=8,P1,P1+ROUND(INT(((AB19-8)*I1)),-1)) -> 1300 | V28: =IF((AB21)<=8,P1,P1+ROUND(INT(((AB21-8)*I1)),-1)) -> 1300 | X28: =IF((AB23)<=8,P1,P1+ROUND(INT(((AB23-8)*I1)),-1)) -> 1300 | Z28: =IF((AB25)<=8,P1,P1+ROUND(INT(((AB25-8)*I1)),-1)) -> 1300
A29: =AD29 -> 0 | C29: =MROUND(ROUNDDOWN(B30*0.8,-1),50) -> 1850 | E29: =C29-$S$1 -> 800 | G29: =ROUND(F30*0.8,-1) -> 1040 | I29: =ROUND(H30*0.8,-1) -> 1040 | K29: =ROUND(J30*0.8,-1) -> 1040 | M29: =ROUND(L30*0.8,-1) -> 1040 | O29: =ROUND(N30*0.8,-1) -> 1040 | Q29: =ROUND(P30*0.8,-1) -> 1040 | S29: =ROUND(R30*0.8,-1) -> 1040 | U29: =ROUND(T30*0.8,-1) -> 1040 | W29: =ROUND(V30*0.8,-1) -> 1040 | Y29: =ROUND(X30*0.8,-1) -> 1040 | AA29: =ROUND(Z30*0.8,-1) -> 1040 | AC29: =ROUND(AB30*0.8,-1) -> 1040 | AH29: =AF29+AH31 -> 0 | AJ29: =AH29+AJ33 -> 0 | AL29: =AJ29+AL35 -> 0 | AN29: =AL29+AN37 -> 0 | AP29: =AN29+AP39 -> 0
B30: =$P$1+MROUND(ROUNDDOWN(AD4*$I$1,-1),50) -> 2300 | D30: =B30-$P$1 -> 1000 | F30: =IF((AD5)<=8,P1,P1+ROUND(INT(((AD5-8)*I1)),-1)) -> 1300 | H30: =IF((AD7)<=8,P1,P1+ROUND(INT(((AD7-8)*I1)),-1)) -> 1300 | J30: =IF((AD9)<=8,P1,P1+ROUND(INT(((AD9-8)*I1)),-1)) -> 1300 | L30: =IF((AD11)<=8,P1,P1+ROUND(INT(((AD11-8)*I1)),-1)) -> 1300 | N30: =IF((AD13)<=8,P1,P1+ROUND(INT(((AD13-8)*I1)),-1)) -> 1300 | P30: =IF((AD15)<=8,P1,P1+ROUND(INT(((AD15-8)*I1)),-1)) -> 1300 | R30: =IF((AD17)<=8,P1,P1+ROUND(INT(((AD17-8)*I1)),-1)) -> 1300 | T30: =IF((AD19)<=8,P1,P1+ROUND(INT(((AD19-8)*I1)),-1)) -> 1300 | V30: =IF((AD21)<=8,P1,P1+ROUND(INT(((AD21-8)*I1)),-1)) -> 1300 | X30: =IF((AD23)<=8,P1,P1+ROUND(INT(((AD23-8)*I1)),-1)) -> 1300 | Z30: =IF((AD25)<=8,P1,P1+ROUND(INT(((AD25-8)*I1)),-1)) -> 1300 | AB30: =IF((AD27)<=8,P1,P1+ROUND(INT(((AD27-8)*I1)),-1)) -> 1300
A31: =AF31 -> 0 | C31: =MROUND(ROUNDDOWN(B32*0.8,-1),50) -> 1850 | E31: =C31-$S$1 -> 800 | G31: =ROUND(F32*0.8,-1) -> 1040 | I31: =ROUND(H32*0.8,-1) -> 1040 | K31: =ROUND(J32*0.8,-1) -> 1040 | M31: =ROUND(L32*0.8,-1) -> 1040 | O31: =ROUND(N32*0.8,-1) -> 1040 | Q31: =ROUND(P32*0.8,-1) -> 1040 | S31: =ROUND(R32*0.8,-1) -> 1040 | U31: =ROUND(T32*0.8,-1) -> 1040 | W31: =ROUND(V32*0.8,-1) -> 1040 | Y31: =ROUND(X32*0.8,-1) -> 1040 | AA31: =ROUND(Z32*0.8,-1) -> 1040 | AC31: =ROUND(AB32*0.8,-1) -> 1040 | AE31: =ROUND(AD32*0.8,-1) -> 1040 | AJ31: =AH31+AJ33 -> 0 | AL31: =AJ31+AL35 -> 0 | AN31: =AL31+AN37 -> 0 | AP31: =AN31+AP39 -> 0
B32: =$P$1+MROUND(ROUNDDOWN(AF4*$I$1,-1),50) -> 2300 | D32: =B32-$P$1 -> 1000 | F32: =IF((AF5)<=8,P1,P1+ROUND(INT(((AF5-8)*I1)),-1)) -> 1300 | H32: =IF((AF7)<=8,P1,P1+ROUND(INT(((AF7-8)*I1)),-1)) -> 1300 | J32: =IF((AF9)<=8,P1,P1+ROUND(INT(((AF9-8)*I1)),-1)) -> 1300 | L32: =IF((AF11)<=8,P1,P1+ROUND(INT(((AF11-8)*I1)),-1)) -> 1300 | N32: =IF((AF13)<=8,P1,P1+ROUND(INT(((AF13-8)*I1)),-1)) -> 1300 | P32: =IF((AF15)<=8,P1,P1+ROUND(INT(((AF15-8)*I1)),-1)) -> 1300 | R32: =IF((AF17)<=8,P1,P1+ROUND(INT(((AF17-8)*I1)),-1)) -> 1300 | T32: =IF((AF19)<=8,P1,P1+ROUND(INT(((AF19-8)*I1)),-1)) -> 1300 | V32: =IF((AF21)<=8,P1,P1+ROUND(INT(((AF21-8)*I1)),-1)) -> 1300 | X32: =IF((AF23)<=8,P1,P1+ROUND(INT(((AF23-8)*I1)),-1)) -> 1300 | Z32: =IF((AF25)<=8,P1,P1+ROUND(INT(((AF25-8)*I1)),-1)) -> 1300 | AB32: =IF((AF27)<=8,P1,P1+ROUND(INT(((AF27-8)*I1)),-1)) -> 1300 | AD32: =IF((AF29)<=8,P1,P1+ROUND(INT(((AF29-8)*I1)),-1)) -> 1300
A33: =AH33 -> 0 | C33: =MROUND(ROUNDDOWN(B34*0.8,-1),50) -> 1850 | E33: =C33-$S$1 -> 800 | G33: =ROUND(F34*0.8,-1) -> 1040 | I33: =ROUND(H34*0.8,-1) -> 1040 | K33: =ROUND(J34*0.8,-1) -> 1040 | M33: =ROUND(L34*0.8,-1) -> 1040 | O33: =ROUND(N34*0.8,-1) -> 1040 | Q33: =ROUND(P34*0.8,-1) -> 1040 | S33: =ROUND(R34*0.8,-1) -> 1040 | U33: =ROUND(T34*0.8,-1) -> 1040 | W33: =ROUND(V34*0.8,-1) -> 1040 | Y33: =ROUND(X34*0.8,-1) -> 1040 | AA33: =ROUND(Z34*0.8,-1) -> 1040 | AC33: =ROUND(AB34*0.8,-1) -> 1040 | AE33: =ROUND(AD34*0.8,-1) -> 1040 | AG33: =ROUND(AF34*0.8,-1) -> 1040 | AL33: =AJ33+AL35 -> 0 | AN33: =AL33+AN37 -> 0 | AP33: =AN33+AP39 -> 0
B34: =$P$1+MROUND(ROUNDDOWN(AH4*$I$1,-1),50) -> 2300 | D34: =B34-$P$1 -> 1000 | F34: =IF((AH5)<=8,P1,P1+ROUND(INT(((AH5-8)*I1)),-1)) -> 1300 | H34: =IF((AH7)<=8,P1,P1+ROUND(INT(((AH7-8)*I1)),-1)) -> 1300 | J34: =IF((AH9)<=8,P1,P1+ROUND(INT(((AH9-8)*I1)),-1)) -> 1300 | L34: =IF((AH11)<=8,P1,P1+ROUND(INT(((AH11-8)*I1)),-1)) -> 1300 | N34: =IF((AH13)<=8,P1,P1+ROUND(INT(((AH13-8)*I1)),-1)) -> 1300 | P34: =IF((AH15)<=8,P1,P1+ROUND(INT(((AH15-8)*I1)),-1)) -> 1300 | R34: =IF((AH17)<=8,P1,P1+ROUND(INT(((AH17-8)*I1)),-1)) -> 1300 | T34: =IF((AH19)<=8,P1,P1+ROUND(INT(((AH19-8)*I1)),-1)) -> 1300 | V34: =IF((AH21)<=8,P1,P1+ROUND(INT(((AH21-8)*I1)),-1)) -> 1300 | X34: =IF((AH23)<=8,P1,P1+ROUND(INT(((AH23-8)*I1)),-1)) -> 1300 | Z34: =IF((AH25)<=8,P1,P1+ROUND(INT(((AH25-8)*I1)),-1)) -> 1300 | AB34: =IF((AH27)<=8,P1,P1+ROUND(INT(((AH27-8)*I1)),-1)) -> 1300 | AD34: =IF((AH29)<=8,P1,P1+ROUND(INT(((AH29-8)*I1)),-1)) -> 1300 | AF34: =IF((AH31)<=8,P1,P1+ROUND(INT(((AH31-8)*I1)),-1)) -> 1300
A35: =AJ35 -> 0 | C35: =MROUND(ROUNDDOWN(B36*0.8,-1),50) -> 1850 | E35: =C35-$S$1 -> 800 | G35: =ROUND(F36*0.8,-1) -> 1040 | I35: =ROUND(H36*0.8,-1) -> 1040 | K35: =ROUND(J36*0.8,-1) -> 1040 | M35: =ROUND(L36*0.8,-1) -> 1040 | O35: =ROUND(N36*0.8,-1) -> 1040 | Q35: =ROUND(P36*0.8,-1) -> 1040 | S35: =ROUND(R36*0.8,-1) -> 1040 | U35: =ROUND(T36*0.8,-1) -> 1040 | W35: =ROUND(V36*0.8,-1) -> 1040 | Y35: =ROUND(X36*0.8,-1) -> 1040 | AA35: =ROUND(Z36*0.8,-1) -> 1040 | AC35: =ROUND(AB36*0.8,-1) -> 1040 | AE35: =ROUND(AD36*0.8,-1) -> 1040 | AG35: =ROUND(AF36*0.8,-1) -> 1040 | AI35: =ROUND(AH36*0.8,-1) -> 1040 | AN35: =AL35+AN37 -> 0 | AP35: =AN35+AP39 -> 0
B36: =$P$1+MROUND(ROUNDDOWN(AJ4*$I$1,-1),50) -> 2300 | D36: =B36-$P$1 -> 1000 | F36: =IF((AJ5)<=8,P1,P1+ROUND(INT(((AJ5-8)*I1)),-1)) -> 1300 | H36: =IF((AJ7)<=8,P1,P1+ROUND(INT(((AJ7-8)*I1)),-1)) -> 1300 | J36: =IF((AJ9)<=8,P1,P1+ROUND(INT(((AJ9-8)*I1)),-1)) -> 1300 | L36: =IF((AJ11)<=8,P1,P1+ROUND(INT(((AJ11-8)*I1)),-1)) -> 1300 | N36: =IF((AJ13)<=8,P1,P1+ROUND(INT(((AJ13-8)*I1)),-1)) -> 1300 | P36: =IF((AJ15)<=8,P1,P1+ROUND(INT(((AJ15-8)*I1)),-1)) -> 1300 | R36: =IF((AJ17)<=8,P1,P1+ROUND(INT(((AJ17-8)*I1)),-1)) -> 1300 | T36: =IF((AJ19)<=8,P1,P1+ROUND(INT(((AJ19-8)*I1)),-1)) -> 1300 | V36: =IF((AJ21)<=8,P1,P1+ROUND(INT(((AJ21-8)*I1)),-1)) -> 1300 | X36: =IF((AJ23)<=8,P1,P1+ROUND(INT(((AJ23-8)*I1)),-1)) -> 1300 | Z36: =IF((AJ25)<=8,P1,P1+ROUND(INT(((AJ25-8)*I1)),-1)) -> 1300 | AB36: =IF((AJ27)<=8,P1,P1+ROUND(INT(((AJ27-8)*I1)),-1)) -> 1300 | AD36: =IF((AJ29)<=8,P1,P1+ROUND(INT(((AJ29-8)*I1)),-1)) -> 1300 | AF36: =IF((AJ31)<=8,P1,P1+ROUND(INT(((AJ31-8)*I1)),-1)) -> 1300 | AH36: =IF((AJ33)<=8,P1,P1+ROUND(INT(((AJ33-8)*I1)),-1)) -> 1300
A37: =AL37 -> 0 | C37: =MROUND(ROUNDDOWN(B38*0.8,-1),50) -> 1850 | E37: =C37-$S$1 -> 800 | G37: =ROUND(F38*0.8,-1) -> 1040 | I37: =ROUND(H38*0.8,-1) -> 1040 | K37: =ROUND(J38*0.8,-1) -> 1040 | M37: =ROUND(L38*0.8,-1) -> 1040 | O37: =ROUND(N38*0.8,-1) -> 1040 | Q37: =ROUND(P38*0.8,-1) -> 1040 | S37: =ROUND(R38*0.8,-1) -> 1040 | U37: =ROUND(T38*0.8,-1) -> 1040 | W37: =ROUND(V38*0.8,-1) -> 1040 | Y37: =ROUND(X38*0.8,-1) -> 1040 | AA37: =ROUND(Z38*0.8,-1) -> 1040 | AC37: =ROUND(AB38*0.8,-1) -> 1040 | AE37: =ROUND(AD38*0.8,-1) -> 1040 | AG37: =ROUND(AF38*0.8,-1) -> 1040 | AI37: =ROUND(AH38*0.8,-1) -> 1040 | AK37: =ROUND(AJ38*0.8,-1) -> 1040 | AP37: =AN37+AP39 -> 0
B38: =$P$1+MROUND(ROUNDDOWN(AL4*$I$1,-1),50) -> 2300 | D38: =B38-$P$1 -> 1000 | F38: =IF((AL5)<=8,P1,P1+ROUND(INT(((AL5-8)*I1)),-1)) -> 1300 | H38: =IF((AL7)<=8,P1,P1+ROUND(INT(((AL7-8)*I1)),-1)) -> 1300 | J38: =IF((AL9)<=8,P1,P1+ROUND(INT(((AL9-8)*I1)),-1)) -> 1300 | L38: =IF((AL11)<=8,P1,P1+ROUND(INT(((AL11-8)*I1)),-1)) -> 1300 | N38: =IF((AL13)<=8,P1,P1+ROUND(INT(((AL13-8)*I1)),-1)) -> 1300 | P38: =IF((AL15)<=8,P1,P1+ROUND(INT(((AL15-8)*I1)),-1)) -> 1300 | R38: =IF((AL17)<=8,P1,P1+ROUND(INT(((AL17-8)*I1)),-1)) -> 1300 | T38: =IF((AL19)<=8,P1,P1+ROUND(INT(((AL19-8)*I1)),-1)) -> 1300 | V38: =IF((AL21)<=8,P1,P1+ROUND(INT(((AL21-8)*I1)),-1)) -> 1300 | X38: =IF((AL23)<=8,P1,P1+ROUND(INT(((AL23-8)*I1)),-1)) -> 1300 | Z38: =IF((AL25)<=8,P1,P1+ROUND(INT(((AL25-8)*I1)),-1)) -> 1300 | AB38: =IF((AL27)<=8,P1,P1+ROUND(INT(((AL27-8)*I1)),-1)) -> 1300 | AD38: =IF((AL29)<=8,P1,P1+ROUND(INT(((AL29-8)*I1)),-1)) -> 1300 | AF38: =IF((AL31)<=8,P1,P1+ROUND(INT(((AL31-8)*I1)),-1)) -> 1300 | AH38: =IF((AL33)<=8,P1,P1+ROUND(INT(((AL33-8)*I1)),-1)) -> 1300 | AJ38: =IF((AL35)<=8,P1,P1+ROUND(INT(((AL35-8)*I1)),-1)) -> 1300
A39: =AN39 -> 0 | C39: =MROUND(ROUNDDOWN(B40*0.8,-1),50) -> 1850 | E39: =C39-$S$1 -> 800 | G39: =ROUND(F40*0.8,-1) -> 1040 | I39: =ROUND(H40*0.8,-1) -> 1040 | K39: =ROUND(J40*0.8,-1) -> 1040 | M39: =ROUND(L40*0.8,-1) -> 1040 | O39: =ROUND(N40*0.8,-1) -> 1040 | Q39: =ROUND(P40*0.8,-1) -> 1040 | S39: =ROUND(R40*0.8,-1) -> 1040 | U39: =ROUND(T40*0.8,-1) -> 1040 | W39: =ROUND(V40*0.8,-1) -> 1040 | Y39: =ROUND(X40*0.8,-1) -> 1040 | AA39: =ROUND(Z40*0.8,-1) -> 1040 | AC39: =ROUND(AB40*0.8,-1) -> 1040 | AE39: =ROUND(AD40*0.8,-1) -> 1040 | AG39: =ROUND(AF40*0.8,-1) -> 1040 | AI39: =ROUND(AH40*0.8,-1) -> 1040 | AK39: =ROUND(AJ40*0.8,-1) -> 1040 | AM39: =ROUND(AL40*0.8,-1) -> 1040
B40: =$P$1+MROUND(ROUNDDOWN(AN4*$I$1,-1),50) -> 2300 | D40: =B40-$P$1 -> 1000 | F40: =IF((AN5)<=8,P1,P1+ROUND(INT(((AN5-8)*I1)),-1)) -> 1300 | H40: =IF((AN7)<=8,P1,P1+ROUND(INT(((AN7-8)*I1)),-1)) -> 1300 | J40: =IF((AN9)<=8,P1,P1+ROUND(INT(((AN9-8)*I1)),-1)) -> 1300 | L40: =IF((AN11)<=8,P1,P1+ROUND(INT(((AN11-8)*I1)),-1)) -> 1300 | N40: =IF((AN13)<=8,P1,P1+ROUND(INT(((AN13-8)*I1)),-1)) -> 1300 | P40: =IF((AN15)<=8,P1,P1+ROUND(INT(((AN15-8)*I1)),-1)) -> 1300 | R40: =IF((AN17)<=8,P1,P1+ROUND(INT(((AN17-8)*I1)),-1)) -> 1300 | T40: =IF((AN19)<=8,P1,P1+ROUND(INT(((AN19-8)*I1)),-1)) -> 1300 | V40: =IF((AN21)<=8,P1,P1+ROUND(INT(((AN21-8)*I1)),-1)) -> 1300 | X40: =IF((AN23)<=8,P1,P1+ROUND(INT(((AN23-8)*I1)),-1)) -> 1300 | Z40: =IF((AN25)<=8,P1,P1+ROUND(INT(((AN25-8)*I1)),-1)) -> 1300 | AB40: =IF((AN27)<=8,P1,P1+ROUND(INT(((AN27-8)*I1)),-1)) -> 1300 | AD40: =IF((AN29)<=8,P1,P1+ROUND(INT(((AN29-8)*I1)),-1)) -> 1300 | AF40: =IF((AN31)<=8,P1,P1+ROUND(INT(((AN31-8)*I1)),-1)) -> 1300 | AH40: =IF((AN33)<=8,P1,P1+ROUND(INT(((AN33-8)*I1)),-1)) -> 1300 | AJ40: =IF((AN35)<=8,P1,P1+ROUND(INT(((AN35-8)*I1)),-1)) -> 1300 | AL40: =IF((AN37)<=8,P1,P1+ROUND(INT(((AN37-8)*I1)),-1)) -> 1300
A41: =AP41 -> 0 | C41: =MROUND(ROUNDDOWN(B42*0.8,-1),50) -> 1850 | E41: =C41-$S$1 -> 800 | G41: =ROUND(F42*0.8,-1) -> 1040 | I41: =ROUND(H42*0.8,-1) -> 1040 | K41: =ROUND(J42*0.8,-1) -> 1040 | M41: =ROUND(L42*0.8,-1) -> 1040 | O41: =ROUND(N42*0.8,-1) -> 1040 | Q41: =ROUND(P42*0.8,-1) -> 1040 | S41: =ROUND(R42*0.8,-1) -> 1040 | U41: =ROUND(T42*0.8,-1) -> 1040 | W41: =ROUND(V42*0.8,-1) -> 1040 | Y41: =ROUND(X42*0.8,-1) -> 1040 | AA41: =ROUND(Z42*0.8,-1) -> 1040 | AC41: =ROUND(AB42*0.8,-1) -> 1040 | AE41: =ROUND(AD42*0.8,-1) -> 1040 | AG41: =ROUND(AF42*0.8,-1) -> 1040 | AI41: =ROUND(AH42*0.8,-1) -> 1040 | AK41: =ROUND(AJ42*0.8,-1) -> 1040 | AM41: =ROUND(AL42*0.8,-1) -> 1040 | AO41: =ROUND(AN42*0.8,-1) -> 1040
B42: =$P$1+MROUND(ROUNDDOWN(AP4*$I$1,-1),50) -> 2300 | D42: =B42-$P$1 -> 1000 | F42: =IF((AP5)<=8,P1,P1+ROUND(INT(((AP5-8)*I1)),-1)) -> 1300 | H42: =IF((AP7)<=8,P1,P1+ROUND(INT(((AP7-8)*I1)),-1)) -> 1300 | J42: =IF((AP9)<=8,P1,P1+ROUND(INT(((AP9-8)*I1)),-1)) -> 1300 | L42: =IF((AP11)<=8,P1,P1+ROUND(INT(((AP11-8)*I1)),-1)) -> 1300 | N42: =IF((AP13)<=8,P1,P1+ROUND(INT(((AP13-8)*I1)),-1)) -> 1300 | P42: =IF((AP15)<=8,P1,P1+ROUND(INT(((AP15-8)*I1)),-1)) -> 1300 | R42: =IF((AP17)<=8,P1,P1+ROUND(INT(((AP17-8)*I1)),-1)) -> 1300 | T42: =IF((AP19)<=8,P1,P1+ROUND(INT(((AP19-8)*I1)),-1)) -> 1300 | V42: =IF((AP21)<=8,P1,P1+ROUND(INT(((AP21-8)*I1)),-1)) -> 1300 | X42: =IF((AP23)<=8,P1,P1+ROUND(INT(((AP23-8)*I1)),-1)) -> 1300 | Z42: =IF((AP25)<=8,P1,P1+ROUND(INT(((AP25-8)*I1)),-1)) -> 1300 | AB42: =IF((AP27)<=8,P1,P1+ROUND(INT(((AP27-8)*I1)),-1)) -> 1300 | AD42: =IF((AP29)<=8,P1,P1+ROUND(INT(((AP29-8)*I1)),-1)) -> 1300 | AF42: =IF((AP31)<=8,P1,P1+ROUND(INT(((AP31-8)*I1)),-1)) -> 1300 | AH42: =IF((AP33)<=8,P1,P1+ROUND(INT(((AP33-8)*I1)),-1)) -> 1300 | AJ42: =IF((AP35)<=8,P1,P1+ROUND(INT(((AP35-8)*I1)),-1)) -> 1300 | AL42: =IF((AP37)<=8,P1,P1+ROUND(INT(((AP37-8)*I1)),-1)) -> 1300 | AN42: =IF((AP39)<=8,P1,P1+ROUND(INT(((AP39-8)*I1)),-1)) -> 1300
C43: =MROUND(ROUNDDOWN(B44*0.8,-1),50) -> 1050
B44: =$P$1+MROUND(ROUNDDOWN(AR4*$I$1,-1),50) -> 1300

Sheet 79 금산사
H1: 요율 | I1: =기본요금!C5 -> 116.14 | N1: 기본요금 | P1: =기본요금!C6 -> 1300 | R1: 중고생 | S1: =기본요금!C7 -> 1050 | V1: 기본요금거리 | X1: =기본요금!C8 -> 8
A2: 전주- 독배-금산사(노선번호 : 79번)
A3: 승강장명 | B3: 요금 | F3: 구간요금적용지역 (김제지역) | N3: =$B$3+N4 -> #VALUE! | P3: =$B$3+P4 -> #VALUE! | R3: =$B$3+R4 -> #VALUE! | T3: =$B$3+T4 -> #VALUE! | V3: =$B$3+V4 -> #VALUE! | X3: =$B$3+X4 -> #VALUE! | Z3: =$B$3+Z4 -> #VALUE! | AB3: =$B$3+AB4 -> #VALUE! | AD3: =$B$3+AD4 -> #VALUE! | AF3: =$B$3+AF4 -> #VALUE! | AH3: =$B$3+AH4 -> #VALUE! | AJ3: =$B$3+AJ4 -> #VALUE! | AL3: =$B$3+AL4 -> #VALUE! | AN3: =$B$3+AN4 -> #VALUE! | AP3: =$B$3+AP4 -> #VALUE!
A4: 전주 독배 | D4: 추가요금 | F4: 2.4 | H4: =+F4+H5 -> 3.2 | J4: =+H4+J7 -> 5.2 | L4: =J4+L9 -> 6.3 | N4: =L4+N11 -> 6.3 | P4: =+N4+P13 -> 6.3 | R4: =+P4+R15 -> 6.3 | T4: =+R4+T17 -> 6.3 | V4: =+T4+V19 -> 6.3 | X4: =+V4+X21 -> 6.3 | Z4: =+X4+Z23 -> 6.3 | AB4: =+Z4+AB25 -> 6.3 | AD4: =+AB4+AD27 -> 6.3 | AF4: =+AD4+AF29 -> 6.3 | AH4: =+AF4+AH31 -> 6.3 | AJ4: =+AH4+AJ33 -> 6.3 | AL4: =+AJ4+AL35 -> 6.3 | AN4: =+AL4+AN37 -> 6.3 | AP4: =+AN4+AP39 -> 6.3
A5: =F5 -> 유각 | C5: =MROUND(ROUNDDOWN(B6*0.8,-1),50) -> 1250 | E5: =C5-$S$1 -> 200 | F5: 유각 | H5: 0.8 | J5: =H5+J7 -> 2.8 | L5: =J5+L9 -> 3.9 | N5: =L5+N11 -> 3.9 | P5: =N5+P13 -> 3.9 | R5: =P5+R15 -> 3.9 | T5: =R5+T17 -> 3.9 | V5: =T5+V19 -> 3.9 | X5: =V5+X21 -> 3.9 | Z5: =X5+Z23 -> 3.9 | AB5: =Z5+AB25 -> 3.9 | AD5: =AB5+AD27 -> 3.9 | AF5: =AD5+AF29 -> 3.9 | AH5: =AF5+AH31 -> 3.9 | AJ5: =AH5+AJ33 -> 3.9 | AL5: =AJ5+AL35 -> 3.9 | AN5: =AL5+AN37 -> 3.9 | AP5: =AN5+AP39 -> 3.9
B6: =$P$1+MROUND(ROUNDDOWN(F4*$I$1,-1),50) -> 1550 | D6: =B6-$P$1 -> 250
A7: =H7 -> 청도리 | C7: =MROUND(ROUNDDOWN(B8*0.8,-1),50) -> 1300 | E7: =C7-$S$1 -> 250 | G7: =ROUND(F8*0.8,-1) -> 1040 | H7: 청도리 | J7: 2 | L7: =J7+L9 -> 3.1 | N7: =L7+N11 -> 3.1 | P7: =N7+P13 -> 3.1 | R7: =P7+R15 -> 3.1 | T7: =R7+T17 -> 3.1 | V7: =T7+V19 -> 3.1 | X7: =V7+X21 -> 3.1 | Z7: =X7+Z23 -> 3.1 | AB7: =Z7+AB25 -> 3.1 | AD7: =AB7+AD27 -> 3.1 | AF7: =AD7+AF29 -> 3.1 | AH7: =AF7+AH31 -> 3.1 | AJ7: =AH7+AJ33 -> 3.1 | AL7: =AJ7+AL35 -> 3.1 | AN7: =AL7+AN37 -> 3.1 | AP7: =AN7+AP39 -> 3.1
B8: =$P$1+MROUND(ROUNDDOWN(H4*$I$1,-1),50) -> 1650 | D8: =B8-$P$1 -> 350 | F8: =IF((H5)<=8,P1,P1+ROUND(INT(((H5-8)*I1)),-1)) -> 1300
A9: =J9 -> 하운교 | C9: =MROUND(ROUNDDOWN(B10*0.8,-1),50) -> 1500 | E9: =C9-$S$1 -> 450 | G9: =ROUND(F10*0.8,-1) -> 1040 | I9: =ROUND(H10*0.8,-1) -> 1040 | J9: 하운교 | L9: 1.1 | N9: =L9+N11 -> 1.1 | P9: =N9+P13 -> 1.1 | R9: =P9+R15 -> 1.1 | T9: =R9+T17 -> 1.1 | V9: =T9+V19 -> 1.1 | X9: =V9+X21 -> 1.1 | Z9: =X9+Z23 -> 1.1 | AB9: =Z9+AB25 -> 1.1 | AD9: =AB9+AD27 -> 1.1 | AF9: =AD9+AF29 -> 1.1 | AH9: =AF9+AH31 -> 1.1 | AJ9: =AH9+AJ33 -> 1.1 | AL9: =AJ9+AL35 -> 1.1 | AN9: =AL9+AN37 -> 1.1 | AP9: =AN9+AP39 -> 1.1
B10: =$P$1+MROUND(ROUNDDOWN(J4*$I$1,-1),50) -> 1900 | D10: =B10-$P$1 -> 600 | F10: =IF((J5)<=8,P1,P1+ROUND(INT(((J5-8)*I1)),-1)) -> 1300 | H10: =IF((J7)<=8,P1,P1+ROUND(INT(((J7-8)*I1)),-1)) -> 1300
A11: =L11 -> 금산사 | C11: =MROUND(ROUNDDOWN(B12*0.8,-1),50) -> 1650 | E11: =C11-$S$1 -> 600 | G11: =ROUND(F12*0.8,-1) -> 1040 | I11: =ROUND(H12*0.8,-1) -> 1040 | K11: =ROUND(J12*0.8,-1) -> 1040 | L11: 금산사 | P11: =N11+P13 -> 0 | R11: =P11+R15 -> 0 | T11: =R11+T17 -> 0 | V11: =T11+V19 -> 0 | X11: =V11+X21 -> 0 | Z11: =X11+Z23 -> 0 | AB11: =Z11+AB25 -> 0 | AD11: =AB11+AD27 -> 0 | AF11: =AD11+AF29 -> 0 | AH11: =AF11+AH31 -> 0 | AJ11: =AH11+AJ33 -> 0 | AL11: =AJ11+AL35 -> 0 | AN11: =AL11+AN37 -> 0 | AP11: =AN11+AP39 -> 0
B12: =$P$1+MROUND(ROUNDDOWN(L4*$I$1,-1),50) -> 2050 | D12: =B12-$P$1 -> 750 | F12: =IF((L5)<=8,P1,P1+ROUND(INT(((L5-8)*I1)),-1)) -> 1300 | H12: =IF((L7)<=8,P1,P1+ROUND(INT(((L7-8)*I1)),-1)) -> 1300 | J12: =IF((L9)<=8,P1,P1+ROUND(INT(((L9-8)*I1)),-1)) -> 1300
A13: =N13 -> 0 | C13: =MROUND(ROUNDDOWN(B14*0.8,-1),50) -> 1650 | E13: =C13-$S$1 -> 600 | G13: =ROUND(F14*0.8,-1) -> 1040 | I13: =ROUND(H14*0.8,-1) -> 1040 | K13: =ROUND(J14*0.8,-1) -> 1040 | M13: =ROUND(L14*0.8,-1) -> 1040 | R13: =P13+R15 -> 0 | T13: =R13+T17 -> 0 | V13: =T13+V19 -> 0 | X13: =V13+X21 -> 0 | Z13: =X13+Z23 -> 0 | AB13: =Z13+AB25 -> 0 | AD13: =AB13+AD27 -> 0 | AF13: =AD13+AF29 -> 0 | AH13: =AF13+AH31 -> 0 | AJ13: =AH13+AJ33 -> 0 | AL13: =AJ13+AL35 -> 0 | AN13: =AL13+AN37 -> 0 | AP13: =AN13+AP39 -> 0
B14: =$P$1+MROUND(ROUNDDOWN(N4*$I$1,-1),50) -> 2050 | D14: =B14-$P$1 -> 750 | F14: =IF((N5)<=8,P1,P1+ROUND(INT(((N5-8)*I1)),-1)) -> 1300 | H14: =IF((N7)<=8,P1,P1+ROUND(INT(((N7-8)*I1)),-1)) -> 1300 | J14: =IF((N9)<=8,P1,P1+ROUND(INT(((N9-8)*I1)),-1)) -> 1300 | L14: =IF((N11)<=8,P1,P1+ROUND(INT(((N11-8)*I1)),-1)) -> 1300
A15: =P15 -> 0 | C15: =MROUND(ROUNDDOWN(B16*0.8,-1),50) -> 1650 | E15: =C15-$S$1 -> 600 | G15: =ROUND(F16*0.8,-1) -> 1040 | I15: =ROUND(H16*0.8,-1) -> 1040 | K15: =ROUND(J16*0.8,-1) -> 1040 | M15: =ROUND(L16*0.8,-1) -> 1040 | O15: =ROUND(N16*0.8,-1) -> 1040 | T15: =R15+T17 -> 0 | V15: =T15+V19 -> 0 | X15: =V15+X21 -> 0 | Z15: =X15+Z23 -> 0 | AB15: =Z15+AB25 -> 0 | AD15: =AB15+AD27 -> 0 | AF15: =AD15+AF29 -> 0 | AH15: =AF15+AH31 -> 0 | AJ15: =AH15+AJ33 -> 0 | AL15: =AJ15+AL35 -> 0 | AN15: =AL15+AN37 -> 0 | AP15: =AN15+AP39 -> 0
B16: =$P$1+MROUND(ROUNDDOWN(P4*$I$1,-1),50) -> 2050 | D16: =B16-$P$1 -> 750 | F16: =IF((P5)<=8,P1,P1+ROUND(INT(((R5-8)*I1)),-1)) -> 1300 | H16: =IF((P7)<=8,P1,P1+ROUND(INT(((P7-8)*I1)),-1)) -> 1300 | J16: =IF((P9)<=8,P1,P1+ROUND(INT(((P9-8)*I1)),-1)) -> 1300 | L16: =IF((P11)<=8,P1,P1+ROUND(INT(((P11-8)*I1)),-1)) -> 1300 | N16: =IF((P13)<=8,P1,P1+ROUND(INT(((P13-8)*I1)),-1)) -> 1300
A17: =R17 -> 0 | C17: =MROUND(ROUNDDOWN(B18*0.8,-1),50) -> 1650 | E17: =C17-$S$1 -> 600 | G17: =ROUND(F18*0.8,-1) -> 1040 | I17: =ROUND(H18*0.8,-1) -> 1040 | K17: =ROUND(J18*0.8,-1) -> 1040 | M17: =ROUND(L18*0.8,-1) -> 1040 | O17: =ROUND(N18*0.8,-1) -> 1040 | Q17: =ROUND(P18*0.8,-1) -> 1040 | V17: =T17+V19 -> 0 | X17: =V17+X21 -> 0 | Z17: =X17+Z23 -> 0 | AB17: =Z17+AB25 -> 0 | AD17: =AB17+AD27 -> 0 | AF17: =AD17+AF29 -> 0 | AH17: =AF17+AH31 -> 0 | AJ17: =AH17+AJ33 -> 0 | AL17: =AJ17+AL35 -> 0 | AN17: =AL17+AN37 -> 0 | AP17: =AN17+AP39 -> 0
B18: =$P$1+MROUND(ROUNDDOWN(R4*$I$1,-1),50) -> 2050 | D18: =B18-$P$1 -> 750 | F18: =IF((R5)<=8,P1,P1+ROUND(INT(((R5-8)*I1)),-1)) -> 1300 | H18: =IF((R7)<=8,P1,P1+ROUND(INT(((R7-8)*I1)),-1)) -> 1300 | J18: =IF((R9)<=8,P1,P1+ROUND(INT(((R9-8)*I1)),-1)) -> 1300 | L18: =IF((R11)<=8,P1,P1+ROUND(INT(((R11-8)*I1)),-1)) -> 1300 | N18: =IF((R13)<=8,P1,P1+ROUND(INT(((R13-8)*I1)),-1)) -> 1300 | P18: =IF((R15)<=8,P1,P1+ROUND(INT(((R15-8)*I1)),-1)) -> 1300
A19: =T19 -> 0 | C19: =MROUND(ROUNDDOWN(B20*0.8,-1),50) -> 1650 | E19: =C19-$S$1 -> 600 | G19: =ROUND(F20*0.8,-1) -> 1040 | I19: =ROUND(H20*0.8,-1) -> 1040 | K19: =ROUND(J20*0.8,-1) -> 1040 | M19: =ROUND(L20*0.8,-1) -> 1040 | O19: =ROUND(N20*0.8,-1) -> 1040 | Q19: =ROUND(P20*0.8,-1) -> 1040 | S19: =ROUND(R20*0.8,-1) -> 1040 | X19: =V19+X21 -> 0 | Z19: =X19+Z23 -> 0 | AB19: =Z19+AB25 -> 0 | AD19: =AB19+AD27 -> 0 | AF19: =AD19+AF29 -> 0 | AH19: =AF19+AH31 -> 0 | AJ19: =AH19+AJ33 -> 0 | AL19: =AJ19+AL35 -> 0 | AN19: =AL19+AN37 -> 0 | AP19: =AN19+AP39 -> 0
B20: =$P$1+MROUND(ROUNDDOWN(T4*$I$1,-1),50) -> 2050 | D20: =B20-$P$1 -> 750 | F20: =IF((T5)<=8,P1,P1+ROUND(INT(((T5-8)*I1)),-1)) -> 1300 | H20: =IF((T7)<=8,P1,P1+ROUND(INT(((T7-8)*I1)),-1)) -> 1300 | J20: =IF((T9)<=8,P1,P1+ROUND(INT(((T9-8)*I1)),-1)) -> 1300 | L20: =IF((T11)<=8,P1,P1+ROUND(INT(((T11-8)*I1)),-1)) -> 1300 | N20: =IF((T13)<=8,P1,P1+ROUND(INT(((T13-8)*I1)),-1)) -> 1300 | P20: =IF((T15)<=8,P1,P1+ROUND(INT(((T15-8)*I1)),-1)) -> 1300 | R20: =IF((T17)<=8,P1,P1+ROUND(INT(((T17-8)*I1)),-1)) -> 1300
A21: =V21 -> 0 | C21: =MROUND(ROUNDDOWN(B22*0.8,-1),50) -> 1650 | E21: =C21-$S$1 -> 600 | G21: =ROUND(F22*0.8,-1) -> 1040 | I21: =ROUND(H22*0.8,-1) -> 1040 | K21: =ROUND(J22*0.8,-1) -> 1040 | M21: =ROUND(L22*0.8,-1) -> 1040 | O21: =ROUND(N22*0.8,-1) -> 1040 | Q21: =ROUND(P22*0.8,-1) -> 1040 | S21: =ROUND(R22*0.8,-1) -> 1040 | U21: =ROUND(T22*0.8,-1) -> 1040 | Z21: =X21+Z23 -> 0 | AB21: =Z21+AB25 -> 0 | AD21: =AB21+AD27 -> 0 | AF21: =AD21+AF29 -> 0 | AH21: =AF21+AH31 -> 0 | AJ21: =AH21+AJ33 -> 0 | AL21: =AJ21+AL35 -> 0 | AN21: =AL21+AN37 -> 0 | AP21: =AN21+AP39 -> 0
B22: =$P$1+MROUND(ROUNDDOWN(V4*$I$1,-1),50) -> 2050 | D22: =B22-$P$1 -> 750 | F22: =IF((V5)<=8,P1,P1+ROUND(INT(((V5-8)*I1)),-1)) -> 1300 | H22: =IF((V7)<=8,P1,P1+ROUND(INT(((V7-8)*I1)),-1)) -> 1300 | J22: =IF((V9)<=8,P1,P1+ROUND(INT(((V9-8)*I1)),-1)) -> 1300 | L22: =IF((V11)<=8,P1,P1+ROUND(INT(((V11-8)*I1)),-1)) -> 1300 | N22: =IF((V13)<=8,P1,P1+ROUND(INT(((V13-8)*I1)),-1)) -> 1300 | P22: =IF((V15)<=8,P1,P1+ROUND(INT(((V15-8)*I1)),-1)) -> 1300 | R22: =IF((V17)<=8,P1,P1+ROUND(INT(((V17-8)*I1)),-1)) -> 1300 | T22: =IF((V19)<=8,P1,P1+ROUND(INT(((V19-8)*I1)),-1)) -> 1300
A23: =X23 -> 0 | C23: =MROUND(ROUNDDOWN(B24*0.8,-1),50) -> 1650 | E23: =C23-$S$1 -> 600 | G23: =ROUND(F24*0.8,-1) -> 1040 | I23: =ROUND(H24*0.8,-1) -> 1040 | K23: =ROUND(J24*0.8,-1) -> 1040 | M23: =ROUND(L24*0.8,-1) -> 1040 | O23: =ROUND(N24*0.8,-1) -> 1040 | Q23: =ROUND(P24*0.8,-1) -> 1040 | S23: =ROUND(R24*0.8,-1) -> 1040 | U23: =ROUND(T24*0.8,-1) -> 1040 | W23: =ROUND(V24*0.8,-1) -> 1040 | AB23: =Z23+AB25 -> 0 | AD23: =AB23+AD27 -> 0 | AF23: =AD23+AF29 -> 0 | AH23: =AF23+AH31 -> 0 | AJ23: =AH23+AJ33 -> 0 | AL23: =AJ23+AL35 -> 0 | AN23: =AL23+AN37 -> 0 | AP23: =AN23+AP39 -> 0
B24: =$P$1+MROUND(ROUNDDOWN(X4*$I$1,-1),50) -> 2050 | D24: =B24-$P$1 -> 750 | F24: =IF((X5)<=8,P1,P1+ROUND(INT(((X5-8)*I1)),-1)) -> 1300 | H24: =IF((X7)<=8,P1,P1+ROUND(INT(((X7-8)*I1)),-1)) -> 1300 | J24: =IF((X9)<=8,P1,P1+ROUND(INT(((X9-8)*I1)),-1)) -> 1300 | L24: =IF((X11)<=8,P1,P1+ROUND(INT(((X11-8)*I1)),-1)) -> 1300 | N24: =IF((X13)<=8,P1,P1+ROUND(INT(((X13-8)*I1)),-1)) -> 1300 | P24: =IF((X15)<=8,P1,P1+ROUND(INT(((X15-8)*I1)),-1)) -> 1300 | R24: =IF((X17)<=8,P1,P1+ROUND(INT(((X17-8)*I1)),-1)) -> 1300 | T24: =IF((X19)<=8,P1,P1+ROUND(INT(((X19-8)*I1)),-1)) -> 1300 | V24: =IF((X21)<=8,P1,P1+ROUND(INT(((X21-8)*I1)),-1)) -> 1300
A25: =Z25 -> 0 | C25: =MROUND(ROUNDDOWN(B26*0.8,-1),50) -> 1650 | E25: =C25-$S$1 -> 600 | G25: =ROUND(F26*0.8,-1) -> 1040 | I25: =ROUND(H26*0.8,-1) -> 1040 | K25: =ROUND(J26*0.8,-1) -> 1040 | M25: =ROUND(L26*0.8,-1) -> 1040 | O25: =ROUND(N26*0.8,-1) -> 1040 | Q25: =ROUND(P26*0.8,-1) -> 1040 | S25: =ROUND(R26*0.8,-1) -> 1040 | U25: =ROUND(T26*0.8,-1) -> 1040 | W25: =ROUND(V26*0.8,-1) -> 1040 | Y25: =ROUND(X26*0.8,-1) -> 1040 | AD25: =AB25+AD27 -> 0 | AF25: =AD25+AF29 -> 0 | AH25: =AF25+AH31 -> 0 | AJ25: =AH25+AJ33 -> 0 | AL25: =AJ25+AL35 -> 0 | AN25: =AL25+AN37 -> 0 | AP25: =AN25+AP39 -> 0
B26: =$P$1+MROUND(ROUNDDOWN(Z4*$I$1,-1),50) -> 2050 | D26: =B26-$P$1 -> 750 | F26: =IF((Z5)<=8,P1,P1+ROUND(INT(((Z5-8)*I1)),-1)) -> 1300 | H26: =IF((Z7)<=8,P1,P1+ROUND(INT(((Z7-8)*I1)),-1)) -> 1300 | J26: =IF((Z9)<=8,P1,P1+ROUND(INT(((Z9-8)*I1)),-1)) -> 1300 | L26: =IF((Z11)<=8,P1,P1+ROUND(INT(((Z11-8)*I1)),-1)) -> 1300 | N26: =IF((Z13)<=8,P1,P1+ROUND(INT(((Z13-8)*I1)),-1)) -> 1300 | P26: =IF((Z15)<=8,P1,P1+ROUND(INT(((Z15-8)*I1)),-1)) -> 1300 | R26: =IF((Z17)<=8,P1,P1+ROUND(INT(((Z17-8)*I1)),-1)) -> 1300 | T26: =IF((Z19)<=8,P1,P1+ROUND(INT(((Z19-8)*I1)),-1)) -> 1300 | V26: =IF((Z21)<=8,P1,P1+ROUND(INT(((Z21-8)*I1)),-1)) -> 1300 | X26: =IF((Z23)<=8,P1,P1+ROUND(INT(((Z23-8)*I1)),-1)) -> 1300
A27: =AB27 -> 0 | C27: =MROUND(ROUNDDOWN(B28*0.8,-1),50) -> 1650 | E27: =C27-$S$1 -> 600 | G27: =ROUND(F28*0.8,-1) -> 1040 | I27: =ROUND(H28*0.8,-1) -> 1040 | K27: =ROUND(J28*0.8,-1) -> 1040 | M27: =ROUND(L28*0.8,-1) -> 1040 | O27: =ROUND(N28*0.8,-1) -> 1040 | Q27: =ROUND(P28*0.8,-1) -> 1040 | S27: =ROUND(R28*0.8,-1) -> 1040 | U27: =ROUND(T28*0.8,-1) -> 1040 | W27: =ROUND(V28*0.8,-1) -> 1040 | Y27: =ROUND(X28*0.8,-1) -> 1040 | AA27: =ROUND(Z28*0.8,-1) -> 1040 | AF27: =AD27+AF29 -> 0 | AH27: =AF27+AH31 -> 0 | AJ27: =AH27+AJ33 -> 0 | AL27: =AJ27+AL35 -> 0 | AN27: =AL27+AN37 -> 0 | AP27: =AN27+AP39 -> 0
B28: =$P$1+MROUND(ROUNDDOWN(AB4*$I$1,-1),50) -> 2050 | D28: =B28-$P$1 -> 750 | F28: =IF((AB5)<=8,P1,P1+ROUND(INT(((AB5-8)*I1)),-1)) -> 1300 | H28: =IF((AB7)<=8,P1,P1+ROUND(INT(((AB7-8)*I1)),-1)) -> 1300 | J28: =IF((AB9)<=8,P1,P1+ROUND(INT(((AB9-8)*I1)),-1)) -> 1300 | L28: =IF((AB11)<=8,P1,P1+ROUND(INT(((AB11-8)*I1)),-1)) -> 1300 | N28: =IF((AB13)<=8,P1,P1+ROUND(INT(((AB13-8)*I1)),-1)) -> 1300 | P28: =IF((AB15)<=8,P1,P1+ROUND(INT(((AB15-8)*I1)),-1)) -> 1300 | R28: =IF((AB17)<=8,P1,P1+ROUND(INT(((AB17-8)*I1)),-1)) -> 1300 | T28: =IF((AB19)<=8,P1,P1+ROUND(INT(((AB19-8)*I1)),-1)) -> 1300 | V28: =IF((AB21)<=8,P1,P1+ROUND(INT(((AB21-8)*I1)),-1)) -> 1300 | X28: =IF((AB23)<=8,P1,P1+ROUND(INT(((AB23-8)*I1)),-1)) -> 1300 | Z28: =IF((AB25)<=8,P1,P1+ROUND(INT(((AB25-8)*I1)),-1)) -> 1300
A29: =AD29 -> 0 | C29: =MROUND(ROUNDDOWN(B30*0.8,-1),50) -> 1650 | E29: =C29-$S$1 -> 600 | G29: =ROUND(F30*0.8,-1) -> 1040 | I29: =ROUND(H30*0.8,-1) -> 1040 | K29: =ROUND(J30*0.8,-1) -> 1040 | M29: =ROUND(L30*0.8,-1) -> 1040 | O29: =ROUND(N30*0.8,-1) -> 1040 | Q29: =ROUND(P30*0.8,-1) -> 1040 | S29: =ROUND(R30*0.8,-1) -> 1040 | U29: =ROUND(T30*0.8,-1) -> 1040 | W29: =ROUND(V30*0.8,-1) -> 1040 | Y29: =ROUND(X30*0.8,-1) -> 1040 | AA29: =ROUND(Z30*0.8,-1) -> 1040 | AC29: =ROUND(AB30*0.8,-1) -> 1040 | AH29: =AF29+AH31 -> 0 | AJ29: =AH29+AJ33 -> 0 | AL29: =AJ29+AL35 -> 0 | AN29: =AL29+AN37 -> 0 | AP29: =AN29+AP39 -> 0
B30: =$P$1+MROUND(ROUNDDOWN(AD4*$I$1,-1),50) -> 2050 | D30: =B30-$P$1 -> 750 | F30: =IF((AD5)<=8,P1,P1+ROUND(INT(((AD5-8)*I1)),-1)) -> 1300 | H30: =IF((AD7)<=8,P1,P1+ROUND(INT(((AD7-8)*I1)),-1)) -> 1300 | J30: =IF((AD9)<=8,P1,P1+ROUND(INT(((AD9-8)*I1)),-1)) -> 1300 | L30: =IF((AD11)<=8,P1,P1+ROUND(INT(((AD11-8)*I1)),-1)) -> 1300 | N30: =IF((AD13)<=8,P1,P1+ROUND(INT(((AD13-8)*I1)),-1)) -> 1300 | P30: =IF((AD15)<=8,P1,P1+ROUND(INT(((AD15-8)*I1)),-1)) -> 1300 | R30: =IF((AD17)<=8,P1,P1+ROUND(INT(((AD17-8)*I1)),-1)) -> 1300 | T30: =IF((AD19)<=8,P1,P1+ROUND(INT(((AD19-8)*I1)),-1)) -> 1300 | V30: =IF((AD21)<=8,P1,P1+ROUND(INT(((AD21-8)*I1)),-1)) -> 1300 | X30: =IF((AD23)<=8,P1,P1+ROUND(INT(((AD23-8)*I1)),-1)) -> 1300 | Z30: =IF((AD25)<=8,P1,P1+ROUND(INT(((AD25-8)*I1)),-1)) -> 1300 | AB30: =IF((AD27)<=8,P1,P1+ROUND(INT(((AD27-8)*I1)),-1)) -> 1300
A31: =AF31 -> 0 | C31: =MROUND(ROUNDDOWN(B32*0.8,-1),50) -> 1650 | E31: =C31-$S$1 -> 600 | G31: =ROUND(F32*0.8,-1) -> 1040 | I31: =ROUND(H32*0.8,-1) -> 1040 | K31: =ROUND(J32*0.8,-1) -> 1040 | M31: =ROUND(L32*0.8,-1) -> 1040 | O31: =ROUND(N32*0.8,-1) -> 1040 | Q31: =ROUND(P32*0.8,-1) -> 1040 | S31: =ROUND(R32*0.8,-1) -> 1040 | U31: =ROUND(T32*0.8,-1) -> 1040 | W31: =ROUND(V32*0.8,-1) -> 1040 | Y31: =ROUND(X32*0.8,-1) -> 1040 | AA31: =ROUND(Z32*0.8,-1) -> 1040 | AC31: =ROUND(AB32*0.8,-1) -> 1040 | AE31: =ROUND(AD32*0.8,-1) -> 1040 | AJ31: =AH31+AJ33 -> 0 | AL31: =AJ31+AL35 -> 0 | AN31: =AL31+AN37 -> 0 | AP31: =AN31+AP39 -> 0
B32: =$P$1+MROUND(ROUNDDOWN(AF4*$I$1,-1),50) -> 2050 | D32: =B32-$P$1 -> 750 | F32: =IF((AF5)<=8,P1,P1+ROUND(INT(((AF5-8)*I1)),-1)) -> 1300 | H32: =IF((AF7)<=8,P1,P1+ROUND(INT(((AF7-8)*I1)),-1)) -> 1300 | J32: =IF((AF9)<=8,P1,P1+ROUND(INT(((AF9-8)*I1)),-1)) -> 1300 | L32: =IF((AF11)<=8,P1,P1+ROUND(INT(((AF11-8)*I1)),-1)) -> 1300 | N32: =IF((AF13)<=8,P1,P1+ROUND(INT(((AF13-8)*I1)),-1)) -> 1300 | P32: =IF((AF15)<=8,P1,P1+ROUND(INT(((AF15-8)*I1)),-1)) -> 1300 | R32: =IF((AF17)<=8,P1,P1+ROUND(INT(((AF17-8)*I1)),-1)) -> 1300 | T32: =IF((AF19)<=8,P1,P1+ROUND(INT(((AF19-8)*I1)),-1)) -> 1300 | V32: =IF((AF21)<=8,P1,P1+ROUND(INT(((AF21-8)*I1)),-1)) -> 1300 | X32: =IF((AF23)<=8,P1,P1+ROUND(INT(((AF23-8)*I1)),-1)) -> 1300 | Z32: =IF((AF25)<=8,P1,P1+ROUND(INT(((AF25-8)*I1)),-1)) -> 1300 | AB32: =IF((AF27)<=8,P1,P1+ROUND(INT(((AF27-8)*I1)),-1)) -> 1300 | AD32: =IF((AF29)<=8,P1,P1+ROUND(INT(((AF29-8)*I1)),-1)) -> 1300
A33: =AH33 -> 0 | C33: =MROUND(ROUNDDOWN(B34*0.8,-1),50) -> 1650 | E33: =C33-$S$1 -> 600 | G33: =ROUND(F34*0.8,-1) -> 1040 | I33: =ROUND(H34*0.8,-1) -> 1040 | K33: =ROUND(J34*0.8,-1) -> 1040 | M33: =ROUND(L34*0.8,-1) -> 1040 | O33: =ROUND(N34*0.8,-1) -> 1040 | Q33: =ROUND(P34*0.8,-1) -> 1040 | S33: =ROUND(R34*0.8,-1) -> 1040 | U33: =ROUND(T34*0.8,-1) -> 1040 | W33: =ROUND(V34*0.8,-1) -> 1040 | Y33: =ROUND(X34*0.8,-1) -> 1040 | AA33: =ROUND(Z34*0.8,-1) -> 1040 | AC33: =ROUND(AB34*0.8,-1) -> 1040 | AE33: =ROUND(AD34*0.8,-1) -> 1040 | AG33: =ROUND(AF34*0.8,-1) -> 1040 | AL33: =AJ33+AL35 -> 0 | AN33: =AL33+AN37 -> 0 | AP33: =AN33+AP39 -> 0
B34: =$P$1+MROUND(ROUNDDOWN(AH4*$I$1,-1),50) -> 2050 | D34: =B34-$P$1 -> 750 | F34: =IF((AH5)<=8,P1,P1+ROUND(INT(((AH5-8)*I1)),-1)) -> 1300 | H34: =IF((AH7)<=8,P1,P1+ROUND(INT(((AH7-8)*I1)),-1)) -> 1300 | J34: =IF((AH9)<=8,P1,P1+ROUND(INT(((AH9-8)*I1)),-1)) -> 1300 | L34: =IF((AH11)<=8,P1,P1+ROUND(INT(((AH11-8)*I1)),-1)) -> 1300 | N34: =IF((AH13)<=8,P1,P1+ROUND(INT(((AH13-8)*I1)),-1)) -> 1300 | P34: =IF((AH15)<=8,P1,P1+ROUND(INT(((AH15-8)*I1)),-1)) -> 1300 | R34: =IF((AH17)<=8,P1,P1+ROUND(INT(((AH17-8)*I1)),-1)) -> 1300 | T34: =IF((AH19)<=8,P1,P1+ROUND(INT(((AH19-8)*I1)),-1)) -> 1300 | V34: =IF((AH21)<=8,P1,P1+ROUND(INT(((AH21-8)*I1)),-1)) -> 1300 | X34: =IF((AH23)<=8,P1,P1+ROUND(INT(((AH23-8)*I1)),-1)) -> 1300 | Z34: =IF((AH25)<=8,P1,P1+ROUND(INT(((AH25-8)*I1)),-1)) -> 1300 | AB34: =IF((AH27)<=8,P1,P1+ROUND(INT(((AH27-8)*I1)),-1)) -> 1300 | AD34: =IF((AH29)<=8,P1,P1+ROUND(INT(((AH29-8)*I1)),-1)) -> 1300 | AF34: =IF((AH31)<=8,P1,P1+ROUND(INT(((AH31-8)*I1)),-1)) -> 1300
A35: =AJ35 -> 0 | C35: =MROUND(ROUNDDOWN(B36*0.8,-1),50) -> 1650 | E35: =C35-$S$1 -> 600 | G35: =ROUND(F36*0.8,-1) -> 1040 | I35: =ROUND(H36*0.8,-1) -> 1040 | K35: =ROUND(J36*0.8,-1) -> 1040 | M35: =ROUND(L36*0.8,-1) -> 1040 | O35: =ROUND(N36*0.8,-1) -> 1040 | Q35: =ROUND(P36*0.8,-1) -> 1040 | S35: =ROUND(R36*0.8,-1) -> 1040 | U35: =ROUND(T36*0.8,-1) -> 1040 | W35: =ROUND(V36*0.8,-1) -> 1040 | Y35: =ROUND(X36*0.8,-1) -> 1040 | AA35: =ROUND(Z36*0.8,-1) -> 1040 | AC35: =ROUND(AB36*0.8,-1) -> 1040 | AE35: =ROUND(AD36*0.8,-1) -> 1040 | AG35: =ROUND(AF36*0.8,-1) -> 1040 | AI35: =ROUND(AH36*0.8,-1) -> 1040 | AN35: =AL35+AN37 -> 0 | AP35: =AN35+AP39 -> 0
B36: =$P$1+MROUND(ROUNDDOWN(AJ4*$I$1,-1),50) -> 2050 | D36: =B36-$P$1 -> 750 | F36: =IF((AJ5)<=8,P1,P1+ROUND(INT(((AJ5-8)*I1)),-1)) -> 1300 | H36: =IF((AJ7)<=8,P1,P1+ROUND(INT(((AJ7-8)*I1)),-1)) -> 1300 | J36: =IF((AJ9)<=8,P1,P1+ROUND(INT(((AJ9-8)*I1)),-1)) -> 1300 | L36: =IF((AJ11)<=8,P1,P1+ROUND(INT(((AJ11-8)*I1)),-1)) -> 1300 | N36: =IF((AJ13)<=8,P1,P1+ROUND(INT(((AJ13-8)*I1)),-1)) -> 1300 | P36: =IF((AJ15)<=8,P1,P1+ROUND(INT(((AJ15-8)*I1)),-1)) -> 1300 | R36: =IF((AJ17)<=8,P1,P1+ROUND(INT(((AJ17-8)*I1)),-1)) -> 1300 | T36: =IF((AJ19)<=8,P1,P1+ROUND(INT(((AJ19-8)*I1)),-1)) -> 1300 | V36: =IF((AJ21)<=8,P1,P1+ROUND(INT(((AJ21-8)*I1)),-1)) -> 1300 | X36: =IF((AJ23)<=8,P1,P1+ROUND(INT(((AJ23-8)*I1)),-1)) -> 1300 | Z36: =IF((AJ25)<=8,P1,P1+ROUND(INT(((AJ25-8)*I1)),-1)) -> 1300 | AB36: =IF((AJ27)<=8,P1,P1+ROUND(INT(((AJ27-8)*I1)),-1)) -> 1300 | AD36: =IF((AJ29)<=8,P1,P1+ROUND(INT(((AJ29-8)*I1)),-1)) -> 1300 | AF36: =IF((AJ31)<=8,P1,P1+ROUND(INT(((AJ31-8)*I1)),-1)) -> 1300 | AH36: =IF((AJ33)<=8,P1,P1+ROUND(INT(((AJ33-8)*I1)),-1)) -> 1300
A37: =AL37 -> 0 | C37: =MROUND(ROUNDDOWN(B38*0.8,-1),50) -> 1650 | E37: =C37-$S$1 -> 600 | G37: =ROUND(F38*0.8,-1) -> 1040 | I37: =ROUND(H38*0.8,-1) -> 1040 | K37: =ROUND(J38*0.8,-1) -> 1040 | M37: =ROUND(L38*0.8,-1) -> 1040 | O37: =ROUND(N38*0.8,-1) -> 1040 | Q37: =ROUND(P38*0.8,-1) -> 1040 | S37: =ROUND(R38*0.8,-1) -> 1040 | U37: =ROUND(T38*0.8,-1) -> 1040 | W37: =ROUND(V38*0.8,-1) -> 1040 | Y37: =ROUND(X38*0.8,-1) -> 1040 | AA37: =ROUND(Z38*0.8,-1) -> 1040 | AC37: =ROUND(AB38*0.8,-1) -> 1040 | AE37: =ROUND(AD38*0.8,-1) -> 1040 | AG37: =ROUND(AF38*0.8,-1) -> 1040 | AI37: =ROUND(AH38*0.8,-1) -> 1040 | AK37: =ROUND(AJ38*0.8,-1) -> 1040 | AP37: =AN37+AP39 -> 0
B38: =$P$1+MROUND(ROUNDDOWN(AL4*$I$1,-1),50) -> 2050 | D38: =B38-$P$1 -> 750 | F38: =IF((AL5)<=8,P1,P1+ROUND(INT(((AL5-8)*I1)),-1)) -> 1300 | H38: =IF((AL7)<=8,P1,P1+ROUND(INT(((AL7-8)*I1)),-1)) -> 1300 | J38: =IF((AL9)<=8,P1,P1+ROUND(INT(((AL9-8)*I1)),-1)) -> 1300 | L38: =IF((AL11)<=8,P1,P1+ROUND(INT(((AL11-8)*I1)),-1)) -> 1300 | N38: =IF((AL13)<=8,P1,P1+ROUND(INT(((AL13-8)*I1)),-1)) -> 1300 | P38: =IF((AL15)<=8,P1,P1+ROUND(INT(((AL15-8)*I1)),-1)) -> 1300 | R38: =IF((AL17)<=8,P1,P1+ROUND(INT(((AL17-8)*I1)),-1)) -> 1300 | T38: =IF((AL19)<=8,P1,P1+ROUND(INT(((AL19-8)*I1)),-1)) -> 1300 | V38: =IF((AL21)<=8,P1,P1+ROUND(INT(((AL21-8)*I1)),-1)) -> 1300 | X38: =IF((AL23)<=8,P1,P1+ROUND(INT(((AL23-8)*I1)),-1)) -> 1300 | Z38: =IF((AL25)<=8,P1,P1+ROUND(INT(((AL25-8)*I1)),-1)) -> 1300 | AB38: =IF((AL27)<=8,P1,P1+ROUND(INT(((AL27-8)*I1)),-1)) -> 1300 | AD38: =IF((AL29)<=8,P1,P1+ROUND(INT(((AL29-8)*I1)),-1)) -> 1300 | AF38: =IF((AL31)<=8,P1,P1+ROUND(INT(((AL31-8)*I1)),-1)) -> 1300 | AH38: =IF((AL33)<=8,P1,P1+ROUND(INT(((AL33-8)*I1)),-1)) -> 1300 | AJ38: =IF((AL35)<=8,P1,P1+ROUND(INT(((AL35-8)*I1)),-1)) -> 1300
A39: =AN39 -> 0 | C39: =MROUND(ROUNDDOWN(B40*0.8,-1),50) -> 1650 | E39: =C39-$S$1 -> 600 | G39: =ROUND(F40*0.8,-1) -> 1040 | I39: =ROUND(H40*0.8,-1) -> 1040 | K39: =ROUND(J40*0.8,-1) -> 1040 | M39: =ROUND(L40*0.8,-1) -> 1040 | O39: =ROUND(N40*0.8,-1) -> 1040 | Q39: =ROUND(P40*0.8,-1) -> 1040 | S39: =ROUND(R40*0.8,-1) -> 1040 | U39: =ROUND(T40*0.8,-1) -> 1040 | W39: =ROUND(V40*0.8,-1) -> 1040 | Y39: =ROUND(X40*0.8,-1) -> 1040 | AA39: =ROUND(Z40*0.8,-1) -> 1040 | AC39: =ROUND(AB40*0.8,-1) -> 1040 | AE39: =ROUND(AD40*0.8,-1) -> 1040 | AG39: =ROUND(AF40*0.8,-1) -> 1040 | AI39: =ROUND(AH40*0.8,-1) -> 1040 | AK39: =ROUND(AJ40*0.8,-1) -> 1040 | AM39: =ROUND(AL40*0.8,-1) -> 1040
B40: =$P$1+MROUND(ROUNDDOWN(AN4*$I$1,-1),50) -> 2050 | D40: =B40-$P$1 -> 750 | F40: =IF((AN5)<=8,P1,P1+ROUND(INT(((AN5-8)*I1)),-1)) -> 1300 | H40: =IF((AN7)<=8,P1,P1+ROUND(INT(((AN7-8)*I1)),-1)) -> 1300 | J40: =IF((AN9)<=8,P1,P1+ROUND(INT(((AN9-8)*I1)),-1)) -> 1300 | L40: =IF((AN11)<=8,P1,P1+ROUND(INT(((AN11-8)*I1)),-1)) -> 1300 | N40: =IF((AN13)<=8,P1,P1+ROUND(INT(((AN13-8)*I1)),-1)) -> 1300 | P40: =IF((AN15)<=8,P1,P1+ROUND(INT(((AN15-8)*I1)),-1)) -> 1300 | R40: =IF((AN17)<=8,P1,P1+ROUND(INT(((AN17-8)*I1)),-1)) -> 1300 | T40: =IF((AN19)<=8,P1,P1+ROUND(INT(((AN19-8)*I1)),-1)) -> 1300 | V40: =IF((AN21)<=8,P1,P1+ROUND(INT(((AN21-8)*I1)),-1)) -> 1300 | X40: =IF((AN23)<=8,P1,P1+ROUND(INT(((AN23-8)*I1)),-1)) -> 1300 | Z40: =IF((AN25)<=8,P1,P1+ROUND(INT(((AN25-8)*I1)),-1)) -> 1300 | AB40: =IF((AN27)<=8,P1,P1+ROUND(INT(((AN27-8)*I1)),-1)) -> 1300 | AD40: =IF((AN29)<=8,P1,P1+ROUND(INT(((AN29-8)*I1)),-1)) -> 1300 | AF40: =IF((AN31)<=8,P1,P1+ROUND(INT(((AN31-8)*I1)),-1)) -> 1300 | AH40: =IF((AN33)<=8,P1,P1+ROUND(INT(((AN33-8)*I1)),-1)) -> 1300 | AJ40: =IF((AN35)<=8,P1,P1+ROUND(INT(((AN35-8)*I1)),-1)) -> 1300 | AL40: =IF((AN37)<=8,P1,P1+ROUND(INT(((AN37-8)*I1)),-1)) -> 1300
A41: =AP41 -> 0 | C41: =MROUND(ROUNDDOWN(B42*0.8,-1),50) -> 1650 | E41: =C41-$S$1 -> 600 | G41: =ROUND(F42*0.8,-1) -> 1040 | I41: =ROUND(H42*0.8,-1) -> 1040 | K41: =ROUND(J42*0.8,-1) -> 1040 | M41: =ROUND(L42*0.8,-1) -> 1040 | O41: =ROUND(N42*0.8,-1) -> 1040 | Q41: =ROUND(P42*0.8,-1) -> 1040 | S41: =ROUND(R42*0.8,-1) -> 1040 | U41: =ROUND(T42*0.8,-1) -> 1040 | W41: =ROUND(V42*0.8,-1) -> 1040 | Y41: =ROUND(X42*0.8,-1) -> 1040 | AA41: =ROUND(Z42*0.8,-1) -> 1040 | AC41: =ROUND(AB42*0.8,-1) -> 1040 | AE41: =ROUND(AD42*0.8,-1) -> 1040 | AG41: =ROUND(AF42*0.8,-1) -> 1040 | AI41: =ROUND(AH42*0.8,-1) -> 1040 | AK41: =ROUND(AJ42*0.8,-1) -> 1040 | AM41: =ROUND(AL42*0.8,-1) -> 1040 | AO41: =ROUND(AN42*0.8,-1) -> 1040
B42: =$P$1+MROUND(ROUNDDOWN(AP4*$I$1,-1),50) -> 2050 | D42: =B42-$P$1 -> 750 | F42: =IF((AP5)<=8,P1,P1+ROUND(INT(((AP5-8)*I1)),-1)) -> 1300 | H42: =IF((AP7)<=8,P1,P1+ROUND(INT(((AP7-8)*I1)),-1)) -> 1300 | J42: =IF((AP9)<=8,P1,P1+ROUND(INT(((AP9-8)*I1)),-1)) -> 1300 | L42: =IF((AP11)<=8,P1,P1+ROUND(INT(((AP11-8)*I1)),-1)) -> 1300 | N42: =IF((AP13)<=8,P1,P1+ROUND(INT(((AP13-8)*I1)),-1)) -> 1300 | P42: =IF((AP15)<=8,P1,P1+ROUND(INT(((AP15-8)*I1)),-1)) -> 1300 | R42: =IF((AP17)<=8,P1,P1+ROUND(INT(((AP17-8)*I1)),-1)) -> 1300 | T42: =IF((AP19)<=8,P1,P1+ROUND(INT(((AP19-8)*I1)),-1)) -> 1300 | V42: =IF((AP21)<=8,P1,P1+ROUND(INT(((AP21-8)*I1)),-1)) -> 1300 | X42: =IF((AP23)<=8,P1,P1+ROUND(INT(((AP23-8)*I1)),-1)) -> 1300 | Z42: =IF((AP25)<=8,P1,P1+ROUND(INT(((AP25-8)*I1)),-1)) -> 1300 | AB42: =IF((AP27)<=8,P1,P1+ROUND(INT(((AP27-8)*I1)),-1)) -> 1300 | AD42: =IF((AP29)<=8,P1,P1+ROUND(INT(((AP29-8)*I1)),-1)) -> 1300 | AF42: =IF((AP31)<=8,P1,P1+ROUND(INT(((AP31-8)*I1)),-1)) -> 1300 | AH42: =IF((AP33)<=8,P1,P1+ROUND(INT(((AP33-8)*I1)),-1)) -> 1300 | AJ42: =IF((AP35)<=8,P1,P1+ROUND(INT(((AP35-8)*I1)),-1)) -> 1300 | AL42: =IF((AP37)<=8,P1,P1+ROUND(INT(((AP37-8)*I1)),-1)) -> 1300 | AN42: =IF((AP39)<=8,P1,P1+ROUND(INT(((AP39-8)*I1)),-1)) -> 1300
C43: =MROUND(ROUNDDOWN(B44*0.8,-1),50) -> 1050
B44: =$P$1+MROUND(ROUNDDOWN(AR4*$I$1,-1),50) -> 1300

Sheet 375쌍정
H1: 요율 | I1: =기본요금!C5 -> 116.14 | N1: 기본요금 | P1: =기본요금!C6 -> 1300 | R1: 중고생 | S1: =기본요금!C7 -> 1050 | V1: 기본요금거리 | X1: =기본요금!C8 -> 8
B2: 전주- 삼례시장-우석대-쌍정(노선번호 : 375번)
A3: 승강장명 | B3: 요금 | F3: 기본요금 및 환승지역 (전주시. 완주군 지역) | L3: 구간요금적용지역 (익산지역) | N3: =$B$3+N4 -> #VALUE! | P3: =$B$3+P4 -> #VALUE! | R3: =$B$3+R4 -> #VALUE! | T3: =$B$3+T4 -> #VALUE! | V3: =$B$3+V4 -> #VALUE! | X3: =$B$3+X4 -> #VALUE! | Z3: =$B$3+Z4 -> #VALUE! | AB3: =$B$3+AB4 -> #VALUE! | AD3: =$B$3+AD4 -> #VALUE! | AF3: =$B$3+AF4 -> #VALUE! | AH3: =$B$3+AH4 -> #VALUE! | AJ3: =$B$3+AJ4 -> #VALUE! | AL3: =$B$3+AL4 -> #VALUE! | AN3: =$B$3+AN4 -> #VALUE! | AP3: =$B$3+AP4 -> #VALUE!
A4: 전주 화전 | D4: 추가요금 | F4: 1.1 | H4: =+F4+H5 -> 2.2 | J4: =+H4+J7 -> 2.9 | L4: =J4+L9 -> 5.5 | N4: =L4+N11 -> 6.4 | P4: =+N4+P13 -> 7.3 | R4: =+P4+R15 -> 8.6 | T4: =+R4+T17 -> 9.9 | V4: =+T4+V19 -> 10.3 | X4: =+V4+X21 -> 11 | Z4: =+X4+Z23 -> 11.8 | AB4: =+Z4+AB25 -> 12.5 | AD4: =+AB4+AD27 -> 14.1 | AF4: =+AD4+AF29 -> 15 | AH4: =+AF4+AH31 -> 16 | AJ4: =+AH4+AJ33 -> 16.6 | AL4: =+AJ4+AL35 -> 17.6 | AN4: =+AL4+AN37 -> 17.6 | AP4: =+AN4+AP39 -> 17.6
A5: =F5 -> 비비정 | C5: =MROUND(ROUNDDOWN(B6*0.8,-1),50) -> 1050 | E5: =C5-$S$1 -> 0 | F5: 비비정 | H5: 1.1 | J5: =H5+J7 -> 1.8 | L5: =J5+L9 -> 4.4 | N5: =L5+N11 -> 5.3 | P5: =N5+P13 -> 6.2 | R5: =P5+R15 -> 7.5 | T5: =R5+T17 -> 8.8 | V5: =T5+V19 -> 9.2 | X5: =V5+X21 -> 9.9 | Z5: =X5+Z23 -> 10.7 | AB5: =Z5+AB25 -> 11.4 | AD5: =AB5+AD27 -> 13 | AF5: =AD5+AF29 -> 13.9 | AH5: =AF5+AH31 -> 14.9 | AJ5: =AH5+AJ33 -> 15.5 | AL5: =AJ5+AL35 -> 16.5 | AN5: =AL5+AN37 -> 16.5 | AP5: =AN5+AP39 -> 16.5
B6: 1300 | D6: =B6-$P$1 -> 0
A7: =H7 -> 삼례시장 삼례터미널 | C7: =MROUND(ROUNDDOWN(B8*0.8,-1),50) -> 1050 | E7: =C7-$S$1 -> 0 | G7: =ROUND(F8*0.8,-1) -> 1040 | H7: 삼례시장 삼례터미널 | J7: 0.7 | L7: =J7+L9 -> 3.3 | N7: =L7+N11 -> 4.2 | P7: =N7+P13 -> 5.1 | R7: =P7+R15 -> 6.4 | T7: =R7+T17 -> 7.7 | V7: =T7+V19 -> 8.1 | X7: =V7+X21 -> 8.8 | Z7: =X7+Z23 -> 9.6 | AB7: =Z7+AB25 -> 10.3 | AD7: =AB7+AD27 -> 11.9 | AF7: =AD7+AF29 -> 12.8 | AH7: =AF7+AH31 -> 13.8 | AJ7: =AH7+AJ33 -> 14.4 | AL7: =AJ7+AL35 -> 15.4 | AN7: =AL7+AN37 -> 15.4 | AP7: =AN7+AP39 -> 15.4
B8: 1300 | D8: =B8-$P$1 -> 0 | F8: =IF((H5)<=8,P1,P1+ROUND(INT(((H5-8)*I1)),-1)) -> 1300
A9: =J9 -> 우석대 | C9: =MROUND(ROUNDDOWN(B10*0.8,-1),50) -> 1050 | E9: =C9-$S$1 -> 0 | G9: =ROUND(F10*0.8,-1) -> 1040 | I9: =ROUND(H10*0.8,-1) -> 1040 | J9: 우석대 | L9: 2.6 | N9: =L9+N11 -> 3.5 | P9: =N9+P13 -> 4.4 | R9: =P9+R15 -> 5.7 | T9: =R9+T17 -> 7 | V9: =T9+V19 -> 7.4 | X9: =V9+X21 -> 8.1 | Z9: =X9+Z23 -> 8.9 | AB9: =Z9+AB25 -> 9.6 | AD9: =AB9+AD27 -> 11.2 | AF9: =AD9+AF29 -> 12.1 | AH9: =AF9+AH31 -> 13.1 | AJ9: =AH9+AJ33 -> 13.7 | AL9: =AJ9+AL35 -> 14.7 | AN9: =AL9+AN37 -> 14.7 | AP9: =AN9+AP39 -> 14.7
B10: 1300 | D10: =B10-$P$1 -> 0 | F10: =IF((J5)<=8,P1,P1+ROUND(INT(((J5-8)*I1)),-1)) -> 1300 | H10: =IF((J7)<=8,P1,P1+ROUND(INT(((J7-8)*I1)),-1)) -> 1300
A11: =L11 -> 쌍정 | C11: =MROUND(ROUNDDOWN(B12*0.8,-1),50) -> 1550 | E11: =C11-$S$1 -> 500 | G11: =ROUND(F12*0.8,-1) -> 1040 | I11: =ROUND(H12*0.8,-1) -> 1040 | K11: =ROUND(J12*0.8,-1) -> 1040 | L11: 쌍정 | N11: 0.9 | P11: =N11+P13 -> 1.8 | R11: =P11+R15 -> 3.1 | T11: =R11+T17 -> 4.4 | V11: =T11+V19 -> 4.8 | X11: =V11+X21 -> 5.5 | Z11: =X11+Z23 -> 6.3 | AB11: =Z11+AB25 -> 7 | AD11: =AB11+AD27 -> 8.6 | AF11: =AD11+AF29 -> 9.5 | AH11: =AF11+AH31 -> 10.5 | AJ11: =AH11+AJ33 -> 11.1 | AL11: =AJ11+AL35 -> 12.1 | AN11: =AL11+AN37 -> 12.1 | AP11: =AN11+AP39 -> 12.1
B12: =$P$1+MROUND(ROUNDDOWN(L4*$I$1,-1),50) -> 1950 | D12: =B12-$P$1 -> 650 | F12: =IF((L5)<=8,P1,P1+ROUND(INT(((L5-8)*I1)),-1)) -> 1300 | H12: =IF((L7)<=8,P1,P1+ROUND(INT(((L7-8)*I1)),-1)) -> 1300 | J12: =IF((L9)<=8,P1,P1+ROUND(INT(((L9-8)*I1)),-1)) -> 1300
A13: =N13 -> 석전리 | C13: =MROUND(ROUNDDOWN(B14*0.8,-1),50) -> 1650 | E13: =C13-$S$1 -> 600 | G13: =ROUND(F14*0.8,-1) -> 1040 | I13: =ROUND(H14*0.8,-1) -> 1040 | K13: =ROUND(J14*0.8,-1) -> 1040 | M13: =ROUND(L14*0.8,-1) -> 1040 | N13: 석전리 | P13: 0.9 | R13: =P13+R15 -> 2.2 | T13: =R13+T17 -> 3.5 | V13: =T13+V19 -> 3.9 | X13: =V13+X21 -> 4.6 | Z13: =X13+Z23 -> 5.4 | AB13: =Z13+AB25 -> 6.1 | AD13: =AB13+AD27 -> 7.7 | AF13: =AD13+AF29 -> 8.6 | AH13: =AF13+AH31 -> 9.6 | AJ13: =AH13+AJ33 -> 10.2 | AL13: =AJ13+AL35 -> 11.2 | AN13: =AL13+AN37 -> 11.2 | AP13: =AN13+AP39 -> 11.2
B14: =$P$1+MROUND(ROUNDDOWN(N4*$I$1,-1),50) -> 2050 | D14: =B14-$P$1 -> 750 | F14: =IF((N5)<=8,P1,P1+ROUND(INT(((N5-8)*I1)),-1)) -> 1300 | H14: =IF((N7)<=8,P1,P1+ROUND(INT(((N7-8)*I1)),-1)) -> 1300 | J14: =IF((N9)<=8,P1,P1+ROUND(INT(((N9-8)*I1)),-1)) -> 1300 | L14: =IF((N11)<=8,P1,P1+ROUND(INT(((N11-8)*I1)),-1)) -> 1300
A15: =P15 -> 상탁 | C15: =MROUND(ROUNDDOWN(B16*0.8,-1),50) -> 1700 | E15: =C15-$S$1 -> 650 | G15: =ROUND(F16*0.8,-1) -> 1040 | I15: =ROUND(H16*0.8,-1) -> 1040 | K15: =ROUND(J16*0.8,-1) -> 1040 | M15: =ROUND(L16*0.8,-1) -> 1040 | O15: =ROUND(N16*0.8,-1) -> 1040 | P15: 상탁 | R15: 1.3 | T15: =R15+T17 -> 2.6 | V15: =T15+V19 -> 3 | X15: =V15+X21 -> 3.7 | Z15: =X15+Z23 -> 4.5 | AB15: =Z15+AB25 -> 5.2 | AD15: =AB15+AD27 -> 6.8 | AF15: =AD15+AF29 -> 7.7 | AH15: =AF15+AH31 -> 8.7 | AJ15: =AH15+AJ33 -> 9.3 | AL15: =AJ15+AL35 -> 10.3 | AN15: =AL15+AN37 -> 10.3 | AP15: =AN15+AP39 -> 10.3
B16: =$P$1+MROUND(ROUNDDOWN(P4*$I$1,-1),50) -> 2150 | D16: =B16-$P$1 -> 850 | F16: =IF((P5)<=8,P1,P1+ROUND(INT(((R5-8)*I1)),-1)) -> 1300 | H16: =IF((P7)<=8,P1,P1+ROUND(INT(((P7-8)*I1)),-1)) -> 1300 | J16: =IF((P9)<=8,P1,P1+ROUND(INT(((P9-8)*I1)),-1)) -> 1300 | L16: =IF((P11)<=8,P1,P1+ROUND(INT(((P11-8)*I1)),-1)) -> 1300 | N16: =IF((P13)<=8,P1,P1+ROUND(INT(((P13-8)*I1)),-1)) -> 1300
A17: =R17 -> 청완초교 | C17: =MROUND(ROUNDDOWN(B18*0.8,-1),50) -> 1850 | E17: =C17-$S$1 -> 800 | G17: =ROUND(F18*0.8,-1) -> 1040 | I17: =ROUND(H18*0.8,-1) -> 1040 | K17: =ROUND(J18*0.8,-1) -> 1040 | M17: =ROUND(L18*0.8,-1) -> 1040 | O17: =ROUND(N18*0.8,-1) -> 1040 | Q17: =ROUND(P18*0.8,-1) -> 1040 | R17: 청완초교 | T17: 1.3 | V17: =T17+V19 -> 1.7 | X17: =V17+X21 -> 2.4 | Z17: =X17+Z23 -> 3.2 | AB17: =Z17+AB25 -> 3.9 | AD17: =AB17+AD27 -> 5.5 | AF17: =AD17+AF29 -> 6.4 | AH17: =AF17+AH31 -> 7.4 | AJ17: =AH17+AJ33 -> 8 | AL17: =AJ17+AL35 -> 9 | AN17: =AL17+AN37 -> 9 | AP17: =AN17+AP39 -> 9
B18: =$P$1+MROUND(ROUNDDOWN(R4*$I$1,-1),50) -> 2300 | D18: =B18-$P$1 -> 1000 | F18: =IF((R5)<=8,P1,P1+ROUND(INT(((R5-8)*I1)),-1)) -> 1300 | H18: =IF((R7)<=8,P1,P1+ROUND(INT(((R7-8)*I1)),-1)) -> 1300 | J18: =IF((R9)<=8,P1,P1+ROUND(INT(((R9-8)*I1)),-1)) -> 1300 | L18: =IF((R11)<=8,P1,P1+ROUND(INT(((R11-8)*I1)),-1)) -> 1300 | N18: =IF((R13)<=8,P1,P1+ROUND(INT(((R13-8)*I1)),-1)) -> 1300 | P18: =IF((R15)<=8,P1,P1+ROUND(INT(((R15-8)*I1)),-1)) -> 1300
A19: =T19 -> 구미리 | C19: =MROUND(ROUNDDOWN(B20*0.8,-1),50) -> 1950 | E19: =C19-$S$1 -> 900 | G19: =ROUND(F20*0.8,-1) -> 1110 | I19: =ROUND(H20*0.8,-1) -> 1040 | K19: =ROUND(J20*0.8,-1) -> 1040 | M19: =ROUND(L20*0.8,-1) -> 1040 | O19: =ROUND(N20*0.8,-1) -> 1040 | Q19: =ROUND(P20*0.8,-1) -> 1040 | S19: =ROUND(R20*0.8,-1) -> 1040 | T19: 구미리 | V19: 0.4 | X19: =V19+X21 -> 1.1 | Z19: =X19+Z23 -> 1.9 | AB19: =Z19+AB25 -> 2.6 | AD19: =AB19+AD27 -> 4.2 | AF19: =AD19+AF29 -> 5.1 | AH19: =AF19+AH31 -> 6.1 | AJ19: =AH19+AJ33 -> 6.7 | AL19: =AJ19+AL35 -> 7.7 | AN19: =AL19+AN37 -> 7.7 | AP19: =AN19+AP39 -> 7.7
B20: =$P$1+MROUND(ROUNDDOWN(T4*$I$1,-1),50) -> 2450 | D20: =B20-$P$1 -> 1150 | F20: =IF((T5)<=8,P1,P1+ROUND(INT(((T5-8)*I1)),-1)) -> 1390 | H20: =IF((T7)<=8,P1,P1+ROUND(INT(((T7-8)*I1)),-1)) -> 1300 | J20: =IF((T9)<=8,P1,P1+ROUND(INT(((T9-8)*I1)),-1)) -> 1300 | L20: =IF((T11)<=8,P1,P1+ROUND(INT(((T11-8)*I1)),-1)) -> 1300 | N20: =IF((T13)<=8,P1,P1+ROUND(INT(((T13-8)*I1)),-1)) -> 1300 | P20: =IF((T15)<=8,P1,P1+ROUND(INT(((T15-8)*I1)),-1)) -> 1300 | R20: =IF((T17)<=8,P1,P1+ROUND(INT(((T17-8)*I1)),-1)) -> 1300
A21: =V21 -> 배올 | C21: =MROUND(ROUNDDOWN(B22*0.8,-1),50) -> 2000 | E21: =C21-$S$1 -> 950 | G21: =ROUND(F22*0.8,-1) -> 1150 | I21: =ROUND(H22*0.8,-1) -> 1050 | K21: =ROUND(J22*0.8,-1) -> 1040 | M21: =ROUND(L22*0.8,-1) -> 1040 | O21: =ROUND(N22*0.8,-1) -> 1040 | Q21: =ROUND(P22*0.8,-1) -> 1040 | S21: =ROUND(R22*0.8,-1) -> 1040 | U21: =ROUND(T22*0.8,-1) -> 1040 | V21: 배올 | X21: 0.7 | Z21: =X21+Z23 -> 1.5 | AB21: =Z21+AB25 -> 2.2 | AD21: =AB21+AD27 -> 3.8 | AF21: =AD21+AF29 -> 4.7 | AH21: =AF21+AH31 -> 5.7 | AJ21: =AH21+AJ33 -> 6.3 | AL21: =AJ21+AL35 -> 7.3 | AN21: =AL21+AN37 -> 7.3 | AP21: =AN21+AP39 -> 7.3
B22: =$P$1+MROUND(ROUNDDOWN(V4*$I$1,-1),50) -> 2500 | D22: =B22-$P$1 -> 1200 | F22: =IF((V5)<=8,P1,P1+ROUND(INT(((V5-8)*I1)),-1)) -> 1440 | H22: =IF((V7)<=8,P1,P1+ROUND(INT(((V7-8)*I1)),-1)) -> 1310 | J22: =IF((V9)<=8,P1,P1+ROUND(INT(((V9-8)*I1)),-1)) -> 1300 | L22: =IF((V11)<=8,P1,P1+ROUND(INT(((V11-8)*I1)),-1)) -> 1300 | N22: =IF((V13)<=8,P1,P1+ROUND(INT(((V13-8)*I1)),-1)) -> 1300 | P22: =IF((V15)<=8,P1,P1+ROUND(INT(((V15-8)*I1)),-1)) -> 1300 | R22: =IF((V17)<=8,P1,P1+ROUND(INT(((V17-8)*I1)),-1)) -> 1300 | T22: =IF((V19)<=8,P1,P1+ROUND(INT(((V19-8)*I1)),-1)) -> 1300
A23: =X23 -> 신중 | C23: =MROUND(ROUNDDOWN(B24*0.8,-1),50) -> 2050 | E23: =C23-$S$1 -> 1000 | G23: =ROUND(F24*0.8,-1) -> 1220 | I23: =ROUND(H24*0.8,-1) -> 1110 | K23: =ROUND(J24*0.8,-1) -> 1050 | M23: =ROUND(L24*0.8,-1) -> 1040 | O23: =ROUND(N24*0.8,-1) -> 1040 | Q23: =ROUND(P24*0.8,-1) -> 1040 | S23: =ROUND(R24*0.8,-1) -> 1040 | U23: =ROUND(T24*0.8,-1) -> 1040 | W23: =ROUND(V24*0.8,-1) -> 1040 | X23: 신중 | Z23: 0.8 | AB23: =Z23+AB25 -> 1.5 | AD23: =AB23+AD27 -> 3.1 | AF23: =AD23+AF29 -> 4 | AH23: =AF23+AH31 -> 5 | AJ23: =AH23+AJ33 -> 5.6 | AL23: =AJ23+AL35 -> 6.6 | AN23: =AL23+AN37 -> 6.6 | AP23: =AN23+AP39 -> 6.6
B24: =$P$1+MROUND(ROUNDDOWN(X4*$I$1,-1),50) -> 2550 | D24: =B24-$P$1 -> 1250 | F24: =IF((X5)<=8,P1,P1+ROUND(INT(((X5-8)*I1)),-1)) -> 1520 | H24: =IF((X7)<=8,P1,P1+ROUND(INT(((X7-8)*I1)),-1)) -> 1390 | J24: =IF((X9)<=8,P1,P1+ROUND(INT(((X9-8)*I1)),-1)) -> 1310 | L24: =IF((X11)<=8,P1,P1+ROUND(INT(((X11-8)*I1)),-1)) -> 1300 | N24: =IF((X13)<=8,P1,P1+ROUND(INT(((X13-8)*I1)),-1)) -> 1300 | P24: =IF((X15)<=8,P1,P1+ROUND(INT(((X15-8)*I1)),-1)) -> 1300 | R24: =IF((X17)<=8,P1,P1+ROUND(INT(((X17-8)*I1)),-1)) -> 1300 | T24: =IF((X19)<=8,P1,P1+ROUND(INT(((X19-8)*I1)),-1)) -> 1300 | V24: =IF((X21)<=8,P1,P1+ROUND(INT(((X21-8)*I1)),-1)) -> 1300
A25: =Z25 -> 완주중 | C25: =MROUND(ROUNDDOWN(B26*0.8,-1),50) -> 2100 | E25: =C25-$S$1 -> 1050 | G25: =ROUND(F26*0.8,-1) -> 1290 | I25: =ROUND(H26*0.8,-1) -> 1190 | K25: =ROUND(J26*0.8,-1) -> 1120 | M25: =ROUND(L26*0.8,-1) -> 1040 | O25: =ROUND(N26*0.8,-1) -> 1040 | Q25: =ROUND(P26*0.8,-1) -> 1040 | S25: =ROUND(R26*0.8,-1) -> 1040 | U25: =ROUND(T26*0.8,-1) -> 1040 | W25: =ROUND(V26*0.8,-1) -> 1040 | Y25: =ROUND(X26*0.8,-1) -> 1040 | Z25: 완주중 | AB25: 0.7 | AD25: =AB25+AD27 -> 2.3 | AF25: =AD25+AF29 -> 3.2 | AH25: =AF25+AH31 -> 4.2 | AJ25: =AH25+AJ33 -> 4.8 | AL25: =AJ25+AL35 -> 5.8 | AN25: =AL25+AN37 -> 5.8 | AP25: =AN25+AP39 -> 5.8
B26: =$P$1+MROUND(ROUNDDOWN(Z4*$I$1,-1),50) -> 2650 | D26: =B26-$P$1 -> 1350 | F26: =IF((Z5)<=8,P1,P1+ROUND(INT(((Z5-8)*I1)),-1)) -> 1610 | H26: =IF((Z7)<=8,P1,P1+ROUND(INT(((Z7-8)*I1)),-1)) -> 1490 | J26: =IF((Z9)<=8,P1,P1+ROUND(INT(((Z9-8)*I1)),-1)) -> 1400 | L26: =IF((Z11)<=8,P1,P1+ROUND(INT(((Z11-8)*I1)),-1)) -> 1300 | N26: =IF((Z13)<=8,P1,P1+ROUND(INT(((Z13-8)*I1)),-1)) -> 1300 | P26: =IF((Z15)<=8,P1,P1+ROUND(INT(((Z15-8)*I1)),-1)) -> 1300 | R26: =IF((Z17)<=8,P1,P1+ROUND(INT(((Z17-8)*I1)),-1)) -> 1300 | T26: =IF((Z19)<=8,P1,P1+ROUND(INT(((Z19-8)*I1)),-1)) -> 1300 | V26: =IF((Z21)<=8,P1,P1+ROUND(INT(((Z21-8)*I1)),-1)) -> 1300 | X26: =IF((Z23)<=8,P1,P1+ROUND(INT(((Z23-8)*I1)),-1)) -> 1300
A27: =AB27 -> 봉동농협 | C27: =MROUND(ROUNDDOWN(B28*0.8,-1),50) -> 2200 | E27: =C27-$S$1 -> 1150 | G27: =ROUND(F28*0.8,-1) -> 1350 | I27: =ROUND(H28*0.8,-1) -> 1260 | K27: =ROUND(J28*0.8,-1) -> 1190 | M27: =ROUND(L28*0.8,-1) -> 1040 | O27: =ROUND(N28*0.8,-1) -> 1040 | Q27: =ROUND(P28*0.8,-1) -> 1040 | S27: =ROUND(R28*0.8,-1) -> 1040 | U27: =ROUND(T28*0.8,-1) -> 1040 | W27: =ROUND(V28*0.8,-1) -> 1040 | Y27: =ROUND(X28*0.8,-1) -> 1040 | AA27: =ROUND(Z28*0.8,-1) -> 1040 | AB27: 봉동농협 | AD27: 1.6 | AF27: =AD27+AF29 -> 2.5 | AH27: =AF27+AH31 -> 3.5 | AJ27: =AH27+AJ33 -> 4.1 | AL27: =AJ27+AL35 -> 5.1 | AN27: =AL27+AN37 -> 5.1 | AP27: =AN27+AP39 -> 5.1
B28: =$P$1+MROUND(ROUNDDOWN(AB4*$I$1,-1),50) -> 2750 | D28: =B28-$P$1 -> 1450 | F28: =IF((AB5)<=8,P1,P1+ROUND(INT(((AB5-8)*I1)),-1)) -> 1690 | H28: =IF((AB7)<=8,P1,P1+ROUND(INT(((AB7-8)*I1)),-1)) -> 1570 | J28: =IF((AB9)<=8,P1,P1+ROUND(INT(((AB9-8)*I1)),-1)) -> 1490 | L28: =IF((AB11)<=8,P1,P1+ROUND(INT(((AB11-8)*I1)),-1)) -> 1300 | N28: =IF((AB13)<=8,P1,P1+ROUND(INT(((AB13-8)*I1)),-1)) -> 1300 | P28: =IF((AB15)<=8,P1,P1+ROUND(INT(((AB15-8)*I1)),-1)) -> 1300 | R28: =IF((AB17)<=8,P1,P1+ROUND(INT(((AB17-8)*I1)),-1)) -> 1300 | T28: =IF((AB19)<=8,P1,P1+ROUND(INT(((AB19-8)*I1)),-1)) -> 1300 | V28: =IF((AB21)<=8,P1,P1+ROUND(INT(((AB21-8)*I1)),-1)) -> 1300 | X28: =IF((AB23)<=8,P1,P1+ROUND(INT(((AB23-8)*I1)),-1)) -> 1300 | Z28: =IF((AB25)<=8,P1,P1+ROUND(INT(((AB25-8)*I1)),-1)) -> 1300
A29: =AD29 -> 완주서 | C29: =MROUND(ROUNDDOWN(B30*0.8,-1),50) -> 2350 | E29: =C29-$S$1 -> 1300 | G29: =ROUND(F30*0.8,-1) -> 1500 | I29: =ROUND(H30*0.8,-1) -> 1400 | K29: =ROUND(J30*0.8,-1) -> 1340 | M29: =ROUND(L30*0.8,-1) -> 1100 | O29: =ROUND(N30*0.8,-1) -> 1040 | Q29: =ROUND(P30*0.8,-1) -> 1040 | S29: =ROUND(R30*0.8,-1) -> 1040 | U29: =ROUND(T30*0.8,-1) -> 1040 | W29: =ROUND(V30*0.8,-1) -> 1040 | Y29: =ROUND(X30*0.8,-1) -> 1040 | AA29: =ROUND(Z30*0.8,-1) -> 1040 | AC29: =ROUND(AB30*0.8,-1) -> 1040 | AD29: 완주서 | AF29: 0.9 | AH29: =AF29+AH31 -> 1.9 | AJ29: =AH29+AJ33 -> 2.5 | AL29: =AJ29+AL35 -> 3.5 | AN29: =AL29+AN37 -> 3.5 | AP29: =AN29+AP39 -> 3.5
B30: =$P$1+MROUND(ROUNDDOWN(AD4*$I$1,-1),50) -> 2950 | D30: =B30-$P$1 -> 1650 | F30: =IF((AD5)<=8,P1,P1+ROUND(INT(((AD5-8)*I1)),-1)) -> 1880 | H30: =IF((AD7)<=8,P1,P1+ROUND(INT(((AD7-8)*I1)),-1)) -> 1750 | J30: =IF((AD9)<=8,P1,P1+ROUND(INT(((AD9-8)*I1)),-1)) -> 1670 | L30: =IF((AD11)<=8,P1,P1+ROUND(INT(((AD11-8)*I1)),-1)) -> 1370 | N30: =IF((AD13)<=8,P1,P1+ROUND(INT(((AD13-8)*I1)),-1)) -> 1300 | P30: =IF((AD15)<=8,P1,P1+ROUND(INT(((AD15-8)*I1)),-1)) -> 1300 | R30: =IF((AD17)<=8,P1,P1+ROUND(INT(((AD17-8)*I1)),-1)) -> 1300 | T30: =IF((AD19)<=8,P1,P1+ROUND(INT(((AD19-8)*I1)),-1)) -> 1300 | V30: =IF((AD21)<=8,P1,P1+ROUND(INT(((AD21-8)*I1)),-1)) -> 1300 | X30: =IF((AD23)<=8,P1,P1+ROUND(INT(((AD23-8)*I1)),-1)) -> 1300 | Z30: =IF((AD25)<=8,P1,P1+ROUND(INT(((AD25-8)*I1)),-1)) -> 1300 | AB30: =IF((AD27)<=8,P1,P1+ROUND(INT(((AD27-8)*I1)),-1)) -> 1300
A31: =AF31 -> 하이트 | C31: =MROUND(ROUNDDOWN(B32*0.8,-1),50) -> 2450 | E31: =C31-$S$1 -> 1400 | G31: =ROUND(F32*0.8,-1) -> 1590 | I31: =ROUND(H32*0.8,-1) -> 1490 | K31: =ROUND(J32*0.8,-1) -> 1420 | M31: =ROUND(L32*0.8,-1) -> 1180 | O31: =ROUND(N32*0.8,-1) -> 1100 | Q31: =ROUND(P32*0.8,-1) -> 1040 | S31: =ROUND(R32*0.8,-1) -> 1040 | U31: =ROUND(T32*0.8,-1) -> 1040 | W31: =ROUND(V32*0.8,-1) -> 1040 | Y31: =ROUND(X32*0.8,-1) -> 1040 | AA31: =ROUND(Z32*0.8,-1) -> 1040 | AC31: =ROUND(AB32*0.8,-1) -> 1040 | AE31: =ROUND(AD32*0.8,-1) -> 1040 | AF31: 하이트 | AH31: 1 | AJ31: =AH31+AJ33 -> 1.6 | AL31: =AJ31+AL35 -> 2.6 | AN31: =AL31+AN37 -> 2.6 | AP31: =AN31+AP39 -> 2.6
B32: =$P$1+MROUND(ROUNDDOWN(AF4*$I$1,-1),50) -> 3050 | D32: =B32-$P$1 -> 1750 | F32: =IF((AF5)<=8,P1,P1+ROUND(INT(((AF5-8)*I1)),-1)) -> 1990 | H32: =IF((AF7)<=8,P1,P1+ROUND(INT(((AF7-8)*I1)),-1)) -> 1860 | J32: =IF((AF9)<=8,P1,P1+ROUND(INT(((AF9-8)*I1)),-1)) -> 1780 | L32: =IF((AF11)<=8,P1,P1+ROUND(INT(((AF11-8)*I1)),-1)) -> 1470 | N32: =IF((AF13)<=8,P1,P1+ROUND(INT(((AF13-8)*I1)),-1)) -> 1370 | P32: =IF((AF15)<=8,P1,P1+ROUND(INT(((AF15-8)*I1)),-1)) -> 1300 | R32: =IF((AF17)<=8,P1,P1+ROUND(INT(((AF17-8)*I1)),-1)) -> 1300 | T32: =IF((AF19)<=8,P1,P1+ROUND(INT(((AF19-8)*I1)),-1)) -> 1300 | V32: =IF((AF21)<=8,P1,P1+ROUND(INT(((AF21-8)*I1)),-1)) -> 1300 | X32: =IF((AF23)<=8,P1,P1+ROUND(INT(((AF23-8)*I1)),-1)) -> 1300 | Z32: =IF((AF25)<=8,P1,P1+ROUND(INT(((AF25-8)*I1)),-1)) -> 1300 | AB32: =IF((AF27)<=8,P1,P1+ROUND(INT(((AF27-8)*I1)),-1)) -> 1300 | AD32: =IF((AF29)<=8,P1,P1+ROUND(INT(((AF29-8)*I1)),-1)) -> 1300
A33: =AH33 -> 봉강 | C33: =MROUND(ROUNDDOWN(B34*0.8,-1),50) -> 2500 | E33: =C33-$S$1 -> 1450 | G33: =ROUND(F34*0.8,-1) -> 1680 | I33: =ROUND(H34*0.8,-1) -> 1580 | K33: =ROUND(J34*0.8,-1) -> 1510 | M33: =ROUND(L34*0.8,-1) -> 1270 | O33: =ROUND(N34*0.8,-1) -> 1190 | Q33: =ROUND(P34*0.8,-1) -> 1100 | S33: =ROUND(R34*0.8,-1) -> 1040 | U33: =ROUND(T34*0.8,-1) -> 1040 | W33: =ROUND(V34*0.8,-1) -> 1040 | Y33: =ROUND(X34*0.8,-1) -> 1040 | AA33: =ROUND(Z34*0.8,-1) -> 1040 | AC33: =ROUND(AB34*0.8,-1) -> 1040 | AE33: =ROUND(AD34*0.8,-1) -> 1040 | AG33: =ROUND(AF34*0.8,-1) -> 1040 | AH33: 봉강 | AJ33: 0.6 | AL33: =AJ33+AL35 -> 1.6 | AN33: =AL33+AN37 -> 1.6 | AP33: =AN33+AP39 -> 1.6
B34: =$P$1+MROUND(ROUNDDOWN(AH4*$I$1,-1),50) -> 3150 | D34: =B34-$P$1 -> 1850 | F34: =IF((AH5)<=8,P1,P1+ROUND(INT(((AH5-8)*I1)),-1)) -> 2100 | H34: =IF((AH7)<=8,P1,P1+ROUND(INT(((AH7-8)*I1)),-1)) -> 1970 | J34: =IF((AH9)<=8,P1,P1+ROUND(INT(((AH9-8)*I1)),-1)) -> 1890 | L34: =IF((AH11)<=8,P1,P1+ROUND(INT(((AH11-8)*I1)),-1)) -> 1590 | N34: =IF((AH13)<=8,P1,P1+ROUND(INT(((AH13-8)*I1)),-1)) -> 1490 | P34: =IF((AH15)<=8,P1,P1+ROUND(INT(((AH15-8)*I1)),-1)) -> 1380 | R34: =IF((AH17)<=8,P1,P1+ROUND(INT(((AH17-8)*I1)),-1)) -> 1300 | T34: =IF((AH19)<=8,P1,P1+ROUND(INT(((AH19-8)*I1)),-1)) -> 1300 | V34: =IF((AH21)<=8,P1,P1+ROUND(INT(((AH21-8)*I1)),-1)) -> 1300 | X34: =IF((AH23)<=8,P1,P1+ROUND(INT(((AH23-8)*I1)),-1)) -> 1300 | Z34: =IF((AH25)<=8,P1,P1+ROUND(INT(((AH25-8)*I1)),-1)) -> 1300 | AB34: =IF((AH27)<=8,P1,P1+ROUND(INT(((AH27-8)*I1)),-1)) -> 1300 | AD34: =IF((AH29)<=8,P1,P1+ROUND(INT(((AH29-8)*I1)),-1)) -> 1300 | AF34: =IF((AH31)<=8,P1,P1+ROUND(INT(((AH31-8)*I1)),-1)) -> 1300
A35: =AJ35 -> 구만리 | C35: =MROUND(ROUNDDOWN(B36*0.8,-1),50) -> 2550 | E35: =C35-$S$1 -> 1500 | G35: =ROUND(F36*0.8,-1) -> 1740 | I35: =ROUND(H36*0.8,-1) -> 1630 | K35: =ROUND(J36*0.8,-1) -> 1570 | M35: =ROUND(L36*0.8,-1) -> 1330 | O35: =ROUND(N36*0.8,-1) -> 1250 | Q35: =ROUND(P36*0.8,-1) -> 1160 | S35: =ROUND(R36*0.8,-1) -> 1040 | U35: =ROUND(T36*0.8,-1) -> 1040 | W35: =ROUND(V36*0.8,-1) -> 1040 | Y35: =ROUND(X36*0.8,-1) -> 1040 | AA35: =ROUND(Z36*0.8,-1) -> 1040 | AC35: =ROUND(AB36*0.8,-1) -> 1040 | AE35: =ROUND(AD36*0.8,-1) -> 1040 | AG35: =ROUND(AF36*0.8,-1) -> 1040 | AI35: =ROUND(AH36*0.8,-1) -> 1040 | AJ35: 구만리 | AL35: 1 | AN35: =AL35+AN37 -> 1 | AP35: =AN35+AP39 -> 1
B36: =$P$1+MROUND(ROUNDDOWN(AJ4*$I$1,-1),50) -> 3200 | D36: =B36-$P$1 -> 1900 | F36: =IF((AJ5)<=8,P1,P1+ROUND(INT(((AJ5-8)*I1)),-1)) -> 2170 | H36: =IF((AJ7)<=8,P1,P1+ROUND(INT(((AJ7-8)*I1)),-1)) -> 2040 | J36: =IF((AJ9)<=8,P1,P1+ROUND(INT(((AJ9-8)*I1)),-1)) -> 1960 | L36: =IF((AJ11)<=8,P1,P1+ROUND(INT(((AJ11-8)*I1)),-1)) -> 1660 | N36: =IF((AJ13)<=8,P1,P1+ROUND(INT(((AJ13-8)*I1)),-1)) -> 1560 | P36: =IF((AJ15)<=8,P1,P1+ROUND(INT(((AJ15-8)*I1)),-1)) -> 1450 | R36: =IF((AJ17)<=8,P1,P1+ROUND(INT(((AJ17-8)*I1)),-1)) -> 1300 | T36: =IF((AJ19)<=8,P1,P1+ROUND(INT(((AJ19-8)*I1)),-1)) -> 1300 | V36: =IF((AJ21)<=8,P1,P1+ROUND(INT(((AJ21-8)*I1)),-1)) -> 1300 | X36: =IF((AJ23)<=8,P1,P1+ROUND(INT(((AJ23-8)*I1)),-1)) -> 1300 | Z36: =IF((AJ25)<=8,P1,P1+ROUND(INT(((AJ25-8)*I1)),-1)) -> 1300 | AB36: =IF((AJ27)<=8,P1,P1+ROUND(INT(((AJ27-8)*I1)),-1)) -> 1300 | AD36: =IF((AJ29)<=8,P1,P1+ROUND(INT(((AJ29-8)*I1)),-1)) -> 1300 | AF36: =IF((AJ31)<=8,P1,P1+ROUND(INT(((AJ31-8)*I1)),-1)) -> 1300 | AH36: =IF((AJ33)<=8,P1,P1+ROUND(INT(((AJ33-8)*I1)),-1)) -> 1300
A37: =AL37 -> 완주군청 | C37: =MROUND(ROUNDDOWN(B38*0.8,-1),50) -> 2700 | E37: =C37-$S$1 -> 1650 | G37: =ROUND(F38*0.8,-1) -> 1830 | I37: =ROUND(H38*0.8,-1) -> 1730 | K37: =ROUND(J38*0.8,-1) -> 1660 | M37: =ROUND(L38*0.8,-1) -> 1420 | O37: =ROUND(N38*0.8,-1) -> 1340 | Q37: =ROUND(P38*0.8,-1) -> 1260 | S37: =ROUND(R38*0.8,-1) -> 1140 | U37: =ROUND(T38*0.8,-1) -> 1040 | W37: =ROUND(V38*0.8,-1) -> 1040 | Y37: =ROUND(X38*0.8,-1) -> 1040 | AA37: =ROUND(Z38*0.8,-1) -> 1040 | AC37: =ROUND(AB38*0.8,-1) -> 1040 | AE37: =ROUND(AD38*0.8,-1) -> 1040 | AG37: =ROUND(AF38*0.8,-1) -> 1040 | AI37: =ROUND(AH38*0.8,-1) -> 1040 | AK37: =ROUND(AJ38*0.8,-1) -> 1040 | AL37: 완주군청 | AP37: =AN37+AP39 -> 0
B38: =$P$1+MROUND(ROUNDDOWN(AL4*$I$1,-1),50) -> 3350 | D38: =B38-$P$1 -> 2050 | F38: =IF((AL5)<=8,P1,P1+ROUND(INT(((AL5-8)*I1)),-1)) -> 2290 | H38: =IF((AL7)<=8,P1,P1+ROUND(INT(((AL7-8)*I1)),-1)) -> 2160 | J38: =IF((AL9)<=8,P1,P1+ROUND(INT(((AL9-8)*I1)),-1)) -> 2080 | L38: =IF((AL11)<=8,P1,P1+ROUND(INT(((AL11-8)*I1)),-1)) -> 1780 | N38: =IF((AL13)<=8,P1,P1+ROUND(INT(((AL13-8)*I1)),-1)) -> 1670 | P38: =IF((AL15)<=8,P1,P1+ROUND(INT(((AL15-8)*I1)),-1)) -> 1570 | R38: =IF((AL17)<=8,P1,P1+ROUND(INT(((AL17-8)*I1)),-1)) -> 1420 | T38: =IF((AL19)<=8,P1,P1+ROUND(INT(((AL19-8)*I1)),-1)) -> 1300 | V38: =IF((AL21)<=8,P1,P1+ROUND(INT(((AL21-8)*I1)),-1)) -> 1300 | X38: =IF((AL23)<=8,P1,P1+ROUND(INT(((AL23-8)*I1)),-1)) -> 1300 | Z38: =IF((AL25)<=8,P1,P1+ROUND(INT(((AL25-8)*I1)),-1)) -> 1300 | AB38: =IF((AL27)<=8,P1,P1+ROUND(INT(((AL27-8)*I1)),-1)) -> 1300 | AD38: =IF((AL29)<=8,P1,P1+ROUND(INT(((AL29-8)*I1)),-1)) -> 1300 | AF38: =IF((AL31)<=8,P1,P1+ROUND(INT(((AL31-8)*I1)),-1)) -> 1300 | AH38: =IF((AL33)<=8,P1,P1+ROUND(INT(((AL33-8)*I1)),-1)) -> 1300 | AJ38: =IF((AL35)<=8,P1,P1+ROUND(INT(((AL35-8)*I1)),-1)) -> 1300
A39: =AN39 -> 비봉 | C39: =MROUND(ROUNDDOWN(B40*0.8,-1),50) -> 2700 | E39: =C39-$S$1 -> 1650 | G39: =ROUND(F40*0.8,-1) -> 1830 | I39: =ROUND(H40*0.8,-1) -> 1730 | K39: =ROUND(J40*0.8,-1) -> 1660 | M39: =ROUND(L40*0.8,-1) -> 1420 | O39: =ROUND(N40*0.8,-1) -> 1340 | Q39: =ROUND(P40*0.8,-1) -> 1260 | S39: =ROUND(R40*0.8,-1) -> 1140 | U39: =ROUND(T40*0.8,-1) -> 1040 | W39: =ROUND(V40*0.8,-1) -> 1040 | Y39: =ROUND(X40*0.8,-1) -> 1040 | AA39: =ROUND(Z40*0.8,-1) -> 1040 | AC39: =ROUND(AB40*0.8,-1) -> 1040 | AE39: =ROUND(AD40*0.8,-1) -> 1040 | AG39: =ROUND(AF40*0.8,-1) -> 1040 | AI39: =ROUND(AH40*0.8,-1) -> 1040 | AK39: =ROUND(AJ40*0.8,-1) -> 1040 | AM39: =ROUND(AL40*0.8,-1) -> 1040 | AN39: 비봉
B40: =$P$1+MROUND(ROUNDDOWN(AN4*$I$1,-1),50) -> 3350 | D40: =B40-$P$1 -> 2050 | F40: =IF((AN5)<=8,P1,P1+ROUND(INT(((AN5-8)*I1)),-1)) -> 2290 | H40: =IF((AN7)<=8,P1,P1+ROUND(INT(((AN7-8)*I1)),-1)) -> 2160 | J40: =IF((AN9)<=8,P1,P1+ROUND(INT(((AN9-8)*I1)),-1)) -> 2080 | L40: =IF((AN11)<=8,P1,P1+ROUND(INT(((AN11-8)*I1)),-1)) -> 1780 | N40: =IF((AN13)<=8,P1,P1+ROUND(INT(((AN13-8)*I1)),-1)) -> 1670 | P40: =IF((AN15)<=8,P1,P1+ROUND(INT(((AN15-8)*I1)),-1)) -> 1570 | R40: =IF((AN17)<=8,P1,P1+ROUND(INT(((AN17-8)*I1)),-1)) -> 1420 | T40: =IF((AN19)<=8,P1,P1+ROUND(INT(((AN19-8)*I1)),-1)) -> 1300 | V40: =IF((AN21)<=8,P1,P1+ROUND(INT(((AN21-8)*I1)),-1)) -> 1300 | X40: =IF((AN23)<=8,P1,P1+ROUND(INT(((AN23-8)*I1)),-1)) -> 1300 | Z40: =IF((AN25)<=8,P1,P1+ROUND(INT(((AN25-8)*I1)),-1)) -> 1300 | AB40: =IF((AN27)<=8,P1,P1+ROUND(INT(((AN27-8)*I1)),-1)) -> 1300 | AD40: =IF((AN29)<=8,P1,P1+ROUND(INT(((AN29-8)*I1)),-1)) -> 1300 | AF40: =IF((AN31)<=8,P1,P1+ROUND(INT(((AN31-8)*I1)),-1)) -> 1300 | AH40: =IF((AN33)<=8,P1,P1+ROUND(INT(((AN33-8)*I1)),-1)) -> 1300 | AJ40: =IF((AN35)<=8,P1,P1+ROUND(INT(((AN35-8)*I1)),-1)) -> 1300 | AL40: =IF((AN37)<=8,P1,P1+ROUND(INT(((AN37-8)*I1)),-1)) -> 1300
A41: =AP41 -> 백제대 | C41: =MROUND(ROUNDDOWN(B42*0.8,-1),50) -> 2700 | E41: =C41-$S$1 -> 1650 | G41: =ROUND(F42*0.8,-1) -> 1830 | I41: =ROUND(H42*0.8,-1) -> 1730 | K41: =ROUND(J42*0.8,-1) -> 1660 | M41: =ROUND(L42*0.8,-1) -> 1420 | O41: =ROUND(N42*0.8,-1) -> 1340 | Q41: =ROUND(P42*0.8,-1) -> 1260 | S41: =ROUND(R42*0.8,-1) -> 1140 | U41: =ROUND(T42*0.8,-1) -> 1040 | W41: =ROUND(V42*0.8,-1) -> 1040 | Y41: =ROUND(X42*0.8,-1) -> 1040 | AA41: =ROUND(Z42*0.8,-1) -> 1040 | AC41: =ROUND(AB42*0.8,-1) -> 1040 | AE41: =ROUND(AD42*0.8,-1) -> 1040 | AG41: =ROUND(AF42*0.8,-1) -> 1040 | AI41: =ROUND(AH42*0.8,-1) -> 1040 | AK41: =ROUND(AJ42*0.8,-1) -> 1040 | AM41: =ROUND(AL42*0.8,-1) -> 1040 | AO41: =ROUND(AN42*0.8,-1) -> 1040 | AP41: 백제대
B42: =$P$1+MROUND(ROUNDDOWN(AP4*$I$1,-1),50) -> 3350 | D42: =B42-$P$1 -> 2050 | F42: =IF((AP5)<=8,P1,P1+ROUND(INT(((AP5-8)*I1)),-1)) -> 2290 | H42: =IF((AP7)<=8,P1,P1+ROUND(INT(((AP7-8)*I1)),-1)) -> 2160 | J42: =IF((AP9)<=8,P1,P1+ROUND(INT(((AP9-8)*I1)),-1)) -> 2080 | L42: =IF((AP11)<=8,P1,P1+ROUND(INT(((AP11-8)*I1)),-1)) -> 1780 | N42: =IF((AP13)<=8,P1,P1+ROUND(INT(((AP13-8)*I1)),-1)) -> 1670 | P42: =IF((AP15)<=8,P1,P1+ROUND(INT(((AP15-8)*I1)),-1)) -> 1570 | R42: =IF((AP17)<=8,P1,P1+ROUND(INT(((AP17-8)*I1)),-1)) -> 1420 | T42: =IF((AP19)<=8,P1,P1+ROUND(INT(((AP19-8)*I1)),-1)) -> 1300 | V42: =IF((AP21)<=8,P1,P1+ROUND(INT(((AP21-8)*I1)),-1)) -> 1300 | X42: =IF((AP23)<=8,P1,P1+ROUND(INT(((AP23-8)*I1)),-1)) -> 1300 | Z42: =IF((AP25)<=8,P1,P1+ROUND(INT(((AP25-8)*I1)),-1)) -> 1300 | AB42: =IF((AP27)<=8,P1,P1+ROUND(INT(((AP27-8)*I1)),-1)) -> 1300 | AD42: =IF((AP29)<=8,P1,P1+ROUND(INT(((AP29-8)*I1)),-1)) -> 1300 | AF42: =IF((AP31)<=8,P1,P1+ROUND(INT(((AP31-8)*I1)),-1)) -> 1300 | AH42: =IF((AP33)<=8,P1,P1+ROUND(INT(((AP33-8)*I1)),-1)) -> 1300 | AJ42: =IF((AP35)<=8,P1,P1+ROUND(INT(((AP35-8)*I1)),-1)) -> 1300 | AL42: =IF((AP37)<=8,P1,P1+ROUND(INT(((AP37-8)*I1)),-1)) -> 1300 | AN42: =IF((AP39)<=8,P1,P1+ROUND(INT(((AP39-8)*I1)),-1)) -> 1300
C43: =MROUND(ROUNDDOWN(B44*0.8,-1),50) -> 1050
B44: =$P$1+MROUND(ROUNDDOWN(AR4*$I$1,-1),50) -> 1300

Sheet 472 춘강
H1: 요율 | I1: =[1]기본요금!C5 -> 116.14 | N1: 기본요금 | P1: =기본요금!C6 -> 1300 | R1: 중고생 | S1: =기본요금!C7 -> 1050 | V1: 기본요금거리 | X1: =[1]기본요금!C8 -> 8
B2: 전주- 성덕- 춘강(노선번호 : 472번)
A3: 승강장명 | B3: 요금 | F3: 구간요금적용지역 (김제지역) | P3: =$B$3+P4 -> #VALUE! | R3: =$B$3+R4 -> #VALUE! | T3: =$B$3+T4 -> #VALUE! | V3: =$B$3+V4 -> #VALUE! | X3: =$B$3+X4 -> #VALUE! | Z3: =$B$3+Z4 -> #VALUE! | AB3: =$B$3+AB4 -> #VALUE! | AD3: =$B$3+AD4 -> #VALUE! | AF3: =$B$3+AF4 -> #VALUE! | AH3: =$B$3+AH4 -> #VALUE! | AJ3: =$B$3+AJ4 -> #VALUE! | AL3: =$B$3+AL4 -> #VALUE! | AN3: =$B$3+AN4 -> #VALUE! | AP3: =$B$3+AP4 -> #VALUE!
A4: 전주 도도리 | D4: 추가요금 | F4: 1.1 | H4: =F4+H5 -> 2.2 | J4: =H4+J7 -> 2.5 | L4: =J4+L9 -> 3.5 | N4: =L4+N11 -> 4.6 | P4: =+N4+P15 -> 4.6 | R4: =+P4+R17 -> 4.6 | T4: =+R4+T19 -> 4.6 | V4: =+T4+V21 -> 4.6 | X4: =+V4+X23 -> 4.6 | Z4: =+X4+Z25 -> 4.6 | AB4: =+Z4+AB27 -> 4.6 | AD4: =+AB4+AD29 -> 4.6 | AF4: =+AD4+AF31 -> 4.6 | AH4: =+AF4+AH33 -> 4.6 | AJ4: =+AH4+AJ35 -> 4.6 | AL4: =+AJ4+AL37 -> 4.6 | AN4: =+AL4+AN39 -> 4.6 | AP4: =+AN4+AP41 -> 4.6
A5: =F5 -> 득룡교 | C5: =MROUND(ROUNDDOWN(B6*0.8,-1),50) -> 1100 | E5: =C5-$S$1 -> 50 | F5: 득룡교 | H5: 1.1 | J5: =H5+J7 -> 1.4 | L5: =J5+L9 -> 2.4 | P5: =N5+P15 -> 0 | R5: =P5+R17 -> 0 | T5: =R5+T19 -> 0 | V5: =T5+V21 -> 0 | X5: =V5+X23 -> 0 | Z5: =X5+Z25 -> 0 | AB5: =Z5+AB27 -> 0 | AD5: =AB5+AD29 -> 0 | AF5: =AD5+AF31 -> 0 | AH5: =AF5+AH33 -> 0 | AJ5: =AH5+AJ35 -> 0 | AL5: =AJ5+AL37 -> 0 | AN5: =AL5+AN39 -> 0 | AP5: =AN5+AP41 -> 0
B6: =$P$1+MROUND(ROUNDDOWN(F4*$I$1,-1),50) -> 1400 | D6: =B6-$P$1 -> 100
A7: =H7 -> 난산 | C7: =MROUND(ROUNDDOWN(B8*0.8,-1),50) -> 1250 | E7: =C7-$S$1 -> 200 | G7: =ROUND(F8*0.8,-1) -> 1040 | H7: 난산 | J7: 0.3 | L7: =J7+L9 -> 1.3 | P7: =N7+P15 -> 0 | R7: =P7+R17 -> 0 | T7: =R7+T19 -> 0 | V7: =T7+V21 -> 0 | X7: =V7+X23 -> 0 | Z7: =X7+Z25 -> 0 | AB7: =Z7+AB27 -> 0 | AD7: =AB7+AD29 -> 0 | AF7: =AD7+AF31 -> 0 | AH7: =AF7+AH33 -> 0 | AJ7: =AH7+AJ35 -> 0 | AL7: =AJ7+AL37 -> 0 | AN7: =AL7+AN39 -> 0 | AP7: =AN7+AP41 -> 0
B8: =$P$1+MROUND(ROUNDDOWN(H4*$I$1,-1),50) -> 1550 | D8: =B8-$P$1 -> 250 | F8: =IF((H5)<=8,P1,P1+ROUND(INT(((H5-8)*I1)),-1)) -> 1300
A9: 청산 | C9: =MROUND(ROUNDDOWN(B10*0.8,-1),50) -> 1300 | E9: =C9-$S$1 -> 250 | G9: =ROUND(F10*0.8,-1) -> #REF! | I9: =ROUND(H10*0.8,-1) -> #REF! | J9: 청산 | L9: 1
B10: =$P$1+MROUND(ROUNDDOWN(J4*$I$1,-1),50) -> 1600 | D10: =B10-$P$1 -> 300 | F10: =IF((J3)<=8,#REF!,#REF!+ROUND(INT(((J3-8)*#REF!)),-1)) -> #REF! | H10: =IF((L3)<=8,#REF!,#REF!+ROUND(INT(((L3-8)*#REF!)),-1)) -> #REF!
A11: =L11 -> 영천 | C11: =MROUND(ROUNDDOWN(B12*0.8,-1),50) -> 1350 | E11: =C11-$S$1 -> 300 | G11: =ROUND(F12*0.8,-1) -> 1040 | I11: =ROUND(H12*0.8,-1) -> 1040 | K11: =ROUND(J12*0.8,-1) -> #VALUE! | L11: 영천 | N11: 1.1 | P11: =#REF!+P15 -> #REF! | R11: =P11+R17 -> #REF! | T11: =R11+T19 -> #REF! | V11: =T11+V21 -> #REF! | X11: =V11+X23 -> #REF! | Z11: =X11+Z25 -> #REF! | AB11: =Z11+AB27 -> #REF! | AD11: =AB11+AD29 -> #REF! | AF11: =AD11+AF31 -> #REF! | AH11: =AF11+AH33 -> #REF! | AJ11: =AH11+AJ35 -> #REF! | AL11: =AJ11+AL37 -> #REF! | AN11: =AL11+AN39 -> #REF! | AP11: =AN11+AP41 -> #REF!
B12: =$P$1+MROUND(ROUNDDOWN(L4*$I$1,-1),50) -> 1700 | D12: =B12-$P$1 -> 400 | F12: =IF((J5)<=8,P1,P1+ROUND(INT(((J5-8)*I1)),-1)) -> 1300 | H12: =IF((J7)<=8,P1,P1+ROUND(INT(((J7-8)*I1)),-1)) -> 1300 | J12: =IF((L7)<=8,R1,R1+ROUND(INT(((L7-8)*K1)),-1)) -> 중고생
A13: =N13 -> 춘강 | C13: =MROUND(ROUNDDOWN(B14*0.8,-1),50) -> 1500 | E13: =C13-$S$1 -> 450 | G13: =ROUND(F14*0.8,-1) -> 1040 | I13: =ROUND(H14*0.8,-1) -> 1040 | K13: =ROUND(J14*0.8,-1) -> 1040 | M13: =ROUND(L14*0.8,-1) -> #VALUE! | N13: 춘강 | P13: =N11+P15 -> 1.1 | R13: =P13+R17 -> 1.1 | T13: =R13+T19 -> 1.1 | V13: =T13+V21 -> 1.1 | X13: =V13+X23 -> 1.1 | Z13: =X13+Z25 -> 1.1 | AB13: =Z13+AB27 -> 1.1 | AD13: =AB13+AD29 -> 1.1 | AF13: =AD13+AF31 -> 1.1 | AH13: =AF13+AH33 -> 1.1 | AJ13: =AH13+AJ35 -> 1.1 | AL13: =AJ13+AL37 -> 1.1 | AN13: =AL13+AN39 -> 1.1 | AP13: =AN13+AP41 -> 1.1
B14: =$P$1+MROUND(ROUNDDOWN(N4*$I$1,-1),50) -> 1850 | D14: =B14-$P$1 -> 550 | F14: =IF((L5)<=8,P1,P1+ROUND(INT(((L5-8)*I1)),-1)) -> 1300 | H14: =IF((L7)<=8,P1,P1+ROUND(INT(((L7-8)*I1)),-1)) -> 1300 | J14: =IF((L9)<=8,P1,P1+ROUND(INT(((L9-8)*I1)),-1)) -> 1300 | L14: =IF((N9)<=8,R1,R1+ROUND(INT(((N9-8)*K1)),-1)) -> 중고생
A15: =N15 -> 구만리 | C15: =MROUND(ROUNDDOWN(B16*0.8,-1),50) -> 1500 | E15: =C15-$S$1 -> 450 | G15: =ROUND(F16*0.8,-1) -> 1040 | I15: =ROUND(H16*0.8,-1) -> 1040 | K15: =ROUND(J16*0.8,-1) -> #REF! | M15: =ROUND(L16*0.8,-1) -> 1040 | N15: 구만리 | R15: =P15+R17 -> 0 | T15: =R15+T19 -> 0 | V15: =T15+V21 -> 0 | X15: =V15+X23 -> 0 | Z15: =X15+Z25 -> 0 | AB15: =Z15+AB27 -> 0 | AD15: =AB15+AD29 -> 0 | AF15: =AD15+AF31 -> 0 | AH15: =AF15+AH33 -> 0 | AJ15: =AH15+AJ35 -> 0 | AL15: =AJ15+AL37 -> 0 | AN15: =AL15+AN39 -> 0 | AP15: =AN15+AP41 -> 0
B16: =$P$1+MROUND(ROUNDDOWN(N4*$I$1,-1),50) -> 1850 | D16: =B16-$P$1 -> 550 | F16: =IF((N5)<=8,P1,P1+ROUND(INT(((N5-8)*I1)),-1)) -> 1300 | H16: =IF((N7)<=8,P1,P1+ROUND(INT(((N7-8)*I1)),-1)) -> 1300 | J16: =IF((#REF!)<=8,P1,P1+ROUND(INT(((#REF!-8)*I1)),-1)) -> #REF! | L16: =IF((N11)<=8,P1,P1+ROUND(INT(((N11-8)*I1)),-1)) -> 1300
A17: =P17 -> 하이트 | C17: =MROUND(ROUNDDOWN(B18*0.8,-1),50) -> 1500 | E17: =C17-$S$1 -> 450 | G17: =ROUND(F18*0.8,-1) -> 1040 | I17: =ROUND(H18*0.8,-1) -> 1040 | K17: =ROUND(J18*0.8,-1) -> #REF! | M17: =ROUND(L18*0.8,-1) -> 1040 | O17: =ROUND(N18*0.8,-1) -> 1040 | P17: 하이트 | T17: =R17+T19 -> 0 | V17: =T17+V21 -> 0 | X17: =V17+X23 -> 0 | Z17: =X17+Z25 -> 0 | AB17: =Z17+AB27 -> 0 | AD17: =AB17+AD29 -> 0 | AF17: =AD17+AF31 -> 0 | AH17: =AF17+AH33 -> 0 | AJ17: =AH17+AJ35 -> 0 | AL17: =AJ17+AL37 -> 0 | AN17: =AL17+AN39 -> 0 | AP17: =AN17+AP41 -> 0
B18: =$P$1+MROUND(ROUNDDOWN(P4*$I$1,-1),50) -> 1850 | D18: =B18-$P$1 -> 550 | F18: =IF((P5)<=8,P1,P1+ROUND(INT(((R5-8)*I1)),-1)) -> 1300 | H18: =IF((P7)<=8,P1,P1+ROUND(INT(((P7-8)*I1)),-1)) -> 1300 | J18: =IF((P11)<=8,P1,P1+ROUND(INT(((P11-8)*I1)),-1)) -> #REF! | L18: =IF((P13)<=8,P1,P1+ROUND(INT(((P13-8)*I1)),-1)) -> 1300 | N18: =IF((P15)<=8,P1,P1+ROUND(INT(((P15-8)*I1)),-1)) -> 1300
A19: =R19 -> 봉동주공 | C19: =MROUND(ROUNDDOWN(B20*0.8,-1),50) -> 1500 | E19: =C19-$S$1 -> 450 | G19: =ROUND(F20*0.8,-1) -> 1040 | I19: =ROUND(H20*0.8,-1) -> 1040 | K19: =ROUND(J20*0.8,-1) -> #REF! | M19: =ROUND(L20*0.8,-1) -> 1040 | O19: =ROUND(N20*0.8,-1) -> 1040 | Q19: =ROUND(P20*0.8,-1) -> 1040 | R19: 봉동주공 | V19: =T19+V21 -> 0 | X19: =V19+X23 -> 0 | Z19: =X19+Z25 -> 0 | AB19: =Z19+AB27 -> 0 | AD19: =AB19+AD29 -> 0 | AF19: =AD19+AF31 -> 0 | AH19: =AF19+AH33 -> 0 | AJ19: =AH19+AJ35 -> 0 | AL19: =AJ19+AL37 -> 0 | AN19: =AL19+AN39 -> 0 | AP19: =AN19+AP41 -> 0
B20: =$P$1+MROUND(ROUNDDOWN(R4*$I$1,-1),50) -> 1850 | D20: =B20-$P$1 -> 550 | F20: =IF((R5)<=8,P1,P1+ROUND(INT(((R5-8)*I1)),-1)) -> 1300 | H20: =IF((R7)<=8,P1,P1+ROUND(INT(((R7-8)*I1)),-1)) -> 1300 | J20: =IF((R11)<=8,P1,P1+ROUND(INT(((R11-8)*I1)),-1)) -> #REF! | L20: =IF((R13)<=8,P1,P1+ROUND(INT(((R13-8)*I1)),-1)) -> 1300 | N20: =IF((R15)<=8,P1,P1+ROUND(INT(((R15-8)*I1)),-1)) -> 1300 | P20: =IF((R17)<=8,P1,P1+ROUND(INT(((R17-8)*I1)),-1)) -> 1300
A21: =T21 -> 완주고 | C21: =MROUND(ROUNDDOWN(B22*0.8,-1),50) -> 1500 | E21: =C21-$S$1 -> 450 | G21: =ROUND(F22*0.8,-1) -> 1040 | I21: =ROUND(H22*0.8,-1) -> 1040 | K21: =ROUND(J22*0.8,-1) -> #REF! | M21: =ROUND(L22*0.8,-1) -> 1040 | O21: =ROUND(N22*0.8,-1) -> 1040 | Q21: =ROUND(P22*0.8,-1) -> 1040 | S21: =ROUND(R22*0.8,-1) -> 1040 | T21: 완주고 | X21: =V21+X23 -> 0 | Z21: =X21+Z25 -> 0 | AB21: =Z21+AB27 -> 0 | AD21: =AB21+AD29 -> 0 | AF21: =AD21+AF31 -> 0 | AH21: =AF21+AH33 -> 0 | AJ21: =AH21+AJ35 -> 0 | AL21: =AJ21+AL37 -> 0 | AN21: =AL21+AN39 -> 0 | AP21: =AN21+AP41 -> 0
B22: =$P$1+MROUND(ROUNDDOWN(T4*$I$1,-1),50) -> 1850 | D22: =B22-$P$1 -> 550 | F22: =IF((T5)<=8,P1,P1+ROUND(INT(((T5-8)*I1)),-1)) -> 1300 | H22: =IF((T7)<=8,P1,P1+ROUND(INT(((T7-8)*I1)),-1)) -> 1300 | J22: =IF((T11)<=8,P1,P1+ROUND(INT(((T11-8)*I1)),-1)) -> #REF! | L22: =IF((T13)<=8,P1,P1+ROUND(INT(((T13-8)*I1)),-1)) -> 1300 | N22: =IF((T15)<=8,P1,P1+ROUND(INT(((T15-8)*I1)),-1)) -> 1300 | P22: =IF((T17)<=8,P1,P1+ROUND(INT(((T17-8)*I1)),-1)) -> 1300 | R22: =IF((T19)<=8,P1,P1+ROUND(INT(((T19-8)*I1)),-1)) -> 1300
A23: =V23 -> 학다리 | C23: =MROUND(ROUNDDOWN(B24*0.8,-1),50) -> 1500 | E23: =C23-$S$1 -> 450 | G23: =ROUND(F24*0.8,-1) -> 1040 | I23: =ROUND(H24*0.8,-1) -> 1040 | K23: =ROUND(J24*0.8,-1) -> #REF! | M23: =ROUND(L24*0.8,-1) -> 1040 | O23: =ROUND(N24*0.8,-1) -> 1040 | Q23: =ROUND(P24*0.8,-1) -> 1040 | S23: =ROUND(R24*0.8,-1) -> 1040 | U23: =ROUND(T24*0.8,-1) -> 1040 | V23: 학다리 | Z23: =X23+Z25 -> 0 | AB23: =Z23+AB27 -> 0 | AD23: =AB23+AD29 -> 0 | AF23: =AD23+AF31 -> 0 | AH23: =AF23+AH33 -> 0 | AJ23: =AH23+AJ35 -> 0 | AL23: =AJ23+AL37 -> 0 | AN23: =AL23+AN39 -> 0 | AP23: =AN23+AP41 -> 0
B24: =$P$1+MROUND(ROUNDDOWN(V4*$I$1,-1),50) -> 1850 | D24: =B24-$P$1 -> 550 | F24: =IF((V5)<=8,P1,P1+ROUND(INT(((V5-8)*I1)),-1)) -> 1300 | H24: =IF((V7)<=8,P1,P1+ROUND(INT(((V7-8)*I1)),-1)) -> 1300 | J24: =IF((V11)<=8,P1,P1+ROUND(INT(((V11-8)*I1)),-1)) -> #REF! | L24: =IF((V13)<=8,P1,P1+ROUND(INT(((V13-8)*I1)),-1)) -> 1300 | N24: =IF((V15)<=8,P1,P1+ROUND(INT(((V15-8)*I1)),-1)) -> 1300 | P24: =IF((V17)<=8,P1,P1+ROUND(INT(((V17-8)*I1)),-1)) -> 1300 | R24: =IF((V19)<=8,P1,P1+ROUND(INT(((V19-8)*I1)),-1)) -> 1300 | T24: =IF((V21)<=8,P1,P1+ROUND(INT(((V21-8)*I1)),-1)) -> 1300
A25: =X25 -> 율소리 | C25: =MROUND(ROUNDDOWN(B26*0.8,-1),50) -> 1500 | E25: =C25-$S$1 -> 450 | G25: =ROUND(F26*0.8,-1) -> 1040 | I25: =ROUND(H26*0.8,-1) -> 1040 | K25: =ROUND(J26*0.8,-1) -> #REF! | M25: =ROUND(L26*0.8,-1) -> 1040 | O25: =ROUND(N26*0.8,-1) -> 1040 | Q25: =ROUND(P26*0.8,-1) -> 1040 | S25: =ROUND(R26*0.8,-1) -> 1040 | U25: =ROUND(T26*0.8,-1) -> 1040 | W25: =ROUND(V26*0.8,-1) -> 1040 | X25: 율소리 | AB25: =Z25+AB27 -> 0 | AD25: =AB25+AD29 -> 0 | AF25: =AD25+AF31 -> 0 | AH25: =AF25+AH33 -> 0 | AJ25: =AH25+AJ35 -> 0 | AL25: =AJ25+AL37 -> 0 | AN25: =AL25+AN39 -> 0 | AP25: =AN25+AP41 -> 0
B26: =$P$1+MROUND(ROUNDDOWN(X4*$I$1,-1),50) -> 1850 | D26: =B26-$P$1 -> 550 | F26: =IF((X5)<=8,P1,P1+ROUND(INT(((X5-8)*I1)),-1)) -> 1300 | H26: =IF((X7)<=8,P1,P1+ROUND(INT(((X7-8)*I1)),-1)) -> 1300 | J26: =IF((X11)<=8,P1,P1+ROUND(INT(((X11-8)*I1)),-1)) -> #REF! | L26: =IF((X13)<=8,P1,P1+ROUND(INT(((X13-8)*I1)),-1)) -> 1300 | N26: =IF((X15)<=8,P1,P1+ROUND(INT(((X15-8)*I1)),-1)) -> 1300 | P26: =IF((X17)<=8,P1,P1+ROUND(INT(((X17-8)*I1)),-1)) -> 1300 | R26: =IF((X19)<=8,P1,P1+ROUND(INT(((X19-8)*I1)),-1)) -> 1300 | T26: =IF((X21)<=8,P1,P1+ROUND(INT(((X21-8)*I1)),-1)) -> 1300 | V26: =IF((X23)<=8,P1,P1+ROUND(INT(((X23-8)*I1)),-1)) -> 1300
A27: =Z27 -> 신기 | C27: =MROUND(ROUNDDOWN(B28*0.8,-1),50) -> 1500 | E27: =C27-$S$1 -> 450 | G27: =ROUND(F28*0.8,-1) -> 1040 | I27: =ROUND(H28*0.8,-1) -> 1040 | K27: =ROUND(J28*0.8,-1) -> #REF! | M27: =ROUND(L28*0.8,-1) -> 1040 | O27: =ROUND(N28*0.8,-1) -> 1040 | Q27: =ROUND(P28*0.8,-1) -> 1040 | S27: =ROUND(R28*0.8,-1) -> 1040 | U27: =ROUND(T28*0.8,-1) -> 1040 | W27: =ROUND(V28*0.8,-1) -> 1040 | Y27: =ROUND(X28*0.8,-1) -> 1040 | Z27: 신기 | AD27: =AB27+AD29 -> 0 | AF27: =AD27+AF31 -> 0 | AH27: =AF27+AH33 -> 0 | AJ27: =AH27+AJ35 -> 0 | AL27: =AJ27+AL37 -> 0 | AN27: =AL27+AN39 -> 0 | AP27: =AN27+AP41 -> 0
B28: =$P$1+MROUND(ROUNDDOWN(Z4*$I$1,-1),50) -> 1850 | D28: =B28-$P$1 -> 550 | F28: =IF((Z5)<=8,P1,P1+ROUND(INT(((Z5-8)*I1)),-1)) -> 1300 | H28: =IF((Z7)<=8,P1,P1+ROUND(INT(((Z7-8)*I1)),-1)) -> 1300 | J28: =IF((Z11)<=8,P1,P1+ROUND(INT(((Z11-8)*I1)),-1)) -> #REF! | L28: =IF((Z13)<=8,P1,P1+ROUND(INT(((Z13-8)*I1)),-1)) -> 1300 | N28: =IF((Z15)<=8,P1,P1+ROUND(INT(((Z15-8)*I1)),-1)) -> 1300 | P28: =IF((Z17)<=8,P1,P1+ROUND(INT(((Z17-8)*I1)),-1)) -> 1300 | R28: =IF((Z19)<=8,P1,P1+ROUND(INT(((Z19-8)*I1)),-1)) -> 1300 | T28: =IF((Z21)<=8,P1,P1+ROUND(INT(((Z21-8)*I1)),-1)) -> 1300 | V28: =IF((Z23)<=8,P1,P1+ROUND(INT(((Z23-8)*I1)),-1)) -> 1300 | X28: =IF((Z25)<=8,P1,P1+ROUND(INT(((Z25-8)*I1)),-1)) -> 1300
A29: =AB29 -> 어우리 | C29: =MROUND(ROUNDDOWN(B30*0.8,-1),50) -> 1500 | E29: =C29-$S$1 -> 450 | G29: =ROUND(F30*0.8,-1) -> 1040 | I29: =ROUND(H30*0.8,-1) -> 1040 | K29: =ROUND(J30*0.8,-1) -> #REF! | M29: =ROUND(L30*0.8,-1) -> 1040 | O29: =ROUND(N30*0.8,-1) -> 1040 | Q29: =ROUND(P30*0.8,-1) -> 1040 | S29: =ROUND(R30*0.8,-1) -> 1040 | U29: =ROUND(T30*0.8,-1) -> 1040 | W29: =ROUND(V30*0.8,-1) -> 1040 | Y29: =ROUND(X30*0.8,-1) -> 1040 | AA29: =ROUND(Z30*0.8,-1) -> 1040 | AB29: 어우리 | AF29: =AD29+AF31 -> 0 | AH29: =AF29+AH33 -> 0 | AJ29: =AH29+AJ35 -> 0 | AL29: =AJ29+AL37 -> 0 | AN29: =AL29+AN39 -> 0 | AP29: =AN29+AP41 -> 0
B30: =$P$1+MROUND(ROUNDDOWN(AB4*$I$1,-1),50) -> 1850 | D30: =B30-$P$1 -> 550 | F30: =IF((AB5)<=8,P1,P1+ROUND(INT(((AB5-8)*I1)),-1)) -> 1300 | H30: =IF((AB7)<=8,P1,P1+ROUND(INT(((AB7-8)*I1)),-1)) -> 1300 | J30: =IF((AB11)<=8,P1,P1+ROUND(INT(((AB11-8)*I1)),-1)) -> #REF! | L30: =IF((AB13)<=8,P1,P1+ROUND(INT(((AB13-8)*I1)),-1)) -> 1300 | N30: =IF((AB15)<=8,P1,P1+ROUND(INT(((AB15-8)*I1)),-1)) -> 1300 | P30: =IF((AB17)<=8,P1,P1+ROUND(INT(((AB17-8)*I1)),-1)) -> 1300 | R30: =IF((AB19)<=8,P1,P1+ROUND(INT(((AB19-8)*I1)),-1)) -> 1300 | T30: =IF((AB21)<=8,P1,P1+ROUND(INT(((AB21-8)*I1)),-1)) -> 1300 | V30: =IF((AB23)<=8,P1,P1+ROUND(INT(((AB23-8)*I1)),-1)) -> 1300 | X30: =IF((AB25)<=8,P1,P1+ROUND(INT(((AB25-8)*I1)),-1)) -> 1300 | Z30: =IF((AB27)<=8,P1,P1+ROUND(INT(((AB27-8)*I1)),-1)) -> 1300
A31: =AD31 -> 봉상 | C31: =MROUND(ROUNDDOWN(B32*0.8,-1),50) -> 1500 | E31: =C31-$S$1 -> 450 | G31: =ROUND(F32*0.8,-1) -> 1040 | I31: =ROUND(H32*0.8,-1) -> 1040 | K31: =ROUND(J32*0.8,-1) -> #REF! | M31: =ROUND(L32*0.8,-1) -> 1040 | O31: =ROUND(N32*0.8,-1) -> 1040 | Q31: =ROUND(P32*0.8,-1) -> 1040 | S31: =ROUND(R32*0.8,-1) -> 1040 | U31: =ROUND(T32*0.8,-1) -> 1040 | W31: =ROUND(V32*0.8,-1) -> 1040 | Y31: =ROUND(X32*0.8,-1) -> 1040 | AA31: =ROUND(Z32*0.8,-1) -> 1040 | AC31: =ROUND(AB32*0.8,-1) -> 1040 | AD31: 봉상 | AH31: =AF31+AH33 -> 0 | AJ31: =AH31+AJ35 -> 0 | AL31: =AJ31+AL37 -> 0 | AN31: =AL31+AN39 -> 0 | AP31: =AN31+AP41 -> 0
B32: =$P$1+MROUND(ROUNDDOWN(AD4*$I$1,-1),50) -> 1850 | D32: =B32-$P$1 -> 550 | F32: =IF((AD5)<=8,P1,P1+ROUND(INT(((AD5-8)*I1)),-1)) -> 1300 | H32: =IF((AD7)<=8,P1,P1+ROUND(INT(((AD7-8)*I1)),-1)) -> 1300 | J32: =IF((AD11)<=8,P1,P1+ROUND(INT(((AD11-8)*I1)),-1)) -> #REF! | L32: =IF((AD13)<=8,P1,P1+ROUND(INT(((AD13-8)*I1)),-1)) -> 1300 | N32: =IF((AD15)<=8,P1,P1+ROUND(INT(((AD15-8)*I1)),-1)) -> 1300 | P32: =IF((AD17)<=8,P1,P1+ROUND(INT(((AD17-8)*I1)),-1)) -> 1300 | R32: =IF((AD19)<=8,P1,P1+ROUND(INT(((AD19-8)*I1)),-1)) -> 1300 | T32: =IF((AD21)<=8,P1,P1+ROUND(INT(((AD21-8)*I1)),-1)) -> 1300 | V32: =IF((AD23)<=8,P1,P1+ROUND(INT(((AD23-8)*I1)),-1)) -> 1300 | X32: =IF((AD25)<=8,P1,P1+ROUND(INT(((AD25-8)*I1)),-1)) -> 1300 | Z32: =IF((AD27)<=8,P1,P1+ROUND(INT(((AD27-8)*I1)),-1)) -> 1300 | AB32: =IF((AD29)<=8,P1,P1+ROUND(INT(((AD29-8)*I1)),-1)) -> 1300
A33: =AF33 -> 죽산 | C33: =MROUND(ROUNDDOWN(B34*0.8,-1),50) -> 1500 | E33: =C33-$S$1 -> 450 | G33: =ROUND(F34*0.8,-1) -> 1040 | I33: =ROUND(H34*0.8,-1) -> 1040 | K33: =ROUND(J34*0.8,-1) -> #REF! | M33: =ROUND(L34*0.8,-1) -> 1040 | O33: =ROUND(N34*0.8,-1) -> 1040 | Q33: =ROUND(P34*0.8,-1) -> 1040 | S33: =ROUND(R34*0.8,-1) -> 1040 | U33: =ROUND(T34*0.8,-1) -> 1040 | W33: =ROUND(V34*0.8,-1) -> 1040 | Y33: =ROUND(X34*0.8,-1) -> 1040 | AA33: =ROUND(Z34*0.8,-1) -> 1040 | AC33: =ROUND(AB34*0.8,-1) -> 1040 | AE33: =ROUND(AD34*0.8,-1) -> 1040 | AF33: 죽산 | AJ33: =AH33+AJ35 -> 0 | AL33: =AJ33+AL37 -> 0 | AN33: =AL33+AN39 -> 0 | AP33: =AN33+AP41 -> 0
B34: =$P$1+MROUND(ROUNDDOWN(AF4*$I$1,-1),50) -> 1850 | D34: =B34-$P$1 -> 550 | F34: =IF((AF5)<=8,P1,P1+ROUND(INT(((AF5-8)*I1)),-1)) -> 1300 | H34: =IF((AF7)<=8,P1,P1+ROUND(INT(((AF7-8)*I1)),-1)) -> 1300 | J34: =IF((AF11)<=8,P1,P1+ROUND(INT(((AF11-8)*I1)),-1)) -> #REF! | L34: =IF((AF13)<=8,P1,P1+ROUND(INT(((AF13-8)*I1)),-1)) -> 1300 | N34: =IF((AF15)<=8,P1,P1+ROUND(INT(((AF15-8)*I1)),-1)) -> 1300 | P34: =IF((AF17)<=8,P1,P1+ROUND(INT(((AF17-8)*I1)),-1)) -> 1300 | R34: =IF((AF19)<=8,P1,P1+ROUND(INT(((AF19-8)*I1)),-1)) -> 1300 | T34: =IF((AF21)<=8,P1,P1+ROUND(INT(((AF21-8)*I1)),-1)) -> 1300 | V34: =IF((AF23)<=8,P1,P1+ROUND(INT(((AF23-8)*I1)),-1)) -> 1300 | X34: =IF((AF25)<=8,P1,P1+ROUND(INT(((AF25-8)*I1)),-1)) -> 1300 | Z34: =IF((AF27)<=8,P1,P1+ROUND(INT(((AF27-8)*I1)),-1)) -> 1300 | AB34: =IF((AF29)<=8,P1,P1+ROUND(INT(((AF29-8)*I1)),-1)) -> 1300 | AD34: =IF((AF31)<=8,P1,P1+ROUND(INT(((AF31-8)*I1)),-1)) -> 1300
A35: =AH35 -> 용동 | C35: =MROUND(ROUNDDOWN(B36*0.8,-1),50) -> 1500 | E35: =C35-$S$1 -> 450 | G35: =ROUND(F36*0.8,-1) -> 1040 | I35: =ROUND(H36*0.8,-1) -> 1040 | K35: =ROUND(J36*0.8,-1) -> #REF! | M35: =ROUND(L36*0.8,-1) -> 1040 | O35: =ROUND(N36*0.8,-1) -> 1040 | Q35: =ROUND(P36*0.8,-1) -> 1040 | S35: =ROUND(R36*0.8,-1) -> 1040 | U35: =ROUND(T36*0.8,-1) -> 1040 | W35: =ROUND(V36*0.8,-1) -> 1040 | Y35: =ROUND(X36*0.8,-1) -> 1040 | AA35: =ROUND(Z36*0.8,-1) -> 1040 | AC35: =ROUND(AB36*0.8,-1) -> 1040 | AE35: =ROUND(AD36*0.8,-1) -> 1040 | AG35: =ROUND(AF36*0.8,-1) -> 1040 | AH35: 용동 | AL35: =AJ35+AL37 -> 0 | AN35: =AL35+AN39 -> 0 | AP35: =AN35+AP41 -> 0
B36: =$P$1+MROUND(ROUNDDOWN(AH4*$I$1,-1),50) -> 1850 | D36: =B36-$P$1 -> 550 | F36: =IF((AH5)<=8,P1,P1+ROUND(INT(((AH5-8)*I1)),-1)) -> 1300 | H36: =IF((AH7)<=8,P1,P1+ROUND(INT(((AH7-8)*I1)),-1)) -> 1300 | J36: =IF((AH11)<=8,P1,P1+ROUND(INT(((AH11-8)*I1)),-1)) -> #REF! | L36: =IF((AH13)<=8,P1,P1+ROUND(INT(((AH13-8)*I1)),-1)) -> 1300 | N36: =IF((AH15)<=8,P1,P1+ROUND(INT(((AH15-8)*I1)),-1)) -> 1300 | P36: =IF((AH17)<=8,P1,P1+ROUND(INT(((AH17-8)*I1)),-1)) -> 1300 | R36: =IF((AH19)<=8,P1,P1+ROUND(INT(((AH19-8)*I1)),-1)) -> 1300 | T36: =IF((AH21)<=8,P1,P1+ROUND(INT(((AH21-8)*I1)),-1)) -> 1300 | V36: =IF((AH23)<=8,P1,P1+ROUND(INT(((AH23-8)*I1)),-1)) -> 1300 | X36: =IF((AH25)<=8,P1,P1+ROUND(INT(((AH25-8)*I1)),-1)) -> 1300 | Z36: =IF((AH27)<=8,P1,P1+ROUND(INT(((AH27-8)*I1)),-1)) -> 1300 | AB36: =IF((AH29)<=8,P1,P1+ROUND(INT(((AH29-8)*I1)),-1)) -> 1300 | AD36: =IF((AH31)<=8,P1,P1+ROUND(INT(((AH31-8)*I1)),-1)) -> 1300 | AF36: =IF((AH33)<=8,P1,P1+ROUND(INT(((AH33-8)*I1)),-1)) -> 1300
A37: =AJ37 -> 탄광 | C37: =MROUND(ROUNDDOWN(B38*0.8,-1),50) -> 1500 | E37: =C37-$S$1 -> 450 | G37: =ROUND(F38*0.8,-1) -> 1040 | I37: =ROUND(H38*0.8,-1) -> 1040 | K37: =ROUND(J38*0.8,-1) -> #REF! | M37: =ROUND(L38*0.8,-1) -> 1040 | O37: =ROUND(N38*0.8,-1) -> 1040 | Q37: =ROUND(P38*0.8,-1) -> 1040 | S37: =ROUND(R38*0.8,-1) -> 1040 | U37: =ROUND(T38*0.8,-1) -> 1040 | W37: =ROUND(V38*0.8,-1) -> 1040 | Y37: =ROUND(X38*0.8,-1) -> 1040 | AA37: =ROUND(Z38*0.8,-1) -> 1040 | AC37: =ROUND(AB38*0.8,-1) -> 1040 | AE37: =ROUND(AD38*0.8,-1) -> 1040 | AG37: =ROUND(AF38*0.8,-1) -> 1040 | AI37: =ROUND(AH38*0.8,-1) -> 1040 | AJ37: 탄광 | AN37: =AL37+AN39 -> 0 | AP37: =AN37+AP41 -> 0
B38: =$P$1+MROUND(ROUNDDOWN(AJ4*$I$1,-1),50) -> 1850 | D38: =B38-$P$1 -> 550 | F38: =IF((AJ5)<=8,P1,P1+ROUND(INT(((AJ5-8)*I1)),-1)) -> 1300 | H38: =IF((AJ7)<=8,P1,P1+ROUND(INT(((AJ7-8)*I1)),-1)) -> 1300 | J38: =IF((AJ11)<=8,P1,P1+ROUND(INT(((AJ11-8)*I1)),-1)) -> #REF! | L38: =IF((AJ13)<=8,P1,P1+ROUND(INT(((AJ13-8)*I1)),-1)) -> 1300 | N38: =IF((AJ15)<=8,P1,P1+ROUND(INT(((AJ15-8)*I1)),-1)) -> 1300 | P38: =IF((AJ17)<=8,P1,P1+ROUND(INT(((AJ17-8)*I1)),-1)) -> 1300 | R38: =IF((AJ19)<=8,P1,P1+ROUND(INT(((AJ19-8)*I1)),-1)) -> 1300 | T38: =IF((AJ21)<=8,P1,P1+ROUND(INT(((AJ21-8)*I1)),-1)) -> 1300 | V38: =IF((AJ23)<=8,P1,P1+ROUND(INT(((AJ23-8)*I1)),-1)) -> 1300 | X38: =IF((AJ25)<=8,P1,P1+ROUND(INT(((AJ25-8)*I1)),-1)) -> 1300 | Z38: =IF((AJ27)<=8,P1,P1+ROUND(INT(((AJ27-8)*I1)),-1)) -> 1300 | AB38: =IF((AJ29)<=8,P1,P1+ROUND(INT(((AJ29-8)*I1)),-1)) -> 1300 | AD38: =IF((AJ31)<=8,P1,P1+ROUND(INT(((AJ31-8)*I1)),-1)) -> 1300 | AF38: =IF((AJ33)<=8,P1,P1+ROUND(INT(((AJ33-8)*I1)),-1)) -> 1300 | AH38: =IF((AJ35)<=8,P1,P1+ROUND(INT(((AJ35-8)*I1)),-1)) -> 1300
A39: =AL39 -> 문창 | C39: =MROUND(ROUNDDOWN(B40*0.8,-1),50) -> 1500 | E39: =C39-$S$1 -> 450 | G39: =ROUND(F40*0.8,-1) -> 1040 | I39: =ROUND(H40*0.8,-1) -> 1040 | K39: =ROUND(J40*0.8,-1) -> #REF! | M39: =ROUND(L40*0.8,-1) -> 1040 | O39: =ROUND(N40*0.8,-1) -> 1040 | Q39: =ROUND(P40*0.8,-1) -> 1040 | S39: =ROUND(R40*0.8,-1) -> 1040 | U39: =ROUND(T40*0.8,-1) -> 1040 | W39: =ROUND(V40*0.8,-1) -> 1040 | Y39: =ROUND(X40*0.8,-1) -> 1040 | AA39: =ROUND(Z40*0.8,-1) -> 1040 | AC39: =ROUND(AB40*0.8,-1) -> 1040 | AE39: =ROUND(AD40*0.8,-1) -> 1040 | AG39: =ROUND(AF40*0.8,-1) -> 1040 | AI39: =ROUND(AH40*0.8,-1) -> 1040 | AK39: =ROUND(AJ40*0.8,-1) -> 1040 | AL39: 문창 | AP39: =AN39+AP41 -> 0
B40: =$P$1+MROUND(ROUNDDOWN(AL4*$I$1,-1),50) -> 1850 | D40: =B40-$P$1 -> 550 | F40: =IF((AL5)<=8,P1,P1+ROUND(INT(((AL5-8)*I1)),-1)) -> 1300 | H40: =IF((AL7)<=8,P1,P1+ROUND(INT(((AL7-8)*I1)),-1)) -> 1300 | J40: =IF((AL11)<=8,P1,P1+ROUND(INT(((AL11-8)*I1)),-1)) -> #REF! | L40: =IF((AL13)<=8,P1,P1+ROUND(INT(((AL13-8)*I1)),-1)) -> 1300 | N40: =IF((AL15)<=8,P1,P1+ROUND(INT(((AL15-8)*I1)),-1)) -> 1300 | P40: =IF((AL17)<=8,P1,P1+ROUND(INT(((AL17-8)*I1)),-1)) -> 1300 | R40: =IF((AL19)<=8,P1,P1+ROUND(INT(((AL19-8)*I1)),-1)) -> 1300 | T40: =IF((AL21)<=8,P1,P1+ROUND(INT(((AL21-8)*I1)),-1)) -> 1300 | V40: =IF((AL23)<=8,P1,P1+ROUND(INT(((AL23-8)*I1)),-1)) -> 1300 | X40: =IF((AL25)<=8,P1,P1+ROUND(INT(((AL25-8)*I1)),-1)) -> 1300 | Z40: =IF((AL27)<=8,P1,P1+ROUND(INT(((AL27-8)*I1)),-1)) -> 1300 | AB40: =IF((AL29)<=8,P1,P1+ROUND(INT(((AL29-8)*I1)),-1)) -> 1300 | AD40: =IF((AL31)<=8,P1,P1+ROUND(INT(((AL31-8)*I1)),-1)) -> 1300 | AF40: =IF((AL33)<=8,P1,P1+ROUND(INT(((AL33-8)*I1)),-1)) -> 1300 | AH40: =IF((AL35)<=8,P1,P1+ROUND(INT(((AL35-8)*I1)),-1)) -> 1300 | AJ40: =IF((AL37)<=8,P1,P1+ROUND(INT(((AL37-8)*I1)),-1)) -> 1300
A41: =AN41 -> 비봉 | C41: =MROUND(ROUNDDOWN(B42*0.8,-1),50) -> 1500 | E41: =C41-$S$1 -> 450 | G41: =ROUND(F42*0.8,-1) -> 1040 | I41: =ROUND(H42*0.8,-1) -> 1040 | K41: =ROUND(J42*0.8,-1) -> #REF! | M41: =ROUND(L42*0.8,-1) -> 1040 | O41: =ROUND(N42*0.8,-1) -> 1040 | Q41: =ROUND(P42*0.8,-1) -> 1040 | S41: =ROUND(R42*0.8,-1) -> 1040 | U41: =ROUND(T42*0.8,-1) -> 1040 | W41: =ROUND(V42*0.8,-1) -> 1040 | Y41: =ROUND(X42*0.8,-1) -> 1040 | AA41: =ROUND(Z42*0.8,-1) -> 1040 | AC41: =ROUND(AB42*0.8,-1) -> 1040 | AE41: =ROUND(AD42*0.8,-1) -> 1040 | AG41: =ROUND(AF42*0.8,-1) -> 1040 | AI41: =ROUND(AH42*0.8,-1) -> 1040 | AK41: =ROUND(AJ42*0.8,-1) -> 1040 | AM41: =ROUND(AL42*0.8,-1) -> 1040 | AN41: 비봉
B42: =$P$1+MROUND(ROUNDDOWN(AN4*$I$1,-1),50) -> 1850 | D42: =B42-$P$1 -> 550 | F42: =IF((AN5)<=8,P1,P1+ROUND(INT(((AN5-8)*I1)),-1)) -> 1300 | H42: =IF((AN7)<=8,P1,P1+ROUND(INT(((AN7-8)*I1)),-1)) -> 1300 | J42: =IF((AN11)<=8,P1,P1+ROUND(INT(((AN11-8)*I1)),-1)) -> #REF! | L42: =IF((AN13)<=8,P1,P1+ROUND(INT(((AN13-8)*I1)),-1)) -> 1300 | N42: =IF((AN15)<=8,P1,P1+ROUND(INT(((AN15-8)*I1)),-1)) -> 1300 | P42: =IF((AN17)<=8,P1,P1+ROUND(INT(((AN17-8)*I1)),-1)) -> 1300 | R42: =IF((AN19)<=8,P1,P1+ROUND(INT(((AN19-8)*I1)),-1)) -> 1300 | T42: =IF((AN21)<=8,P1,P1+ROUND(INT(((AN21-8)*I1)),-1)) -> 1300 | V42: =IF((AN23)<=8,P1,P1+ROUND(INT(((AN23-8)*I1)),-1)) -> 1300 | X42: =IF((AN25)<=8,P1,P1+ROUND(INT(((AN25-8)*I1)),-1)) -> 1300 | Z42: =IF((AN27)<=8,P1,P1+ROUND(INT(((AN27-8)*I1)),-1)) -> 1300 | AB42: =IF((AN29)<=8,P1,P1+ROUND(INT(((AN29-8)*I1)),-1)) -> 1300 | AD42: =IF((AN31)<=8,P1,P1+ROUND(INT(((AN31-8)*I1)),-1)) -> 1300 | AF42: =IF((AN33)<=8,P1,P1+ROUND(INT(((AN33-8)*I1)),-1)) -> 1300 | AH42: =IF((AN35)<=8,P1,P1+ROUND(INT(((AN35-8)*I1)),-1)) -> 1300 | AJ42: =IF((AN37)<=8,P1,P1+ROUND(INT(((AN37-8)*I1)),-1)) -> 1300 | AL42: =IF((AN39)<=8,P1,P1+ROUND(INT(((AN39-8)*I1)),-1)) -> 1300
A43: =AP43 -> 백제대 | C43: =MROUND(ROUNDDOWN(B44*0.8,-1),50) -> 1500 | E43: =C43-$S$1 -> 450 | G43: =ROUND(F44*0.8,-1) -> 1040 | I43: =ROUND(H44*0.8,-1) -> 1040 | K43: =ROUND(J44*0.8,-1) -> #REF! | M43: =ROUND(L44*0.8,-1) -> 1040 | O43: =ROUND(N44*0.8,-1) -> 1040 | Q43: =ROUND(P44*0.8,-1) -> 1040 | S43: =ROUND(R44*0.8,-1) -> 1040 | U43: =ROUND(T44*0.8,-1) -> 1040 | W43: =ROUND(V44*0.8,-1) -> 1040 | Y43: =ROUND(X44*0.8,-1) -> 1040 | AA43: =ROUND(Z44*0.8,-1) -> 1040 | AC43: =ROUND(AB44*0.8,-1) -> 1040 | AE43: =ROUND(AD44*0.8,-1) -> 1040 | AG43: =ROUND(AF44*0.8,-1) -> 1040 | AI43: =ROUND(AH44*0.8,-1) -> 1040 | AK43: =ROUND(AJ44*0.8,-1) -> 1040 | AM43: =ROUND(AL44*0.8,-1) -> 1040 | AO43: =ROUND(AN44*0.8,-1) -> 1040 | AP43: 백제대
B44: =$P$1+MROUND(ROUNDDOWN(AP4*$I$1,-1),50) -> 1850 | D44: =B44-$P$1 -> 550 | F44: =IF((AP5)<=8,P1,P1+ROUND(INT(((AP5-8)*I1)),-1)) -> 1300 | H44: =IF((AP7)<=8,P1,P1+ROUND(INT(((AP7-8)*I1)),-1)) -> 1300 | J44: =IF((AP11)<=8,P1,P1+ROUND(INT(((AP11-8)*I1)),-1)) -> #REF! | L44: =IF((AP13)<=8,P1,P1+ROUND(INT(((AP13-8)*I1)),-1)) -> 1300 | N44: =IF((AP15)<=8,P1,P1+ROUND(INT(((AP15-8)*I1)),-1)) -> 1300 | P44: =IF((AP17)<=8,P1,P1+ROUND(INT(((AP17-8)*I1)),-1)) -> 1300 | R44: =IF((AP19)<=8,P1,P1+ROUND(INT(((AP19-8)*I1)),-1)) -> 1300 | T44: =IF((AP21)<=8,P1,P1+ROUND(INT(((AP21-8)*I1)),-1)) -> 1300 | V44: =IF((AP23)<=8,P1,P1+ROUND(INT(((AP23-8)*I1)),-1)) -> 1300 | X44: =IF((AP25)<=8,P1,P1+ROUND(INT(((AP25-8)*I1)),-1)) -> 1300 | Z44: =IF((AP27)<=8,P1,P1+ROUND(INT(((AP27-8)*I1)),-1)) -> 1300 | AB44: =IF((AP29)<=8,P1,P1+ROUND(INT(((AP29-8)*I1)),-1)) -> 1300 | AD44: =IF((AP31)<=8,P1,P1+ROUND(INT(((AP31-8)*I1)),-1)) -> 1300 | AF44: =IF((AP33)<=8,P1,P1+ROUND(INT(((AP33-8)*I1)),-1)) -> 1300 | AH44: =IF((AP35)<=8,P1,P1+ROUND(INT(((AP35-8)*I1)),-1)) -> 1300 | AJ44: =IF((AP37)<=8,P1,P1+ROUND(INT(((AP37-8)*I1)),-1)) -> 1300 | AL44: =IF((AP39)<=8,P1,P1+ROUND(INT(((AP39-8)*I1)),-1)) -> 1300 | AN44: =IF((AP41)<=8,P1,P1+ROUND(INT(((AP41-8)*I1)),-1)) -> 1300
C45: =MROUND(ROUNDDOWN(B46*0.8,-1),50) -> 1050
B46: =$P$1+MROUND(ROUNDDOWN(AR4*$I$1,-1),50) -> 1300

Sheet 487백구용지
H1: 요율 | I1: 116.14 | N1: 기본요금 | P1: =기본요금!C6 -> 1300 | R1: 중고생 | S1: =기본요금!C7 -> 1050 | V1: 기본요금거리 | X1: =[1]기본요금!C8 -> 8
B2: 전주-성덕- 백구-(용지)(노선번호 : 487번)
A3: 승강장명 | B3: 요금 | F3: 구간요금적용지역 (김제지역) | AB3: =$B$3+AB4 -> #VALUE! | AD3: =$B$3+AD4 -> #VALUE! | AF3: =$B$3+AF4 -> #VALUE! | AH3: =$B$3+AH4 -> #VALUE! | AJ3: =$B$3+AJ4 -> #VALUE! | AL3: =$B$3+AL4 -> #VALUE! | AN3: =$B$3+AN4 -> #VALUE! | AP3: =$B$3+AP4 -> #VALUE!
A4: 전주도도리 | D4: 추가요금 | F4: 1.1 | H4: =F4+H5 -> 2.2 | J4: =H4+$J$7 -> 2.5 | L4: =J4+L9 -> 3.2 | N4: =L4+N11 -> 3.7 | P4: =N4+P13 -> 4.5 | R4: =P4+R15 -> 4.7 | T4: =R4+T17 -> 6.4 | V4: =T4+V19 -> 7.6 | X4: =V4+X21 -> 10.5 | AB4: =+Z4+AB25 -> 0 | AD4: =+AB4+AD27 -> 0 | AF4: =+AD4+AF29 -> 0 | AH4: =+AF4+AH31 -> 0 | AJ4: =+AH4+AJ33 -> 0 | AL4: =+AJ4+AL35 -> 0 | AN4: =+AL4+AN37 -> 0 | AP4: =+AN4+AP39 -> 0
A5: =F5 -> 득룡교 | C5: =MROUND(ROUNDDOWN(B6*0.8,-1),50) -> 1100 | E5: =C5-$S$1 -> 50 | F5: 득룡교 | H5: 1.1 | J5: =H5+J7 -> 1.4 | L5: =J5+L9 -> 2.1 | N5: =L5+N11 -> 2.6 | P5: =N5+P13 -> 3.4 | R5: =P5+R15 -> 3.6 | T5: =R5+T17 -> 5.3 | V5: =T5+V19 -> 6.5 | X5: =V5+X21 -> 9.4 | AB5: =Z5+AB25 -> 0 | AD5: =AB5+AD27 -> 0 | AF5: =AD5+AF29 -> 0 | AH5: =AF5+AH31 -> 0 | AJ5: =AH5+AJ33 -> 0 | AL5: =AJ5+AL35 -> 0 | AN5: =AL5+AN37 -> 0 | AP5: =AN5+AP39 -> 0
B6: =$P$1+MROUND(ROUNDDOWN(F4*$I$1,-1),50) -> 1400 | D6: =B6-$P$1 -> 100
A7: 난산 | C7: =MROUND(ROUNDDOWN(B8*0.8,-1),50) -> 1250 | E7: =C7-$S$1 -> 200 | G7: =MROUND(ROUNDDOWN(F8*0.8,-1),50) -> 1050 | H7: 난산 | J7: 0.3 | L7: =J7+L9 -> 1 | N7: =L7+N11 -> 1.5 | P7: =N7+P13 -> 2.3 | R7: =P7+R15 -> 2.5 | T7: =R7+T17 -> 4.2 | V7: =T7+V19 -> 5.4 | X7: =V7+X21 -> 8.3 | AB7: =Z7+AB25 -> 0 | AD7: =AB7+AD27 -> 0 | AF7: =AD7+AF29 -> 0 | AH7: =AF7+AH31 -> 0 | AJ7: =AH7+AJ33 -> 0 | AL7: =AJ7+AL35 -> 0 | AN7: =AL7+AN37 -> 0 | AP7: =AN7+AP39 -> 0
B8: =$P$1+MROUND(ROUNDDOWN(H4*$I$1,-1),50) -> 1550 | D8: =B8-$P$1 -> 250 | F8: =IF((H5)<=$X$1,$P$1,$P$1+MROUND(ROUNDDOWN((H5-$X$1)*$I$1,-1),50)) -> 1300
A9: 난산삼거리 | C9: =MROUND(ROUNDDOWN(B10*0.8,-1),50) -> 1300 | E9: =C9-$S$1 -> 250 | G9: =MROUND(ROUNDDOWN(F10*0.8,-1),50) -> 1050 | I9: =MROUND(ROUNDDOWN(H10*0.8,-1),50) -> 1050 | J9: 난산삼거리 | L9: 0.7 | N9: =L9+N11 -> 1.2 | P9: =N9+P13 -> 2 | R9: =P9+R15 -> 2.2 | T9: =R9+T17 -> 3.9 | V9: =T9+V19 -> 5.1 | X9: =V9+X21 -> 8 | AB9: =Z9+AB25 -> 0 | AD9: =AB9+AD27 -> 0 | AF9: =AD9+AF29 -> 0 | AH9: =AF9+AH31 -> 0 | AJ9: =AH9+AJ33 -> 0 | AL9: =AJ9+AL35 -> 0 | AN9: =AL9+AN37 -> 0 | AP9: =AN9+AP39 -> 0
B10: =$P$1+MROUND(ROUNDDOWN(J4*$I$1,-1),50) -> 1600 | D10: =B10-$P$1 -> 300 | F10: =IF((J5)<=$X$1,$P$1,$P$1+MROUND(ROUNDDOWN((J5-$X$1)*$I$1,-1),50)) -> 1300 | H10: =IF((J7)<=$X$1,$P$1,$P$1+MROUND(ROUNDDOWN((J7-$X$1)*$I$1,-1),50)) -> 1300
A11: 학동.전북농식품 인력개발원 | C11: =MROUND(ROUNDDOWN(B12*0.8,-1),50) -> 1300 | E11: =C11-$S$1 -> 250 | G11: =MROUND(ROUNDDOWN(F12*0.8,-1),50) -> 1050 | I11: =MROUND(ROUNDDOWN(H12*0.8,-1),50) -> 1050 | K11: =ROUND(J12*0.8,-1) -> 1040 | L11: 학동.전북농식품 인력개발원 | N11: 0.5 | P11: =N11+P13 -> 1.3 | R11: =P11+R15 -> 1.5 | T11: =R11+T17 -> 3.2 | V11: =T11+V19 -> 4.4 | X11: =V11+X21 -> 7.3 | AB11: =Z11+AB25 -> 0 | AD11: =AB11+AD27 -> 0 | AF11: =AD11+AF29 -> 0 | AH11: =AF11+AH31 -> 0 | AJ11: =AH11+AJ33 -> 0 | AL11: =AJ11+AL35 -> 0 | AN11: =AL11+AN37 -> 0 | AP11: =AN11+AP39 -> 0
B12: =$P$1+MROUND(ROUNDDOWN(L4*$I$1,-1),50) -> 1650 | D12: =B12-$P$1 -> 350 | F12: =IF((L5)<=$X$1,$P$1,$P$1+MROUND(ROUNDDOWN((L5-$X$1)*$I$1,-1),50)) -> 1300 | H12: =IF((L7)<=$X$1,$P$1,$P$1+MROUND(ROUNDDOWN((L7-$X$1)*$I$1,-1),50)) -> 1300 | J12: =IF((L9)<=8,P1,P1+ROUND(INT(((L9-8)*I1)),-1)) -> 1300
A13: 공술마을 | C13: =MROUND(ROUNDDOWN(B14*0.8,-1),50) -> 1350 | E13: =C13-$S$1 -> 300 | G13: =MROUND(ROUNDDOWN(F14*0.8,-1),50) -> 1050 | I13: =MROUND(ROUNDDOWN(H14*0.8,-1),50) -> 1050 | K13: =ROUND(J14*0.8,-1) -> 1040 | M13: =ROUND(L14*0.8,-1) -> 1040 | N13: 공술마을 | P13: 0.8 | T13: =R13+T17 -> 1.7 | V13: =T13+V19 -> 2.9 | X13: =V13+X21 -> 5.8 | AB13: =Z13+AB25 -> 0 | AD13: =AB13+AD27 -> 0 | AF13: =AD13+AF29 -> 0 | AH13: =AF13+AH31 -> 0 | AJ13: =AH13+AJ33 -> 0 | AL13: =AJ13+AL35 -> 0 | AN13: =AL13+AN37 -> 0 | AP13: =AN13+AP39 -> 0
B14: =$P$1+MROUND(ROUNDDOWN(N4*$I$1,-1),50) -> 1700 | D14: =B14-$P$1 -> 400 | F14: =IF((N5)<=$X$1,$P$1,$P$1+MROUND(ROUNDDOWN((N5-$X$1)*$I$1,-1),50)) -> 1300 | H14: =IF((N7)<=$X$1,$P$1,$P$1+MROUND(ROUNDDOWN((N7-$X$1)*$I$1,-1),50)) -> 1300 | J14: =IF((N9)<=8,P1,P1+ROUND(INT(((N9-8)*I1)),-1)) -> 1300 | L14: =IF((N11)<=8,P1,P1+ROUND(INT(((N11-8)*I1)),-1)) -> 1300
A15: 석담 | C15: =MROUND(ROUNDDOWN(B16*0.8,-1),50) -> 1450 | E15: =C15-$S$1 -> 400 | G15: =MROUND(ROUNDDOWN(F16*0.8,-1),50) -> 1050 | I15: =MROUND(ROUNDDOWN(H16*0.8,-1),50) -> 1050 | K15: =ROUND(J16*0.8,-1) -> 1040 | M15: =ROUND(L16*0.8,-1) -> 1040 | O15: =ROUND(N16*0.8,-1) -> 1040 | P15: 석담 | R15: 0.2 | T15: =R15+T17 -> 1.9 | V15: =T15+V19 -> 3.1 | X15: =V15+X21 -> 6 | AB15: =Z15+AB25 -> 0 | AD15: =AB15+AD27 -> 0 | AF15: =AD15+AF29 -> 0 | AH15: =AF15+AH31 -> 0 | AJ15: =AH15+AJ33 -> 0 | AL15: =AJ15+AL35 -> 0 | AN15: =AL15+AN37 -> 0 | AP15: =AN15+AP39 -> 0
B16: =$P$1+MROUND(ROUNDDOWN(P4*$I$1,-1),50) -> 1800 | D16: =B16-$P$1 -> 500 | F16: =IF((P5)<=$X$1,$P$1,$P$1+MROUND(ROUNDDOWN((P5-$X$1)*$I$1,-1),50)) -> 1300 | H16: =IF((P7)<=$X$1,$P$1,$P$1+MROUND(ROUNDDOWN((P7-$X$1)*$I$1,-1),50)) -> 1300 | J16: =IF((P9)<=8,P1,P1+ROUND(INT(((P9-8)*I1)),-1)) -> 1300 | L16: =IF((P11)<=8,P1,P1+ROUND(INT(((P11-8)*I1)),-1)) -> 1300 | N16: =IF((P13)<=8,P1,P1+ROUND(INT(((P13-8)*I1)),-1)) -> 1300
A17: 백구 | C17: =MROUND(ROUNDDOWN(B18*0.8,-1),50) -> 1500 | E17: =C17-$S$1 -> 450 | G17: =MROUND(ROUNDDOWN(F18*0.8,-1),50) -> 1050 | I17: =MROUND(ROUNDDOWN(H18*0.8,-1),50) -> 1050 | K17: =ROUND(J18*0.8,-1) -> 1040 | M17: =ROUND(L18*0.8,-1) -> 1040 | O17: =ROUND(N18*0.8,-1) -> 1040 | Q17: =ROUND(P18*0.8,-1) -> 1040 | R17: 백구 | T17: 1.7 | V17: =T17+V19 -> 2.9 | X17: =V17+X21 -> 5.8 | AB17: =Z17+AB25 -> 0 | AD17: =AB17+AD27 -> 0 | AF17: =AD17+AF29 -> 0 | AH17: =AF17+AH31 -> 0 | AJ17: =AH17+AJ33 -> 0 | AL17: =AJ17+AL35 -> 0 | AN17: =AL17+AN37 -> 0 | AP17: =AN17+AP39 -> 0
B18: =$P$1+MROUND(ROUNDDOWN(R4*$I$1,-1),50) -> 1850 | D18: =B18-$P$1 -> 550 | F18: =IF((R5)<=$X$1,$P$1,$P$1+MROUND(ROUNDDOWN((R5-$X$1)*$I$1,-1),50)) -> 1300 | H18: =IF((R7)<=$X$1,$P$1,$P$1+MROUND(ROUNDDOWN((R7-$X$1)*$I$1,-1),50)) -> 1300 | J18: =IF((R9)<=8,P1,P1+ROUND(INT(((R9-8)*I1)),-1)) -> 1300 | L18: =IF((R11)<=8,P1,P1+ROUND(INT(((R11-8)*I1)),-1)) -> 1300 | N18: =IF((R13)<=8,P1,P1+ROUND(INT(((R13-8)*I1)),-1)) -> 1300 | P18: =IF((R15)<=8,P1,P1+ROUND(INT(((R15-8)*I1)),-1)) -> 1300
A19: 농원 | C19: =MROUND(ROUNDDOWN(B20*0.8,-1),50) -> 1650 | E19: =C19-$S$1 -> 600 | G19: =MROUND(ROUNDDOWN(F20*0.8,-1),50) -> 1050 | I19: =MROUND(ROUNDDOWN(H20*0.8,-1),50) -> 1050 | K19: =ROUND(J20*0.8,-1) -> 1040 | M19: =ROUND(L20*0.8,-1) -> 1040 | O19: =ROUND(N20*0.8,-1) -> 1040 | Q19: =ROUND(P20*0.8,-1) -> 1040 | S19: =ROUND(R20*0.8,-1) -> 1040 | T19: 농원 | V19: 1.2 | X19: =V19+X21 -> 4.1 | AB19: =Z19+AB25 -> 0 | AD19: =AB19+AD27 -> 0 | AF19: =AD19+AF29 -> 0 | AH19: =AF19+AH31 -> 0 | AJ19: =AH19+AJ33 -> 0 | AL19: =AJ19+AL35 -> 0 | AN19: =AL19+AN37 -> 0 | AP19: =AN19+AP39 -> 0
B20: =$P$1+MROUND(ROUNDDOWN(T4*$I$1,-1),50) -> 2050 | D20: =B20-$P$1 -> 750 | F20: =IF((T5)<=$X$1,$P$1,$P$1+MROUND(ROUNDDOWN((T5-$X$1)*$I$1,-1),50)) -> 1300 | H20: =IF((T7)<=$X$1,$P$1,$P$1+MROUND(ROUNDDOWN((T7-$X$1)*$I$1,-1),50)) -> 1300 | J20: =IF((T9)<=8,P1,P1+ROUND(INT(((T9-8)*I1)),-1)) -> 1300 | L20: =IF((T11)<=8,P1,P1+ROUND(INT(((T11-8)*I1)),-1)) -> 1300 | N20: =IF((T13)<=8,P1,P1+ROUND(INT(((T13-8)*I1)),-1)) -> 1300 | P20: =IF((T15)<=8,P1,P1+ROUND(INT(((T15-8)*I1)),-1)) -> 1300 | R20: =IF((T17)<=8,P1,P1+ROUND(INT(((T17-8)*I1)),-1)) -> 1300
A21: 부용 | C21: =MROUND(ROUNDDOWN(B22*0.8,-1),50) -> 1750 | E21: =C21-$S$1 -> 700 | G21: =MROUND(ROUNDDOWN(F22*0.8,-1),50) -> 1050 | I21: =MROUND(ROUNDDOWN(H22*0.8,-1),50) -> 1050 | K21: =ROUND(J22*0.8,-1) -> 1040 | M21: =ROUND(L22*0.8,-1) -> 1040 | O21: =ROUND(N22*0.8,-1) -> 1040 | Q21: =ROUND(P22*0.8,-1) -> 1040 | S21: =ROUND(R22*0.8,-1) -> 1040 | U21: =ROUND(T22*0.8,-1) -> 1040 | V21: 부용 | X21: 2.9 | AB21: =Z21+AB25 -> 0 | AD21: =AB21+AD27 -> 0 | AF21: =AD21+AF29 -> 0 | AH21: =AF21+AH31 -> 0 | AJ21: =AH21+AJ33 -> 0 | AL21: =AJ21+AL35 -> 0 | AN21: =AL21+AN37 -> 0 | AP21: =AN21+AP39 -> 0
B22: =$P$1+MROUND(ROUNDDOWN(V4*$I$1,-1),50) -> 2200 | D22: =B22-$P$1 -> 900 | F22: =IF((V5)<=$X$1,$P$1,$P$1+MROUND(ROUNDDOWN((V5-$X$1)*$I$1,-1),50)) -> 1300 | H22: =IF((V7)<=$X$1,$P$1,$P$1+MROUND(ROUNDDOWN((V7-$X$1)*$I$1,-1),50)) -> 1300 | J22: =IF((V9)<=8,P1,P1+ROUND(INT(((V9-8)*I1)),-1)) -> 1300 | L22: =IF((V11)<=8,P1,P1+ROUND(INT(((V11-8)*I1)),-1)) -> 1300 | N22: =IF((V13)<=8,P1,P1+ROUND(INT(((V13-8)*I1)),-1)) -> 1300 | P22: =IF((V15)<=8,P1,P1+ROUND(INT(((V15-8)*I1)),-1)) -> 1300 | R22: =IF((V17)<=8,P1,P1+ROUND(INT(((V17-8)*I1)),-1)) -> 1300 | T22: =IF((V19)<=8,P1,P1+ROUND(INT(((V19-8)*I1)),-1)) -> 1300
A23: 용지 | C23: =MROUND(ROUNDDOWN(B24*0.8,-1),50) -> 2000 | E23: =C23-$S$1 -> 950 | G23: =MROUND(ROUNDDOWN(F24*0.8,-1),50) -> 1150 | I23: =MROUND(ROUNDDOWN(H24*0.8,-1),50) -> 1100 | K23: =MROUND(ROUNDDOWN(J24*0.8,-1),50) -> 1050 | M23: =ROUND(L24*0.8,-1) -> 1040 | O23: =ROUND(N24*0.8,-1) -> 1040 | Q23: =ROUND(P24*0.8,-1) -> 1040 | S23: =ROUND(R24*0.8,-1) -> 1040 | U23: =ROUND(T24*0.8,-1) -> 1040 | W23: =ROUND(V24*0.8,-1) -> 1040 | X23: 용지 | AB23: =Z23+AB25 -> 0 | AD23: =AB23+AD27 -> 0 | AF23: =AD23+AF29 -> 0 | AH23: =AF23+AH31 -> 0 | AJ23: =AH23+AJ33 -> 0 | AL23: =AJ23+AL35 -> 0 | AN23: =AL23+AN37 -> 0 | AP23: =AN23+AP39 -> 0
B24: =$P$1+MROUND(ROUNDDOWN(X4*$I$1,-1),50) -> 2500 | D24: =B24-$P$1 -> 1200 | F24: =IF((X5)<=$X$1,$P$1,$P$1+MROUND(ROUNDDOWN((X5-$X$1)*$I$1,-1),50)) -> 1450 | H24: =IF((X7)<=$X$1,$P$1,$P$1+MROUND(ROUNDDOWN((X7-$X$1)*$I$1,-1),50)) -> 1350 | J24: =IF((X9)<=8,P1,P1+ROUND(INT(((X9-8)*I1)),-1)) -> 1300 | L24: =IF((X11)<=8,P1,P1+ROUND(INT(((X11-8)*I1)),-1)) -> 1300 | N24: =IF((X13)<=8,P1,P1+ROUND(INT(((X13-8)*I1)),-1)) -> 1300 | P24: =IF((X15)<=8,P1,P1+ROUND(INT(((X15-8)*I1)),-1)) -> 1300 | R24: =IF((X17)<=8,P1,P1+ROUND(INT(((X17-8)*I1)),-1)) -> 1300 | T24: =IF((X19)<=8,P1,P1+ROUND(INT(((X19-8)*I1)),-1)) -> 1300 | V24: =IF((X21)<=8,P1,P1+ROUND(INT(((X21-8)*I1)),-1)) -> 1300
C25: =MROUND(ROUNDDOWN(B26*0.8,-1),50) -> 1050 | E25: =C25-$S$1 -> 0 | G25: =ROUND(F26*0.8,-1) -> 1040 | I25: =MROUND(ROUNDDOWN(H26*0.8,-1),50) -> 1050 | K25: =ROUND(J26*0.8,-1) -> 1040 | M25: =ROUND(L26*0.8,-1) -> 1040 | O25: =ROUND(N26*0.8,-1) -> 1040 | Q25: =ROUND(P26*0.8,-1) -> 1040 | S25: =ROUND(R26*0.8,-1) -> 1040 | U25: =ROUND(T26*0.8,-1) -> 1040 | W25: =ROUND(V26*0.8,-1) -> 1040 | Y25: =ROUND(X26*0.8,-1) -> 1040 | Z25: 신기 | AD25: =AB25+AD27 -> 0 | AF25: =AD25+AF29 -> 0 | AH25: =AF25+AH31 -> 0 | AJ25: =AH25+AJ33 -> 0 | AL25: =AJ25+AL35 -> 0 | AN25: =AL25+AN37 -> 0 | AP25: =AN25+AP39 -> 0
B26: =$P$1+MROUND(ROUNDDOWN(Z4*$I$1,-1),50) -> 1300 | D26: =B26-$P$1 -> 0 | F26: =IF((Z5)<=8,P1,P1+ROUND(INT(((Z5-8)*I1)),-1)) -> 1300 | H26: =IF((Z7)<=$X$1,$P$1,$P$1+MROUND(ROUNDDOWN((Z7-$X$1)*$I$1,-1),50)) -> 1300 | J26: =IF((Z9)<=8,P1,P1+ROUND(INT(((Z9-8)*I1)),-1)) -> 1300 | L26: =IF((Z11)<=8,P1,P1+ROUND(INT(((Z11-8)*I1)),-1)) -> 1300 | N26: =IF((Z13)<=8,P1,P1+ROUND(INT(((Z13-8)*I1)),-1)) -> 1300 | P26: =IF((Z15)<=8,P1,P1+ROUND(INT(((Z15-8)*I1)),-1)) -> 1300 | R26: =IF((Z17)<=8,P1,P1+ROUND(INT(((Z17-8)*I1)),-1)) -> 1300 | T26: =IF((Z19)<=8,P1,P1+ROUND(INT(((Z19-8)*I1)),-1)) -> 1300 | V26: =IF((Z21)<=8,P1,P1+ROUND(INT(((Z21-8)*I1)),-1)) -> 1300 | X26: =IF((Z23)<=8,P1,P1+ROUND(INT(((Z23-8)*I1)),-1)) -> 1300
C27: =MROUND(ROUNDDOWN(B28*0.8,-1),50) -> 1050 | E27: =C27-$S$1 -> 0 | G27: =ROUND(F28*0.8,-1) -> 1040 | I27: =ROUND(H28*0.8,-1) -> 1040 | K27: =ROUND(J28*0.8,-1) -> 1040 | M27: =ROUND(L28*0.8,-1) -> 1040 | O27: =ROUND(N28*0.8,-1) -> 1040 | Q27: =ROUND(P28*0.8,-1) -> 1040 | S27: =ROUND(R28*0.8,-1) -> 1040 | U27: =ROUND(T28*0.8,-1) -> 1040 | W27: =ROUND(V28*0.8,-1) -> 1040 | Y27: =ROUND(X28*0.8,-1) -> 1040 | AA27: =ROUND(Z28*0.8,-1) -> 1040 | AB27: 어우리 | AF27: =AD27+AF29 -> 0 | AH27: =AF27+AH31 -> 0 | AJ27: =AH27+AJ33 -> 0 | AL27: =AJ27+AL35 -> 0 | AN27: =AL27+AN37 -> 0 | AP27: =AN27+AP39 -> 0
B28: =$P$1+MROUND(ROUNDDOWN(AB4*$I$1,-1),50) -> 1300 | D28: =B28-$P$1 -> 0 | F28: =IF((AB5)<=8,P1,P1+ROUND(INT(((AB5-8)*I1)),-1)) -> 1300 | H28: =IF((AB7)<=8,P1,P1+ROUND(INT(((AB7-8)*I1)),-1)) -> 1300 | J28: =IF((AB9)<=8,P1,P1+ROUND(INT(((AB9-8)*I1)),-1)) -> 1300 | L28: =IF((AB11)<=8,P1,P1+ROUND(INT(((AB11-8)*I1)),-1)) -> 1300 | N28: =IF((AB13)<=8,P1,P1+ROUND(INT(((AB13-8)*I1)),-1)) -> 1300 | P28: =IF((AB15)<=8,P1,P1+ROUND(INT(((AB15-8)*I1)),-1)) -> 1300 | R28: =IF((AB17)<=8,P1,P1+ROUND(INT(((AB17-8)*I1)),-1)) -> 1300 | T28: =IF((AB19)<=8,P1,P1+ROUND(INT(((AB19-8)*I1)),-1)) -> 1300 | V28: =IF((AB21)<=8,P1,P1+ROUND(INT(((AB21-8)*I1)),-1)) -> 1300 | X28: =IF((AB23)<=8,P1,P1+ROUND(INT(((AB23-8)*I1)),-1)) -> 1300 | Z28: =IF((AB25)<=8,P1,P1+ROUND(INT(((AB25-8)*I1)),-1)) -> 1300
C29: =MROUND(ROUNDDOWN(B30*0.8,-1),50) -> 1050 | E29: =C29-$S$1 -> 0 | G29: =ROUND(F30*0.8,-1) -> 1040 | I29: =ROUND(H30*0.8,-1) -> 1040 | K29: =ROUND(J30*0.8,-1) -> 1040 | M29: =ROUND(L30*0.8,-1) -> 1040 | O29: =ROUND(N30*0.8,-1) -> 1040 | Q29: =ROUND(P30*0.8,-1) -> 1040 | S29: =ROUND(R30*0.8,-1) -> 1040 | U29: =ROUND(T30*0.8,-1) -> 1040 | W29: =ROUND(V30*0.8,-1) -> 1040 | Y29: =ROUND(X30*0.8,-1) -> 1040 | AA29: =ROUND(Z30*0.8,-1) -> 1040 | AC29: =ROUND(AB30*0.8,-1) -> 1040 | AD29: 봉상 | AH29: =AF29+AH31 -> 0 | AJ29: =AH29+AJ33 -> 0 | AL29: =AJ29+AL35 -> 0 | AN29: =AL29+AN37 -> 0 | AP29: =AN29+AP39 -> 0
B30: =$P$1+MROUND(ROUNDDOWN(AD4*$I$1,-1),50) -> 1300 | D30: =B30-$P$1 -> 0 | F30: =IF((AD5)<=8,P1,P1+ROUND(INT(((AD5-8)*I1)),-1)) -> 1300 | H30: =IF((AD7)<=8,P1,P1+ROUND(INT(((AD7-8)*I1)),-1)) -> 1300 | J30: =IF((AD9)<=8,P1,P1+ROUND(INT(((AD9-8)*I1)),-1)) -> 1300 | L30: =IF((AD11)<=8,P1,P1+ROUND(INT(((AD11-8)*I1)),-1)) -> 1300 | N30: =IF((AD13)<=8,P1,P1+ROUND(INT(((AD13-8)*I1)),-1)) -> 1300 | P30: =IF((AD15)<=8,P1,P1+ROUND(INT(((AD15-8)*I1)),-1)) -> 1300 | R30: =IF((AD17)<=8,P1,P1+ROUND(INT(((AD17-8)*I1)),-1)) -> 1300 | T30: =IF((AD19)<=8,P1,P1+ROUND(INT(((AD19-8)*I1)),-1)) -> 1300 | V30: =IF((AD21)<=8,P1,P1+ROUND(INT(((AD21-8)*I1)),-1)) -> 1300 | X30: =IF((AD23)<=8,P1,P1+ROUND(INT(((AD23-8)*I1)),-1)) -> 1300 | Z30: =IF((AD25)<=8,P1,P1+ROUND(INT(((AD25-8)*I1)),-1)) -> 1300 | AB30: =IF((AD27)<=8,P1,P1+ROUND(INT(((AD27-8)*I1)),-1)) -> 1300
A31: =AF31 -> 죽산 | C31: =MROUND(ROUNDDOWN(B32*0.8,-1),50) -> 1050 | E31: =C31-$S$1 -> 0 | G31: =ROUND(F32*0.8,-1) -> 1040 | I31: =ROUND(H32*0.8,-1) -> 1040 | K31: =ROUND(J32*0.8,-1) -> 1040 | M31: =ROUND(L32*0.8,-1) -> 1040 | O31: =ROUND(N32*0.8,-1) -> 1040 | Q31: =ROUND(P32*0.8,-1) -> 1040 | S31: =ROUND(R32*0.8,-1) -> 1040 | U31: =ROUND(T32*0.8,-1) -> 1040 | W31: =ROUND(V32*0.8,-1) -> 1040 | Y31: =ROUND(X32*0.8,-1) -> 1040 | AA31: =ROUND(Z32*0.8,-1) -> 1040 | AC31: =ROUND(AB32*0.8,-1) -> 1040 | AE31: =ROUND(AD32*0.8,-1) -> 1040 | AF31: 죽산 | AJ31: =AH31+AJ33 -> 0 | AL31: =AJ31+AL35 -> 0 | AN31: =AL31+AN37 -> 0 | AP31: =AN31+AP39 -> 0
B32: =$P$1+MROUND(ROUNDDOWN(AF4*$I$1,-1),50) -> 1300 | D32: =B32-$P$1 -> 0 | F32: =IF((AF5)<=8,P1,P1+ROUND(INT(((AF5-8)*I1)),-1)) -> 1300 | H32: =IF((AF7)<=8,P1,P1+ROUND(INT(((AF7-8)*I1)),-1)) -> 1300 | J32: =IF((AF9)<=8,P1,P1+ROUND(INT(((AF9-8)*I1)),-1)) -> 1300 | L32: =IF((AF11)<=8,P1,P1+ROUND(INT(((AF11-8)*I1)),-1)) -> 1300 | N32: =IF((AF13)<=8,P1,P1+ROUND(INT(((AF13-8)*I1)),-1)) -> 1300 | P32: =IF((AF15)<=8,P1,P1+ROUND(INT(((AF15-8)*I1)),-1)) -> 1300 | R32: =IF((AF17)<=8,P1,P1+ROUND(INT(((AF17-8)*I1)),-1)) -> 1300 | T32: =IF((AF19)<=8,P1,P1+ROUND(INT(((AF19-8)*I1)),-1)) -> 1300 | V32: =IF((AF21)<=8,P1,P1+ROUND(INT(((AF21-8)*I1)),-1)) -> 1300 | X32: =IF((AF23)<=8,P1,P1+ROUND(INT(((AF23-8)*I1)),-1)) -> 1300 | Z32: =IF((AF25)<=8,P1,P1+ROUND(INT(((AF25-8)*I1)),-1)) -> 1300 | AB32: =IF((AF27)<=8,P1,P1+ROUND(INT(((AF27-8)*I1)),-1)) -> 1300 | AD32: =IF((AF29)<=8,P1,P1+ROUND(INT(((AF29-8)*I1)),-1)) -> 1300
A33: =AH33 -> 용동 | C33: =MROUND(ROUNDDOWN(B34*0.8,-1),50) -> 1050 | E33: =C33-$S$1 -> 0 | G33: =ROUND(F34*0.8,-1) -> 1040 | I33: =ROUND(H34*0.8,-1) -> 1040 | K33: =ROUND(J34*0.8,-1) -> 1040 | M33: =ROUND(L34*0.8,-1) -> 1040 | O33: =ROUND(N34*0.8,-1) -> 1040 | Q33: =ROUND(P34*0.8,-1) -> 1040 | S33: =ROUND(R34*0.8,-1) -> 1040 | U33: =ROUND(T34*0.8,-1) -> 1040 | W33: =ROUND(V34*0.8,-1) -> 1040 | Y33: =ROUND(X34*0.8,-1) -> 1040 | AA33: =ROUND(Z34*0.8,-1) -> 1040 | AC33: =ROUND(AB34*0.8,-1) -> 1040 | AE33: =ROUND(AD34*0.8,-1) -> 1040 | AG33: =ROUND(AF34*0.8,-1) -> 1040 | AH33: 용동 | AL33: =AJ33+AL35 -> 0 | AN33: =AL33+AN37 -> 0 | AP33: =AN33+AP39 -> 0
B34: =$P$1+MROUND(ROUNDDOWN(AH4*$I$1,-1),50) -> 1300 | D34: =B34-$P$1 -> 0 | F34: =IF((AH5)<=8,P1,P1+ROUND(INT(((AH5-8)*I1)),-1)) -> 1300 | H34: =IF((AH7)<=8,P1,P1+ROUND(INT(((AH7-8)*I1)),-1)) -> 1300 | J34: =IF((AH9)<=8,P1,P1+ROUND(INT(((AH9-8)*I1)),-1)) -> 1300 | L34: =IF((AH11)<=8,P1,P1+ROUND(INT(((AH11-8)*I1)),-1)) -> 1300 | N34: =IF((AH13)<=8,P1,P1+ROUND(INT(((AH13-8)*I1)),-1)) -> 1300 | P34: =IF((AH15)<=8,P1,P1+ROUND(INT(((AH15-8)*I1)),-1)) -> 1300 | R34: =IF((AH17)<=8,P1,P1+ROUND(INT(((AH17-8)*I1)),-1)) -> 1300 | T34: =IF((AH19)<=8,P1,P1+ROUND(INT(((AH19-8)*I1)),-1)) -> 1300 | V34: =IF((AH21)<=8,P1,P1+ROUND(INT(((AH21-8)*I1)),-1)) -> 1300 | X34: =IF((AH23)<=8,P1,P1+ROUND(INT(((AH23-8)*I1)),-1)) -> 1300 | Z34: =IF((AH25)<=8,P1,P1+ROUND(INT(((AH25-8)*I1)),-1)) -> 1300 | AB34: =IF((AH27)<=8,P1,P1+ROUND(INT(((AH27-8)*I1)),-1)) -> 1300 | AD34: =IF((AH29)<=8,P1,P1+ROUND(INT(((AH29-8)*I1)),-1)) -> 1300 | AF34: =IF((AH31)<=8,P1,P1+ROUND(INT(((AH31-8)*I1)),-1)) -> 1300
A35: =AJ35 -> 탄광 | C35: =MROUND(ROUNDDOWN(B36*0.8,-1),50) -> 1050 | E35: =C35-$S$1 -> 0 | G35: =ROUND(F36*0.8,-1) -> 1040 | I35: =ROUND(H36*0.8,-1) -> 1040 | K35: =ROUND(J36*0.8,-1) -> 1040 | M35: =ROUND(L36*0.8,-1) -> 1040 | O35: =ROUND(N36*0.8,-1) -> 1040 | Q35: =ROUND(P36*0.8,-1) -> 1040 | S35: =ROUND(R36*0.8,-1) -> 1040 | U35: =ROUND(T36*0.8,-1) -> 1040 | W35: =ROUND(V36*0.8,-1) -> 1040 | Y35: =ROUND(X36*0.8,-1) -> 1040 | AA35: =ROUND(Z36*0.8,-1) -> 1040 | AC35: =ROUND(AB36*0.8,-1) -> 1040 | AE35: =ROUND(AD36*0.8,-1) -> 1040 | AG35: =ROUND(AF36*0.8,-1) -> 1040 | AI35: =ROUND(AH36*0.8,-1) -> 1040 | AJ35: 탄광 | AN35: =AL35+AN37 -> 0 | AP35: =AN35+AP39 -> 0
B36: =$P$1+MROUND(ROUNDDOWN(AJ4*$I$1,-1),50) -> 1300 | D36: =B36-$P$1 -> 0 | F36: =IF((AJ5)<=8,P1,P1+ROUND(INT(((AJ5-8)*I1)),-1)) -> 1300 | H36: =IF((AJ7)<=8,P1,P1+ROUND(INT(((AJ7-8)*I1)),-1)) -> 1300 | J36: =IF((AJ9)<=8,P1,P1+ROUND(INT(((AJ9-8)*I1)),-1)) -> 1300 | L36: =IF((AJ11)<=8,P1,P1+ROUND(INT(((AJ11-8)*I1)),-1)) -> 1300 | N36: =IF((AJ13)<=8,P1,P1+ROUND(INT(((AJ13-8)*I1)),-1)) -> 1300 | P36: =IF((AJ15)<=8,P1,P1+ROUND(INT(((AJ15-8)*I1)),-1)) -> 1300 | R36: =IF((AJ17)<=8,P1,P1+ROUND(INT(((AJ17-8)*I1)),-1)) -> 1300 | T36: =IF((AJ19)<=8,P1,P1+ROUND(INT(((AJ19-8)*I1)),-1)) -> 1300 | V36: =IF((AJ21)<=8,P1,P1+ROUND(INT(((AJ21-8)*I1)),-1)) -> 1300 | X36: =IF((AJ23)<=8,P1,P1+ROUND(INT(((AJ23-8)*I1)),-1)) -> 1300 | Z36: =IF((AJ25)<=8,P1,P1+ROUND(INT(((AJ25-8)*I1)),-1)) -> 1300 | AB36: =IF((AJ27)<=8,P1,P1+ROUND(INT(((AJ27-8)*I1)),-1)) -> 1300 | AD36: =IF((AJ29)<=8,P1,P1+ROUND(INT(((AJ29-8)*I1)),-1)) -> 1300 | AF36: =IF((AJ31)<=8,P1,P1+ROUND(INT(((AJ31-8)*I1)),-1)) -> 1300 | AH36: =IF((AJ33)<=8,P1,P1+ROUND(INT(((AJ33-8)*I1)),-1)) -> 1300
A37: =AL37 -> 문창 | C37: =MROUND(ROUNDDOWN(B38*0.8,-1),50) -> 1050 | E37: =C37-$S$1 -> 0 | G37: =ROUND(F38*0.8,-1) -> 1040 | I37: =ROUND(H38*0.8,-1) -> 1040 | K37: =ROUND(J38*0.8,-1) -> 1040 | M37: =ROUND(L38*0.8,-1) -> 1040 | O37: =ROUND(N38*0.8,-1) -> 1040 | Q37: =ROUND(P38*0.8,-1) -> 1040 | S37: =ROUND(R38*0.8,-1) -> 1040 | U37: =ROUND(T38*0.8,-1) -> 1040 | W37: =ROUND(V38*0.8,-1) -> 1040 | Y37: =ROUND(X38*0.8,-1) -> 1040 | AA37: =ROUND(Z38*0.8,-1) -> 1040 | AC37: =ROUND(AB38*0.8,-1) -> 1040 | AE37: =ROUND(AD38*0.8,-1) -> 1040 | AG37: =ROUND(AF38*0.8,-1) -> 1040 | AI37: =ROUND(AH38*0.8,-1) -> 1040 | AK37: =ROUND(AJ38*0.8,-1) -> 1040 | AL37: 문창 | AP37: =AN37+AP39 -> 0
B38: =$P$1+MROUND(ROUNDDOWN(AL4*$I$1,-1),50) -> 1300 | D38: =B38-$P$1 -> 0 | F38: =IF((AL5)<=8,P1,P1+ROUND(INT(((AL5-8)*I1)),-1)) -> 1300 | H38: =IF((AL7)<=8,P1,P1+ROUND(INT(((AL7-8)*I1)),-1)) -> 1300 | J38: =IF((AL9)<=8,P1,P1+ROUND(INT(((AL9-8)*I1)),-1)) -> 1300 | L38: =IF((AL11)<=8,P1,P1+ROUND(INT(((AL11-8)*I1)),-1)) -> 1300 | N38: =IF((AL13)<=8,P1,P1+ROUND(INT(((AL13-8)*I1)),-1)) -> 1300 | P38: =IF((AL15)<=8,P1,P1+ROUND(INT(((AL15-8)*I1)),-1)) -> 1300 | R38: =IF((AL17)<=8,P1,P1+ROUND(INT(((AL17-8)*I1)),-1)) -> 1300 | T38: =IF((AL19)<=8,P1,P1+ROUND(INT(((AL19-8)*I1)),-1)) -> 1300 | V38: =IF((AL21)<=8,P1,P1+ROUND(INT(((AL21-8)*I1)),-1)) -> 1300 | X38: =IF((AL23)<=8,P1,P1+ROUND(INT(((AL23-8)*I1)),-1)) -> 1300 | Z38: =IF((AL25)<=8,P1,P1+ROUND(INT(((AL25-8)*I1)),-1)) -> 1300 | AB38: =IF((AL27)<=8,P1,P1+ROUND(INT(((AL27-8)*I1)),-1)) -> 1300 | AD38: =IF((AL29)<=8,P1,P1+ROUND(INT(((AL29-8)*I1)),-1)) -> 1300 | AF38: =IF((AL31)<=8,P1,P1+ROUND(INT(((AL31-8)*I1)),-1)) -> 1300 | AH38: =IF((AL33)<=8,P1,P1+ROUND(INT(((AL33-8)*I1)),-1)) -> 1300 | AJ38: =IF((AL35)<=8,P1,P1+ROUND(INT(((AL35-8)*I1)),-1)) -> 1300
A39: =AN39 -> 비봉 | C39: =MROUND(ROUNDDOWN(B40*0.8,-1),50) -> 1050 | E39: =C39-$S$1 -> 0 | G39: =ROUND(F40*0.8,-1) -> 1040 | I39: =ROUND(H40*0.8,-1) -> 1040 | K39: =ROUND(J40*0.8,-1) -> 1040 | M39: =ROUND(L40*0.8,-1) -> 1040 | O39: =ROUND(N40*0.8,-1) -> 1040 | Q39: =ROUND(P40*0.8,-1) -> 1040 | S39: =ROUND(R40*0.8,-1) -> 1040 | U39: =ROUND(T40*0.8,-1) -> 1040 | W39: =ROUND(V40*0.8,-1) -> 1040 | Y39: =ROUND(X40*0.8,-1) -> 1040 | AA39: =ROUND(Z40*0.8,-1) -> 1040 | AC39: =ROUND(AB40*0.8,-1) -> 1040 | AE39: =ROUND(AD40*0.8,-1) -> 1040 | AG39: =ROUND(AF40*0.8,-1) -> 1040 | AI39: =ROUND(AH40*0.8,-1) -> 1040 | AK39: =ROUND(AJ40*0.8,-1) -> 1040 | AM39: =ROUND(AL40*0.8,-1) -> 1040 | AN39: 비봉
